BEGIN:VCALENDAR
VERSION:2.0
PRODID:-//Burnaby International Folk Dancers - ECPv6.15.20//NONSGML v1.0//EN
CALSCALE:GREGORIAN
METHOD:PUBLISH
X-ORIGINAL-URL:https://burnabyfolkdance.org
X-WR-CALDESC:Events for Burnaby International Folk Dancers
REFRESH-INTERVAL;VALUE=DURATION:PT1H
X-Robots-Tag:noindex
X-PUBLISHED-TTL:PT1H
BEGIN:VTIMEZONE
TZID:America/Vancouver
BEGIN:DAYLIGHT
TZOFFSETFROM:-0800
TZOFFSETTO:-0700
TZNAME:PDT
DTSTART:20240310T100000
END:DAYLIGHT
BEGIN:STANDARD
TZOFFSETFROM:-0700
TZOFFSETTO:-0800
TZNAME:PST
DTSTART:20241103T090000
END:STANDARD
BEGIN:DAYLIGHT
TZOFFSETFROM:-0800
TZOFFSETTO:-0700
TZNAME:PDT
DTSTART:20250309T100000
END:DAYLIGHT
BEGIN:STANDARD
TZOFFSETFROM:-0700
TZOFFSETTO:-0800
TZNAME:PST
DTSTART:20251102T090000
END:STANDARD
BEGIN:DAYLIGHT
TZOFFSETFROM:-0800
TZOFFSETTO:-0700
TZNAME:PDT
DTSTART:20260308T100000
END:DAYLIGHT
BEGIN:STANDARD
TZOFFSETFROM:-0700
TZOFFSETTO:-0800
TZNAME:PST
DTSTART:20261101T090000
END:STANDARD
END:VTIMEZONE
BEGIN:VEVENT
DTSTART;TZID=America/Vancouver:20251007T184500
DTEND;TZID=America/Vancouver:20251007T210000
DTSTAMP:20260425T123517
CREATED:20251006T232019Z
LAST-MODIFIED:20251006T232147Z
UID:3044-1759862700-1759870800@burnabyfolkdance.org
SUMMARY:Come dance with us Tuesday evenings!
DESCRIPTION:Come dance with us Tuesday evenings at Charles Rummel Centre in Burnaby from 7:00 pm – 9:00 pm. Everyone is welcome to come and have fun learning folk dances set to ethnic music from cultures around the world. We offer both engaging and interactive\, family-friendly dances that are enjoyable\, accessible and fun for all ages and levels. Doors open at 6:45 to get ready for the warm-up dances starting at 7:00. Drop-in is $7. First time is FREE. No partner or costume required. Please bring your own water bottle. \nHappy dancing! For more information and to receive our reminder emails and announcements contact us at bifd@burnabyfolkdance.org. 
URL:https://burnabyfolkdance.org/event/3044/
LOCATION:Charles Rummel Community Centre\, 3630 Lozells Ave\, Burnaby\, BC\, V5A 2Y8\, Canada
CATEGORIES:Audience participation,Teaching,Weekly Dancing
ORGANIZER;CN="Burnaby International Folk Dancers Club":MAILTO:bifd@burnabyfolkdance.org
END:VEVENT
BEGIN:VEVENT
DTSTART;TZID=America/Vancouver:20251008T124500
DTEND;TZID=America/Vancouver:20251008T150000
DTSTAMP:20260425T123517
CREATED:20251006T231728Z
LAST-MODIFIED:20251006T231752Z
UID:3041-1759927500-1759935600@burnabyfolkdance.org
SUMMARY:Burnaby(IFD) Balkan and International folk dance Wednesday Zoom group
DESCRIPTION:Come join us for this FREE weekly Balkan and International folk dance Wednesday Zoom group.  We are open to all who are interested in joining us!  Weekly Wednesday dance sessions from 1:00 pm – 3:00 pm (Pacific Time). Chat time is a 12:45 pm. \nOur monthly parties are the last Wednesday of every month from 1:00 pm – 3:00 pm (Pacific Time). All party dances are led by one of our team members and there is no teaching. \nPlease feel free to stay logged in after the dance program for our friendly meet and greet social time. \nTo join our Zoom session\, click the link below: \nhttps://zoom.us/j/99504932576\nID: 995 0493 2576\nPasscode: Bifd  (Upper case ‘B’ followed by lower case ‘ifd \nHappy dancing! For more information and to receive weekly emails with our programs and announcements contact us at bifd@burnabyfolkdance.org.
URL:https://burnabyfolkdance.org/event/burnabyifd/
LOCATION:Online
CATEGORIES:Audience participation,online weekly dancing,Teaching
ORGANIZER;CN="Burnaby International Folk Dancers Club":MAILTO:bifd@burnabyfolkdance.org
END:VEVENT
BEGIN:VEVENT
DTSTART;TZID=America/Vancouver:20251014T184500
DTEND;TZID=America/Vancouver:20251014T211500
DTSTAMP:20260425T123517
CREATED:20251013T234913Z
LAST-MODIFIED:20251013T234934Z
UID:3050-1760467500-1760476500@burnabyfolkdance.org
SUMMARY:Come dance with us Tuesday evenings!
DESCRIPTION:Come dance with us Tuesday evenings at Charles Rummel Centre in Burnaby from 7:00 pm – 9:00 pm. Everyone is welcome to come and have fun learning folk dances set to ethnic music from cultures around the world. We offer both engaging and interactive\, family-friendly dances that are enjoyable\, accessible and fun for all ages and levels. Doors open at 6:45 to get ready for the warm-up dances starting at 7:00. Drop-in is $7. First time is FREE. No partner or costume required. Please bring your own water bottle. \nHappy dancing! For more information and to receive our reminder emails and announcements contact us at bifd@burnabyfolkdance.org. 
URL:https://burnabyfolkdance.org/event/come/
LOCATION:Charles Rummel Community Centre\, 3630 Lozells Ave\, Burnaby\, BC\, V5A 2Y8\, Canada
CATEGORIES:Audience participation,Teaching,Weekly Dancing
ORGANIZER;CN="Burnaby International Folk Dancers Club":MAILTO:bifd@burnabyfolkdance.org
END:VEVENT
BEGIN:VEVENT
DTSTART;TZID=America/Vancouver:20251021T184500
DTEND;TZID=America/Vancouver:20251021T211500
DTSTAMP:20260425T123517
CREATED:20251020T183830Z
LAST-MODIFIED:20251020T183830Z
UID:3056-1761072300-1761081300@burnabyfolkdance.org
SUMMARY:Come dance with us Tuesday evenings!
DESCRIPTION:Come dance with us Tuesday evenings at Charles Rummel Centre in Burnaby from 7:00 pm – 9:00 pm. Everyone is welcome to come and have fun learning folk dances set to ethnic music from cultures around the world. We offer both engaging and interactive\, family-friendly dances that are enjoyable\, accessible and fun for all ages and levels. Doors open at 6:45 to get ready for the warm-up dances starting at 7:00. Drop-in is $7. First time is FREE. No partner or costume required. Please bring your own water bottle. \nHappy dancing! For more information and to receive our reminder emails and announcements contact us at bifd@burnabyfolkdance.org. 
URL:https://burnabyfolkdance.org/event/come-dance-with-us-tuesday-evenings-24/
LOCATION:Charles Rummel Community Centre\, 3630 Lozells Ave\, Burnaby\, BC\, V5A 2Y8\, Canada
CATEGORIES:Audience participation,Teaching,Weekly Dancing
ORGANIZER;CN="Burnaby International Folk Dancers Club":MAILTO:bifd@burnabyfolkdance.org
END:VEVENT
BEGIN:VEVENT
DTSTART;TZID=America/Vancouver:20251022T124500
DTEND;TZID=America/Vancouver:20251022T150000
DTSTAMP:20260425T123517
CREATED:20251020T184021Z
LAST-MODIFIED:20251020T184021Z
UID:3058-1761137100-1761145200@burnabyfolkdance.org
SUMMARY:Burnaby(IFD) Balkan and International folk dance Wednesday Zoom group
DESCRIPTION:Come join us for this FREE weekly Balkan and International folk dance Wednesday Zoom group.  We are open to all who are interested in joining us!  Weekly Wednesday dance sessions from 1:00 pm – 3:00 pm (Pacific Time). Chat time is a 12:45 pm. \nOur monthly parties are the last Wednesday of every month from 1:00 pm – 3:00 pm (Pacific Time). All party dances are led by one of our team members and there is no teaching. \nPlease feel free to stay logged in after the dance program for our friendly meet and greet social time. \nTo join our Zoom session\, click the link below: \nhttps://zoom.us/j/99504932576\nID: 995 0493 2576\nPasscode: Bifd  (Upper case ‘B’ followed by lower case ‘ifd \nHappy dancing! For more information and to receive weekly emails with our programs and announcements contact us at bifd@burnabyfolkdance.org.
URL:https://burnabyfolkdance.org/event/burnabyifd-balkan-and-international-folk-dance-wednesday-zoom-group-21/
LOCATION:Online
CATEGORIES:Audience participation,online weekly dancing,Teaching
ORGANIZER;CN="Burnaby International Folk Dancers Club":MAILTO:bifd@burnabyfolkdance.org
END:VEVENT
BEGIN:VEVENT
DTSTART;TZID=America/Vancouver:20251028T184500
DTEND;TZID=America/Vancouver:20251028T211500
DTSTAMP:20260425T123517
CREATED:20251028T044945Z
LAST-MODIFIED:20251028T045433Z
UID:3064-1761677100-1761686100@burnabyfolkdance.org
SUMMARY:Halloween party Tuesday evening
DESCRIPTION:On October 28th we’re having a Halloween party. Everyone’s welcome to join us as we have a fun program for you all to enjoy. Wear a costume (or not) or perhaps a costume piece. Bring a treat to share. Arrive early to say hi to everyone\, as doors open at 6:45 pm and dancing starts at 7:00 pm. First time is free and drop in is $7. We dance at Charles Rummel Centre in Burnaby.  \nHappy dancing! For more information and to receive our reminder emails and announcements contact us at bifd@burnabyfolkdance.org. Our website https://burnabyfolkdance.org. 
URL:https://burnabyfolkdance.org/event/halloween-party-this-tuesday-evening/
LOCATION:Charles Rummel Community Centre\, 3630 Lozells Ave\, Burnaby\, BC\, V5A 2Y8\, Canada
CATEGORIES:Audience participation,Dance Party,Weekly Dancing
ORGANIZER;CN="Burnaby International Folk Dancers Club":MAILTO:bifd@burnabyfolkdance.org
END:VEVENT
BEGIN:VEVENT
DTSTART;TZID=America/Vancouver:20251029T124500
DTEND;TZID=America/Vancouver:20251029T150000
DTSTAMP:20260425T123517
CREATED:20251028T045328Z
LAST-MODIFIED:20251028T045328Z
UID:3067-1761741900-1761750000@burnabyfolkdance.org
SUMMARY:Halloween party Wednesday on Zoom
DESCRIPTION:October 29th we’re having a Halloween party on Zoom. Everyone’s welcome to join us as we have a fun program for you all to enjoy. For those interested\, feel free to decorate your dance room with a Halloween theme/and or wear your favorite costume. Weekly dance sessions from 1:00 pm – 3:00 pm (Pacific Time). Chat time is a 12:45 pm. All party dances are led by one of our team members and there is no teaching. Feel free to attend anytime at no charge.  \nUse this link and password to join our Zoom session: \nhttps://zoom.us/j/99504932576 \nID: 995 0493 2576 \nPasscode: Bifd (Upper case B followed by lower case ifd) \n\nFor more information and to receive weekly emails with our programs and announcements contact us at bifd@burnabyfolkdance.org. Our website: https://burnabyfolkdance.org. 
URL:https://burnabyfolkdance.org/event/halloween-party-wednesday-on-zoom/
LOCATION:Online
CATEGORIES:Audience participation,Online dance party,online weekly dancing
ORGANIZER;CN="Burnaby International Folk Dancers Club":MAILTO:bifd@burnabyfolkdance.org
END:VEVENT
END:VCALENDAR