BEGIN:VCALENDAR
VERSION:2.0
PRODID:-//Burnaby International Folk Dancers - ECPv6.15.20//NONSGML v1.0//EN
CALSCALE:GREGORIAN
METHOD:PUBLISH
X-WR-CALNAME:Burnaby International Folk Dancers
X-ORIGINAL-URL:https://burnabyfolkdance.org
X-WR-CALDESC:Events for Burnaby International Folk Dancers
REFRESH-INTERVAL;VALUE=DURATION:PT1H
X-Robots-Tag:noindex
X-PUBLISHED-TTL:PT1H
BEGIN:VTIMEZONE
TZID:America/Vancouver
BEGIN:DAYLIGHT
TZOFFSETFROM:-0800
TZOFFSETTO:-0700
TZNAME:PDT
DTSTART:20240310T100000
END:DAYLIGHT
BEGIN:STANDARD
TZOFFSETFROM:-0700
TZOFFSETTO:-0800
TZNAME:PST
DTSTART:20241103T090000
END:STANDARD
BEGIN:DAYLIGHT
TZOFFSETFROM:-0800
TZOFFSETTO:-0700
TZNAME:PDT
DTSTART:20250309T100000
END:DAYLIGHT
BEGIN:STANDARD
TZOFFSETFROM:-0700
TZOFFSETTO:-0800
TZNAME:PST
DTSTART:20251102T090000
END:STANDARD
BEGIN:DAYLIGHT
TZOFFSETFROM:-0800
TZOFFSETTO:-0700
TZNAME:PDT
DTSTART:20260308T100000
END:DAYLIGHT
BEGIN:STANDARD
TZOFFSETFROM:-0700
TZOFFSETTO:-0800
TZNAME:PST
DTSTART:20261101T090000
END:STANDARD
END:VTIMEZONE
BEGIN:VEVENT
DTSTART;TZID=America/Vancouver:20251231T124500
DTEND;TZID=America/Vancouver:20251231T150000
DTSTAMP:20260425T094133
CREATED:20251223T055801Z
LAST-MODIFIED:20251230T061925Z
UID:3140-1767185100-1767193200@burnabyfolkdance.org
SUMMARY:Burnaby(IFD) Balkan and International folk dance New Year's Eve Zoom party
DESCRIPTION:Join us on New Year’s Eve for our last Zoom program of 2025. We are open to all who are interested in joining us and it’s free!  We dance from 1:00 pm – 3:00 pm (Pacific Time). Chat time is a 12:45 pm. \nAll party dances are led by one of our team members and there is no teaching. Please feel free to stay logged in after the dance program for our friendly meet and greet social time. \nTo join our Zoom session\, click the link below: \nhttps://zoom.us/j/99504932576\nID: 995 0493 2576\nPasscode: Bifd  (Upper case ‘B’ followed by lower case ‘ifd \nHappy dancing! For more information and to receive our reminder emails and announcements contact us at bifd@burnabyfolkdance.org. Our website https://burnabyfolkdance.org. 
URL:https://burnabyfolkdance.org/event/burnabyifd-balkan-and-international-folk-dance-new-years-eve-zoom-party/
LOCATION:Online
CATEGORIES:Audience participation,Online dance party,online weekly dancing
ORGANIZER;CN="Burnaby International Folk Dancers Club":MAILTO:bifd@burnabyfolkdance.org
END:VEVENT
END:VCALENDAR