BEGIN:VCALENDAR
VERSION:2.0
PRODID:-//Burnaby International Folk Dancers - ECPv6.15.20//NONSGML v1.0//EN
CALSCALE:GREGORIAN
METHOD:PUBLISH
X-WR-CALNAME:Burnaby International Folk Dancers
X-ORIGINAL-URL:https://burnabyfolkdance.org
X-WR-CALDESC:Events for Burnaby International Folk Dancers
REFRESH-INTERVAL;VALUE=DURATION:PT1H
X-Robots-Tag:noindex
X-PUBLISHED-TTL:PT1H
BEGIN:VTIMEZONE
TZID:America/Vancouver
BEGIN:DAYLIGHT
TZOFFSETFROM:-0800
TZOFFSETTO:-0700
TZNAME:PDT
DTSTART:20170312T100000
END:DAYLIGHT
BEGIN:STANDARD
TZOFFSETFROM:-0700
TZOFFSETTO:-0800
TZNAME:PST
DTSTART:20171105T090000
END:STANDARD
BEGIN:DAYLIGHT
TZOFFSETFROM:-0800
TZOFFSETTO:-0700
TZNAME:PDT
DTSTART:20180311T100000
END:DAYLIGHT
BEGIN:STANDARD
TZOFFSETFROM:-0700
TZOFFSETTO:-0800
TZNAME:PST
DTSTART:20181104T090000
END:STANDARD
BEGIN:DAYLIGHT
TZOFFSETFROM:-0800
TZOFFSETTO:-0700
TZNAME:PDT
DTSTART:20190310T100000
END:DAYLIGHT
BEGIN:STANDARD
TZOFFSETFROM:-0700
TZOFFSETTO:-0800
TZNAME:PST
DTSTART:20191103T090000
END:STANDARD
BEGIN:DAYLIGHT
TZOFFSETFROM:-0800
TZOFFSETTO:-0700
TZNAME:PDT
DTSTART:20200308T100000
END:DAYLIGHT
BEGIN:STANDARD
TZOFFSETFROM:-0700
TZOFFSETTO:-0800
TZNAME:PST
DTSTART:20201101T090000
END:STANDARD
BEGIN:DAYLIGHT
TZOFFSETFROM:-0800
TZOFFSETTO:-0700
TZNAME:PDT
DTSTART:20210314T100000
END:DAYLIGHT
BEGIN:STANDARD
TZOFFSETFROM:-0700
TZOFFSETTO:-0800
TZNAME:PST
DTSTART:20211107T090000
END:STANDARD
BEGIN:DAYLIGHT
TZOFFSETFROM:-0800
TZOFFSETTO:-0700
TZNAME:PDT
DTSTART:20220313T100000
END:DAYLIGHT
BEGIN:STANDARD
TZOFFSETFROM:-0700
TZOFFSETTO:-0800
TZNAME:PST
DTSTART:20221106T090000
END:STANDARD
BEGIN:DAYLIGHT
TZOFFSETFROM:-0800
TZOFFSETTO:-0700
TZNAME:PDT
DTSTART:20230312T100000
END:DAYLIGHT
BEGIN:STANDARD
TZOFFSETFROM:-0700
TZOFFSETTO:-0800
TZNAME:PST
DTSTART:20231105T090000
END:STANDARD
BEGIN:DAYLIGHT
TZOFFSETFROM:-0800
TZOFFSETTO:-0700
TZNAME:PDT
DTSTART:20240310T100000
END:DAYLIGHT
BEGIN:STANDARD
TZOFFSETFROM:-0700
TZOFFSETTO:-0800
TZNAME:PST
DTSTART:20241103T090000
END:STANDARD
BEGIN:DAYLIGHT
TZOFFSETFROM:-0800
TZOFFSETTO:-0700
TZNAME:PDT
DTSTART:20250309T100000
END:DAYLIGHT
BEGIN:STANDARD
TZOFFSETFROM:-0700
TZOFFSETTO:-0800
TZNAME:PST
DTSTART:20251102T090000
END:STANDARD
BEGIN:DAYLIGHT
TZOFFSETFROM:-0800
TZOFFSETTO:-0700
TZNAME:PDT
DTSTART:20260308T100000
END:DAYLIGHT
BEGIN:STANDARD
TZOFFSETFROM:-0700
TZOFFSETTO:-0800
TZNAME:PST
DTSTART:20261101T090000
END:STANDARD
END:VTIMEZONE
BEGIN:VTIMEZONE
TZID:UTC
BEGIN:STANDARD
TZOFFSETFROM:+0000
TZOFFSETTO:+0000
TZNAME:UTC
DTSTART:20160101T000000
END:STANDARD
END:VTIMEZONE
BEGIN:VEVENT
DTSTART;TZID=America/Vancouver:20251219T184000
DTEND;TZID=America/Vancouver:20251219T194500
DTSTAMP:20260423T145609
CREATED:20251208T230534Z
LAST-MODIFIED:20251208T230632Z
UID:3118-1766169600-1766173500@burnabyfolkdance.org
SUMMARY:Burnaby(IFD) teaching at The University Neighbourhoods Association
DESCRIPTION:We’ve been invited again this year to teach at The University Neighborhoods’ Association Masquerade Dance Party. 
URL:https://burnabyfolkdance.org/event/burnabyifd-teaching-at-the-university-neighbourhoods-association/
LOCATION:Wesbrook Community Centre\, 3335 Webber Lane\, Vancouver\, BC\, V6S 0H3\, Canada
CATEGORIES:Audience participation,Community Event,Dance Party,Teaching
END:VEVENT
BEGIN:VEVENT
DTSTART;TZID=America/Vancouver:20250812T190000
DTEND;TZID=America/Vancouver:20250812T210000
DTSTAMP:20260423T145609
CREATED:20250812T154405Z
LAST-MODIFIED:20250812T154405Z
UID:2998-1755025200-1755032400@burnabyfolkdance.org
SUMMARY:Last evening of World Dance in the Park at Confederation Park
DESCRIPTION:Last evening of World Dance in the Park at Confederation Park at Cenotaph (located at north end of the park on axis with the adjacent sports oval) from 7-9 pm. We’re excited to have our house band\, the Pirates playing for us. We will do some warm-up dances and band starts playing at 7:00 pm. It’s free and all ages welcome. Most dances will be taught. Please bring a friend along as everyone is welcome. 
URL:https://burnabyfolkdance.org/event/last-evening-of-world-dance-in-the-park-at-confederation-park/
LOCATION:Confederation Park\, 250 Willingdon Avenue\, Burnaby\, BC\, V5C 5J9\, Canada
CATEGORIES:Community Event,Outdoor dancing,Teaching
ORGANIZER;CN="Burnaby International Folk Dancers Club":MAILTO:bifd@burnabyfolkdance.org
END:VEVENT
BEGIN:VEVENT
DTSTART;TZID=America/Vancouver:20250805T190000
DTEND;TZID=America/Vancouver:20250805T210000
DTSTAMP:20260423T145609
CREATED:20250805T225904Z
LAST-MODIFIED:20250806T011318Z
UID:2985-1754420400-1754427600@burnabyfolkdance.org
SUMMARY:Cancelled World Dance in the Park at Confederation Park Cenotaph in Burnaby
DESCRIPTION:Cancelled World Dance in the Park tonight (August 5th) due to predication of rain starting at 6 pm. See you next week\, our last Tuesday evening of summer dancing at Confederation Park Cenotaph (located at north end of the park on axis with the adjacent sports oval) from 7-9 pm. Our house band the pirates will be playing for us. It’s free. All ages welcome. Most dances will be taught. Please bring a friend along as everyone is welcome. 
URL:https://burnabyfolkdance.org/event/world-dance-in-the-park-at-confederation-park-cenotaph-in-burnaby/
LOCATION:Confederation Park\, 250 Willingdon Avenue\, Burnaby\, BC\, V5C 5J9\, Canada
CATEGORIES:Community Event,Outdoor dancing,Teaching
ORGANIZER;CN="Burnaby International Folk Dancers Club":MAILTO:bifd@burnabyfolkdance.org
END:VEVENT
BEGIN:VEVENT
DTSTART;TZID=America/Vancouver:20250729T190000
DTEND;TZID=America/Vancouver:20250729T210000
DTSTAMP:20260423T145609
CREATED:20250723T054011Z
LAST-MODIFIED:20250723T054011Z
UID:2973-1753815600-1753822800@burnabyfolkdance.org
SUMMARY:World Dance in the Park at Confederation Park in Burnaby
DESCRIPTION:World Dance in the Park at Confederation Park at Cenotaph (located at north end of the park on axis with the adjacent sports oval) from 7-9 pm for 4 nights (July 22\, 29\, August 5\, 12). It’s free. All ages welcome. Most dances will be taught. Please bring a friend along as everyone is welcome. 
URL:https://burnabyfolkdance.org/event/world-dance-in-the-park-at-confederation-park-in-burnaby/
LOCATION:Confederation Park\, 250 Willingdon Avenue\, Burnaby\, BC\, V5C 5J9\, Canada
CATEGORIES:Audience participation,Community Event,Outdoor dancing,Teaching
ORGANIZER;CN="Burnaby International Folk Dancers Club":MAILTO:bifd@burnabyfolkdance.org
END:VEVENT
BEGIN:VEVENT
DTSTART;TZID=America/Vancouver:20250722T190000
DTEND;TZID=America/Vancouver:20250722T210000
DTSTAMP:20260423T145609
CREATED:20250714T232150Z
LAST-MODIFIED:20250717T174928Z
UID:2932-1753210800-1753218000@burnabyfolkdance.org
SUMMARY:World Dance in the Park at Confederation Park in Burnaby
DESCRIPTION:World Dance in the Park at Confederation Park at Cenotaph (located at north end of the park on axis with the adjacent sports oval) from 7-9 pm for 4 nights (July 22\, 29\, August 5\, 12). It’s free. All ages welcome. Most dances will be taught. Please bring a friend along as everyone is welcome. 
URL:https://burnabyfolkdance.org/event/summer-dancing-in-the-park-2/
LOCATION:Confederation Park\, 250 Willingdon Avenue\, Burnaby\, BC\, V5C 5J9\, Canada
CATEGORIES:Community Event,Outdoor dancing,Teaching
ORGANIZER;CN="Burnaby International Folk Dancers Club":MAILTO:bifd@burnabyfolkdance.org
END:VEVENT
BEGIN:VEVENT
DTSTART;TZID=America/Vancouver:20250717T191500
DTEND;TZID=America/Vancouver:20250717T200000
DTSTAMP:20260423T145609
CREATED:20250513T004152Z
LAST-MODIFIED:20250717T175449Z
UID:2854-1752779700-1752782400@burnabyfolkdance.org
SUMMARY:Kitsilano Showboat - performance and easy audience participation dances
DESCRIPTION:Tonight\, we are performing two dances and doing some easy audience participation dances at Kitsilano Showboat from 7:15 pm to 8:00 pm in Vancouver at 2300 Cornwall Avenue. They are celebrating 90 years. Hope to see you there! It would be great to see some familiar faces in the audience cheering us on and participating with us.  \n  \n 
URL:https://burnabyfolkdance.org/event/kitsilano-showboat-performing-and-teaching/
LOCATION:Kitsilano Showboat\, 2300 Cornwall AVenue\, Vancouver\, British Columbia\, V6K 1B7\, Canada
CATEGORIES:Community Event,Performance,Teaching
ORGANIZER;CN="Burnaby International Folk Dancers Club":MAILTO:bifd@burnabyfolkdance.org
END:VEVENT
BEGIN:VEVENT
DTSTART;TZID=America/Vancouver:20250607T103000
DTEND;TZID=America/Vancouver:20250607T160000
DTSTAMP:20260423T145609
CREATED:20250513T003524Z
LAST-MODIFIED:20250603T213103Z
UID:2851-1749292200-1749312000@burnabyfolkdance.org
SUMMARY:Burnaby(IFD) perform/teach at Hats Off Day in Burnaby
DESCRIPTION:On June 7th\, we are participating in Hats Off Day in Burnaby on Hastings Street between Boundary Road to Gamma Avenue. We will be performing and teaching at 11:15 am at Heights Fountain Square. We will have a display table in the Community Zone area from 10:30 am – 4:00 pm. We would love to see you there and it’s FREE!
URL:https://burnabyfolkdance.org/event/burnabyifd-perform-teach-at-hats-off-day-in-burnaby/
LOCATION:Hats Off Day\, Hastings Street\, Burnaby\, BC\, Canada
CATEGORIES:Community Event,Performance,Teaching
ORGANIZER;CN="Burnaby International Folk Dancers Club":MAILTO:bifd@burnabyfolkdance.org
END:VEVENT
BEGIN:VEVENT
DTSTART;TZID=America/Vancouver:20230527T150000
DTEND;TZID=America/Vancouver:20230527T180000
DTSTAMP:20260423T145609
CREATED:20230524T060425Z
LAST-MODIFIED:20230524T060425Z
UID:2068-1685199600-1685210400@burnabyfolkdance.org
SUMMARY:New Westminster May Day celebration performance
DESCRIPTION:We have been invited to perform and teach at the 153rd May Day celebration in New Westminster. It will take place at Queen’s Park Stadium. We are the pre-show entertainment from 3:15 pm – 3:30 pm. 
URL:https://burnabyfolkdance.org/event/new-westminster-may-day-celebration-performance/
LOCATION:Queens Park Stadium\, 300 1st Street\, New Westminster\, British Columbia\, Canada
CATEGORIES:Community Event
ORGANIZER;CN="Burnaby International Folk Dancers Club":MAILTO:bifd@burnabyfolkdance.org
END:VEVENT
BEGIN:VEVENT
DTSTART;TZID=America/Vancouver:20190908T130000
DTEND;TZID=America/Vancouver:20190908T150000
DTSTAMP:20260423T145609
CREATED:20190818T001603Z
LAST-MODIFIED:20190818T001603Z
UID:1162-1567947600-1567954800@burnabyfolkdance.org
SUMMARY:2019 Parkinson Superwalk
DESCRIPTION:Burnaby International Folk Dancers performance group will perform and teach at 1 pm and walk around track with banner at 2 pm. Everyone welcome to join us!
URL:https://burnabyfolkdance.org/event/2019-parkinson-superwalk/
LOCATION:Confederation Park\, 250 Willingdon Avenue\, Burnaby\, BC\, V5C 5J9\, Canada
CATEGORIES:Community Event,Performance
ORGANIZER;CN="Jane Kupfer":MAILTO:bifd@burnabyfolkdance.org
END:VEVENT
BEGIN:VEVENT
DTSTART;TZID=America/Vancouver:20190825T110000
DTEND;TZID=America/Vancouver:20190825T170000
DTSTAMP:20260423T145609
CREATED:20190817T162052Z
LAST-MODIFIED:20190818T060509Z
UID:1157-1566730800-1566752400@burnabyfolkdance.org
SUMMARY:2019 Friendship Festival presented by Multicultural Russian Speaking Assoc. of B.C.
DESCRIPTION:Burnaby International Folk Dancers performance group will perform at 2 pm.
URL:https://burnabyfolkdance.org/event/2019-friendship-without-borders-festival/
LOCATION:Peretz Centre\, 6184 Ash St\, Vancouver\, BC\, V5Z 3G9\, Canada
CATEGORIES:Community Event,Performance
ORGANIZER;CN="Jane Kupfer":MAILTO:bifd@burnabyfolkdance.org
END:VEVENT
BEGIN:VEVENT
DTSTART;TZID=America/Vancouver:20190601T093000
DTEND;TZID=America/Vancouver:20190601T160000
DTSTAMP:20260423T145609
CREATED:20190514T045325Z
LAST-MODIFIED:20190514T045325Z
UID:1064-1559381400-1559404800@burnabyfolkdance.org
SUMMARY:2019 Hats Off Day in North Burnaby
DESCRIPTION:Burnaby International Folk Dancers performance group will have a display table and demonstrate a few dances at Hats Off Day on June 1.
URL:https://burnabyfolkdance.org/event/2019-hats-off-day-in-north-burnaby/
LOCATION:Hats Off Day\, Hastings Street\, Burnaby\, BC\, Canada
CATEGORIES:Community Event
ORGANIZER;CN="Jane Kupfer":MAILTO:bifd@burnabyfolkdance.org
END:VEVENT
BEGIN:VEVENT
DTSTART;TZID=America/Vancouver:20180909T140000
DTEND;TZID=America/Vancouver:20180909T150000
DTSTAMP:20260423T145609
CREATED:20180829T025451Z
LAST-MODIFIED:20180829T025451Z
UID:928-1536501600-1536505200@burnabyfolkdance.org
SUMMARY:Parkinson’s Walk 2018
DESCRIPTION:Sunday\, 9 September\, 2:00-3:00. Confederation Park track. Participate in the Parkinson’s Walk by carrying our banner around the track. Contact Jane if you are interested in participating at jbkupfer@shaw.ca.
URL:https://burnabyfolkdance.org/event/parkinsons-walk-2018/
LOCATION:Confederation Park\, 250 Willingdon Avenue\, Burnaby\, BC\, V5C 5J9\, Canada
CATEGORIES:Community Event
ORGANIZER;CN="Jane Kupfer":MAILTO:bifd@burnabyfolkdance.org
END:VEVENT
BEGIN:VEVENT
DTSTART;VALUE=DATE:20180707
DTEND;VALUE=DATE:20180708
DTSTAMP:20260423T145609
CREATED:20180620T102748Z
LAST-MODIFIED:20180809T223508Z
UID:813-1530921600-1531007999@burnabyfolkdance.org
SUMMARY:2018 Greek Summerfest
DESCRIPTION:Burnaby folk dance performance group will perform and teach at Greek Summerfest from 1:15 to 1:45 pm. Wonderful food available to buy.
URL:https://burnabyfolkdance.org/event/2018-greek-summerfest/
LOCATION:Greek Summerfest Vancouver\, 4641 Boundary Road\, vancouver\, bc\, V5R 2N5\, Canada
CATEGORIES:Community Event,Performance
ORGANIZER;CN="Jane Kupfer":MAILTO:bifd@burnabyfolkdance.org
END:VEVENT
BEGIN:VEVENT
DTSTART;TZID=America/Vancouver:20180701T150000
DTEND;TZID=America/Vancouver:20180701T193000
DTSTAMP:20260423T145609
CREATED:20180620T101954Z
LAST-MODIFIED:20180809T223549Z
UID:810-1530457200-1530473400@burnabyfolkdance.org
SUMMARY:2018 Canada Day event in New Westminster
DESCRIPTION:Burnaby folk dance performance group will perform and teach for about an hour for Canada Day.
URL:https://burnabyfolkdance.org/event/2018-canada-day-event-in-new-westminster/
LOCATION:Pier Park New Westminster\, 1 Sixth street\, New Westminster\, bc\, V3M 6Z6\, Canada
CATEGORIES:Community Event,Performance
ORGANIZER;CN="Jane Kupfer":MAILTO:bifd@burnabyfolkdance.org
END:VEVENT
BEGIN:VEVENT
DTSTART;TZID=UTC:20180603T100000
DTEND;TZID=UTC:20180603T170000
DTSTAMP:20260423T145609
CREATED:20180529T114210Z
LAST-MODIFIED:20180529T115938Z
UID:794-1528020000-1528045200@burnabyfolkdance.org
SUMMARY:2018 Serbian Festival
DESCRIPTION:Burnaby folk dance performance group will perform at 2:15 pm.
URL:https://burnabyfolkdance.org/event/2018-serbian-festival/
LOCATION:St. Archangel Michael Church\, 7838 Canada Way\, Burnaby\, BC\, V5A 2Y8\, Canada
CATEGORIES:Community Event
ORGANIZER;CN="Jane Kupfer":MAILTO:bifd@burnabyfolkdance.org
END:VEVENT
BEGIN:VEVENT
DTSTART;TZID=UTC:20180602T090000
DTEND;TZID=UTC:20180602T160000
DTSTAMP:20260423T145609
CREATED:20180529T113627Z
LAST-MODIFIED:20180529T115855Z
UID:791-1527930000-1527955200@burnabyfolkdance.org
SUMMARY:2018 Hats Off Day
DESCRIPTION:Burnaby folk dancers will have a display table and greet passersby\, to join in a few dances we will teach to the public.
URL:https://burnabyfolkdance.org/event/2018-hats-off-day/
LOCATION:Hats Off Day\, Hastings Street\, Burnaby\, BC\, Canada
CATEGORIES:Community Event
ORGANIZER;CN="Jane Kupfer":MAILTO:bifd@burnabyfolkdance.org
END:VEVENT
BEGIN:VEVENT
DTSTART;TZID=UTC:20170909T100000
DTEND;TZID=UTC:20170909T110000
DTSTAMP:20260423T145609
CREATED:20170830T214732Z
LAST-MODIFIED:20170906T105602Z
UID:491-1504951200-1504954800@burnabyfolkdance.org
SUMMARY:2017 Parkinson's Superwalk @ Confederation Park track
DESCRIPTION:Parkinson’s Superwalk\, Confederation Park track\, Burnaby. BIFD will do some dance steps to music around the track. Join us!
URL:https://burnabyfolkdance.org/event/2017-parkinsons-superwalk-confederation-park-track/
LOCATION:Confederation Park\, 250 Willingdon Avenue\, Burnaby\, BC\, V5C 5J9\, Canada
CATEGORIES:Community Event
ORGANIZER;CN="Jane Kupfer":MAILTO:bifd@burnabyfolkdance.org
END:VEVENT
END:VCALENDAR