BEGIN:VCALENDAR
VERSION:2.0
PRODID:-//Burnaby International Folk Dancers - ECPv6.15.20//NONSGML v1.0//EN
CALSCALE:GREGORIAN
METHOD:PUBLISH
X-WR-CALNAME:Burnaby International Folk Dancers
X-ORIGINAL-URL:https://burnabyfolkdance.org
X-WR-CALDESC:Events for Burnaby International Folk Dancers
REFRESH-INTERVAL;VALUE=DURATION:PT1H
X-Robots-Tag:noindex
X-PUBLISHED-TTL:PT1H
BEGIN:VTIMEZONE
TZID:America/Vancouver
BEGIN:DAYLIGHT
TZOFFSETFROM:-0800
TZOFFSETTO:-0700
TZNAME:PDT
DTSTART:20220313T100000
END:DAYLIGHT
BEGIN:STANDARD
TZOFFSETFROM:-0700
TZOFFSETTO:-0800
TZNAME:PST
DTSTART:20221106T090000
END:STANDARD
BEGIN:DAYLIGHT
TZOFFSETFROM:-0800
TZOFFSETTO:-0700
TZNAME:PDT
DTSTART:20230312T100000
END:DAYLIGHT
BEGIN:STANDARD
TZOFFSETFROM:-0700
TZOFFSETTO:-0800
TZNAME:PST
DTSTART:20231105T090000
END:STANDARD
BEGIN:DAYLIGHT
TZOFFSETFROM:-0800
TZOFFSETTO:-0700
TZNAME:PDT
DTSTART:20240310T100000
END:DAYLIGHT
BEGIN:STANDARD
TZOFFSETFROM:-0700
TZOFFSETTO:-0800
TZNAME:PST
DTSTART:20241103T090000
END:STANDARD
END:VTIMEZONE
BEGIN:VEVENT
DTSTART;TZID=America/Vancouver:20231205T184500
DTEND;TZID=America/Vancouver:20231205T211500
DTSTAMP:20260425T111234
CREATED:20231206T020300Z
LAST-MODIFIED:20231206T020300Z
UID:2236-1701801900-1701810900@burnabyfolkdance.org
SUMMARY:Holiday dance party
DESCRIPTION:We’re having our holiday folk dance party on Tuesday\, December 5\, 2023 at Charles Rummel Centre. Everyone’s invited to join us for this joyful event.  We’re also excited about having our house band\, the Pirates playing for us to enjoy and dance to.  \nPlease bring a finger food snack to share and festive or ethnic wear is encouraged.  We’re looking forward to seeing many of you there!   \nThis Tuesday Party is our last dance evening of the year.  We’ll meet again in the new year on Tuesday\, January 9\, 2024.  
URL:https://burnabyfolkdance.org/event/holiday-dance-party/
LOCATION:Charles Rummel Community Centre\, 3630 Lozells Ave\, Burnaby\, BC\, V5A 2Y8\, Canada
CATEGORIES:Dance Party,Weekly Dancing
ORGANIZER;CN="Burnaby International Folk Dancers Club":MAILTO:bifd@burnabyfolkdance.org
END:VEVENT
BEGIN:VEVENT
DTSTART;TZID=America/Vancouver:20231220T130000
DTEND;TZID=America/Vancouver:20231220T150000
DTSTAMP:20260425T111234
CREATED:20231220T051147Z
LAST-MODIFIED:20231220T051147Z
UID:2243-1703077200-1703084400@burnabyfolkdance.org
SUMMARY:Wednesday Holiday afternoon Zoom dance party
DESCRIPTION:It’s party time with the Burnaby (IFD) this Wednesday afternoon Zoom group from 1:00 pm – 3:00 pm (Pacific Time).  Our leaders are excited to share the dances for our holiday party program with you all and hope many of you are able to attend our second to last Zoom program of the year.  \nNext week\, Wednesday\, December 27\, 2023\, we’re celebrating another party\, this time it’s our New Year’s Eve party\, although we meet during the day from 1:00 – 3:00 pm (Pacific time). For next week’s party\, we’re excited to have special guests Murray and Randi Spiegel and Judith Silver join us to lead some of their favorite dances to share with you all.   \nUse this link and password to join our Zoom session. \nhttps://zoom.us/j/99504932576\nID: 995 0493 2576\nPasscode: Bifd  (Upper case B followed by lower case ifd)\nFor more information and to receive weekly emails with our programs and announcements contact us at bifd@burnabyfolkdance.org. 
URL:https://burnabyfolkdance.org/event/wednesday-holiday-afternoon-zoom-dance-party/
LOCATION:Online
CATEGORIES:Dance Party,online weekly dancing
ORGANIZER;CN="Burnaby International Folk Dancers Club":MAILTO:bifd@burnabyfolkdance.org
END:VEVENT
BEGIN:VEVENT
DTSTART;TZID=America/Vancouver:20231227T130000
DTEND;TZID=America/Vancouver:20231227T150000
DTSTAMP:20260425T111234
CREATED:20231227T010049Z
LAST-MODIFIED:20231227T010049Z
UID:2250-1703682000-1703689200@burnabyfolkdance.org
SUMMARY:Guest dance leaders joining our Wednesday afternoon New Year's Zoom party
DESCRIPTION:We’re having another party!  And though it’s not in the evening (for us on the West Coast as our Zoom group meets from 1:00 pm – 3:00 pm\, Pacific time) and it’s not New Year’s yet\, it’s still our New Year’s party.  So\, bring your party hats and/or festive wear\, or come as you are as everyone is welcome\, and we look forward to seeing many of you there.   \nOur team’s very excited about having 3 guest dance leaders for the party\, Judith Silver\, and Randi and Murray Spiegel leading party dances for all of us to enjoy.  At our parties\, all dances will be led by one of our guests or team leaders (no teaching). \nUse this link and password to join our Zoom session. \nhttps://zoom.us/j/99504932576\nID: 995 0493 2576\nPasscode: Bifd  (Upper case B followed by lower case ifd)\nFor more information and to receive weekly emails with our programs and announcements contact us at bifd@burnabyfolkdance.org. 
URL:https://burnabyfolkdance.org/event/guest-dance-leaders-joining-our-wednesday-afternoon-new-years-zoom-party/
LOCATION:Online
CATEGORIES:Dance Party,online weekly dancing
ORGANIZER;CN="Burnaby International Folk Dancers Club":MAILTO:bifd@burnabyfolkdance.org
END:VEVENT
END:VCALENDAR