BEGIN:VCALENDAR
VERSION:2.0
PRODID:-//Burnaby International Folk Dancers - ECPv6.15.20//NONSGML v1.0//EN
CALSCALE:GREGORIAN
METHOD:PUBLISH
X-ORIGINAL-URL:https://burnabyfolkdance.org
X-WR-CALDESC:Events for Burnaby International Folk Dancers
REFRESH-INTERVAL;VALUE=DURATION:PT1H
X-Robots-Tag:noindex
X-PUBLISHED-TTL:PT1H
BEGIN:VTIMEZONE
TZID:America/Vancouver
BEGIN:DAYLIGHT
TZOFFSETFROM:-0800
TZOFFSETTO:-0700
TZNAME:PDT
DTSTART:20230312T100000
END:DAYLIGHT
BEGIN:STANDARD
TZOFFSETFROM:-0700
TZOFFSETTO:-0800
TZNAME:PST
DTSTART:20231105T090000
END:STANDARD
BEGIN:DAYLIGHT
TZOFFSETFROM:-0800
TZOFFSETTO:-0700
TZNAME:PDT
DTSTART:20240310T100000
END:DAYLIGHT
BEGIN:STANDARD
TZOFFSETFROM:-0700
TZOFFSETTO:-0800
TZNAME:PST
DTSTART:20241103T090000
END:STANDARD
BEGIN:DAYLIGHT
TZOFFSETFROM:-0800
TZOFFSETTO:-0700
TZNAME:PDT
DTSTART:20250309T100000
END:DAYLIGHT
BEGIN:STANDARD
TZOFFSETFROM:-0700
TZOFFSETTO:-0800
TZNAME:PST
DTSTART:20251102T090000
END:STANDARD
END:VTIMEZONE
BEGIN:VEVENT
DTSTART;TZID=America/Vancouver:20240130T184500
DTEND;TZID=America/Vancouver:20240130T211500
DTSTAMP:20260425T094050
CREATED:20240129T212256Z
LAST-MODIFIED:20240129T213542Z
UID:2286-1706640300-1706649300@burnabyfolkdance.org
SUMMARY:Tuesday evening month end party!
DESCRIPTION:It’s the last Tuesday of the month and we’re having a party! We’re excited that one of our dancers will review the two contra dances she taught us earlier in the season! And there are lots of other great dances that many of you requested with many of people’s favorite dances on the program. Feel free to wear something festive and bring a finger food snack to share with everyone! Doors open at 6:45 pm and dancing starts at 7:00 pm – 9:15 pm. We look forward to seeing many of you at the party. \nFirst time is FREE. No partner or costume required. Drop-in is $7.00. \n\nHappy dancing everyone and see you very soon now!\nFor more information and to receive weekly emails with our programs and announcements contact us at bifd@burnabyfolkdance.org.
URL:https://burnabyfolkdance.org/event/tuesday-evening-month-end-party/
LOCATION:Charles Rummel Community Centre\, 3630 Lozells Ave\, Burnaby\, BC\, V5A 2Y8\, Canada
CATEGORIES:Dance Party,Weekly Dancing
ORGANIZER;CN="Burnaby International Folk Dancers Club":MAILTO:bifd@burnabyfolkdance.org
END:VEVENT
BEGIN:VEVENT
DTSTART;TZID=America/Vancouver:20240131T130000
DTEND;TZID=America/Vancouver:20240131T150000
DTSTAMP:20260425T094050
CREATED:20240129T213300Z
LAST-MODIFIED:20240129T214059Z
UID:2292-1706706000-1706713200@burnabyfolkdance.org
SUMMARY:Wednesday afternoon dancing online party!
DESCRIPTION: \n\n\nIt’s the last Wednesday of the month\, meaning it’s party time! Come join us and enjoy dancing to a lovely program with over half the dances requested by our participants and several from our own team. At our monthly Zoom parties\, there’s no teaching. Our team will lead the dances for everyone to dance along with and enjoy. We have chat time at 12:45 pm and dance from 1:00 pm – 3:00 pm (Pacific Time).\n \n\n\nUse this link and password to join our Zoom session.\nhttps://zoom.us/j/99504932576\nID: 995 0493 2576\nPasscode: Bifd (Upper case B followed by lower case ifd)\n \n\n\nHappy dancing everyone and see you very soon now!\n \n\n\nFor more information and to receive weekly emails with our programs and announcements contact us at bifd@burnabyfolkdance.org.
URL:https://burnabyfolkdance.org/event/wednesday-afternoon-dancing-online-party/
LOCATION:Online
CATEGORIES:Dance Party,online weekly dancing
ORGANIZER;CN="Burnaby International Folk Dancers Club":MAILTO:bifd@burnabyfolkdance.org
END:VEVENT
END:VCALENDAR