BEGIN:VCALENDAR
VERSION:2.0
PRODID:-//Burnaby International Folk Dancers - ECPv6.15.20//NONSGML v1.0//EN
CALSCALE:GREGORIAN
METHOD:PUBLISH
X-WR-CALNAME:Burnaby International Folk Dancers
X-ORIGINAL-URL:https://burnabyfolkdance.org
X-WR-CALDESC:Events for Burnaby International Folk Dancers
REFRESH-INTERVAL;VALUE=DURATION:PT1H
X-Robots-Tag:noindex
X-PUBLISHED-TTL:PT1H
BEGIN:VTIMEZONE
TZID:America/Vancouver
BEGIN:DAYLIGHT
TZOFFSETFROM:-0800
TZOFFSETTO:-0700
TZNAME:PDT
DTSTART:20220313T100000
END:DAYLIGHT
BEGIN:STANDARD
TZOFFSETFROM:-0700
TZOFFSETTO:-0800
TZNAME:PST
DTSTART:20221106T090000
END:STANDARD
BEGIN:DAYLIGHT
TZOFFSETFROM:-0800
TZOFFSETTO:-0700
TZNAME:PDT
DTSTART:20230312T100000
END:DAYLIGHT
BEGIN:STANDARD
TZOFFSETFROM:-0700
TZOFFSETTO:-0800
TZNAME:PST
DTSTART:20231105T090000
END:STANDARD
BEGIN:DAYLIGHT
TZOFFSETFROM:-0800
TZOFFSETTO:-0700
TZNAME:PDT
DTSTART:20240310T100000
END:DAYLIGHT
BEGIN:STANDARD
TZOFFSETFROM:-0700
TZOFFSETTO:-0800
TZNAME:PST
DTSTART:20241103T090000
END:STANDARD
END:VTIMEZONE
BEGIN:VEVENT
DTSTART;TZID=America/Vancouver:20230817T110000
DTEND;TZID=America/Vancouver:20230817T160000
DTSTAMP:20260425T184042
CREATED:20230725T194000Z
LAST-MODIFIED:20230725T194706Z
UID:2105-1692270000-1692288000@burnabyfolkdance.org
SUMMARY:Summer picnic and dancing with live band
DESCRIPTION:Summer picnic and dancing with house band The Pirates on Thursday\, August 17th from 11:00ish am – 4:00 pm.  Everyone is welcome to join us at Confederation Park in Burnaby – 250 Willingdon Avenue.  One block north of Hastings.  We meet at the Cenotaph. Bring your picnic lunch\, sunglasses\, sunscreen\, hat\, water\, and chair or blanket. The band will start playing at 12:30 and afterwards there will be recorded music. It’s weather permitting and if need to cancel\, we will announce and if there is alternate date. 
URL:https://burnabyfolkdance.org/event/picnic-dancing-and-live-band-at-confederation-park-in-burnaby/
LOCATION:Confederation Park\, 250 Willingdon Avenue\, Burnaby\, BC\, V5C 5J9\, Canada
CATEGORIES:Dance Party
ORGANIZER;CN="Burnaby International Folk Dancers Club":MAILTO:bifd@burnabyfolkdance.org
END:VEVENT
END:VCALENDAR