BEGIN:VCALENDAR
VERSION:2.0
PRODID:-//Burnaby International Folk Dancers - ECPv6.15.20//NONSGML v1.0//EN
CALSCALE:GREGORIAN
METHOD:PUBLISH
X-ORIGINAL-URL:https://burnabyfolkdance.org
X-WR-CALDESC:Events for Burnaby International Folk Dancers
REFRESH-INTERVAL;VALUE=DURATION:PT1H
X-Robots-Tag:noindex
X-PUBLISHED-TTL:PT1H
BEGIN:VTIMEZONE
TZID:America/Vancouver
BEGIN:DAYLIGHT
TZOFFSETFROM:-0800
TZOFFSETTO:-0700
TZNAME:PDT
DTSTART:20230312T100000
END:DAYLIGHT
BEGIN:STANDARD
TZOFFSETFROM:-0700
TZOFFSETTO:-0800
TZNAME:PST
DTSTART:20231105T090000
END:STANDARD
BEGIN:DAYLIGHT
TZOFFSETFROM:-0800
TZOFFSETTO:-0700
TZNAME:PDT
DTSTART:20240310T100000
END:DAYLIGHT
BEGIN:STANDARD
TZOFFSETFROM:-0700
TZOFFSETTO:-0800
TZNAME:PST
DTSTART:20241103T090000
END:STANDARD
BEGIN:DAYLIGHT
TZOFFSETFROM:-0800
TZOFFSETTO:-0700
TZNAME:PDT
DTSTART:20250309T100000
END:DAYLIGHT
BEGIN:STANDARD
TZOFFSETFROM:-0700
TZOFFSETTO:-0800
TZNAME:PST
DTSTART:20251102T090000
END:STANDARD
END:VTIMEZONE
BEGIN:VEVENT
DTSTART;TZID=America/Vancouver:20240213T184500
DTEND;TZID=America/Vancouver:20240213T210000
DTSTAMP:20260425T094251
CREATED:20240213T193953Z
LAST-MODIFIED:20240213T194344Z
UID:2312-1707849900-1707858000@burnabyfolkdance.org
SUMMARY:Tuesday evening party celebrating Valentine's Day and Chinese New Year
DESCRIPTION:We’re having a party on Tuesday evening and everyone’s invited. We’re celebrating Valentine’s Day and Chinese New Year!  And there are lots of great dances that many of you requested with many of people’s favorite dances on the program. Feel free to wear something festive or ethnic wear and bring a finger food snack to share with everyone! Doors open at 6:45 pm and dancing starts at 7:00 pm – 9:15 pm. We look forward to seeing many of you at the party. \nFirst time is FREE. No partner or costume required. Drop-in is $7.00. \n\nHappy dancing everyone and see you very soon now!\nFor more information and to receive weekly emails with our programs and announcements contact us at bifd@burnabyfolkdance.org.
URL:https://burnabyfolkdance.org/event/tuesday-evening-party-celebrating-valentines-day-and-chinese-new-year/
LOCATION:Charles Rummel Community Centre\, 3630 Lozells Ave\, Burnaby\, BC\, V5A 2Y8\, Canada
CATEGORIES:Dance Party,Weekly Dancing
ORGANIZER;CN="Burnaby International Folk Dancers Club":MAILTO:bifd@burnabyfolkdance.org
END:VEVENT
END:VCALENDAR