BEGIN:VCALENDAR
VERSION:2.0
PRODID:-//Burnaby International Folk Dancers - ECPv6.15.20//NONSGML v1.0//EN
CALSCALE:GREGORIAN
METHOD:PUBLISH
X-WR-CALNAME:Burnaby International Folk Dancers
X-ORIGINAL-URL:https://burnabyfolkdance.org
X-WR-CALDESC:Events for Burnaby International Folk Dancers
REFRESH-INTERVAL;VALUE=DURATION:PT1H
X-Robots-Tag:noindex
X-PUBLISHED-TTL:PT1H
BEGIN:VTIMEZONE
TZID:America/Vancouver
BEGIN:DAYLIGHT
TZOFFSETFROM:-0800
TZOFFSETTO:-0700
TZNAME:PDT
DTSTART:20230312T100000
END:DAYLIGHT
BEGIN:STANDARD
TZOFFSETFROM:-0700
TZOFFSETTO:-0800
TZNAME:PST
DTSTART:20231105T090000
END:STANDARD
BEGIN:DAYLIGHT
TZOFFSETFROM:-0800
TZOFFSETTO:-0700
TZNAME:PDT
DTSTART:20240310T100000
END:DAYLIGHT
BEGIN:STANDARD
TZOFFSETFROM:-0700
TZOFFSETTO:-0800
TZNAME:PST
DTSTART:20241103T090000
END:STANDARD
BEGIN:DAYLIGHT
TZOFFSETFROM:-0800
TZOFFSETTO:-0700
TZNAME:PDT
DTSTART:20250309T100000
END:DAYLIGHT
BEGIN:STANDARD
TZOFFSETFROM:-0700
TZOFFSETTO:-0800
TZNAME:PST
DTSTART:20251102T090000
END:STANDARD
END:VTIMEZONE
BEGIN:VEVENT
DTSTART;TZID=America/Vancouver:20240604T184500
DTEND;TZID=America/Vancouver:20240604T210000
DTSTAMP:20260425T033847
CREATED:20240604T000403Z
LAST-MODIFIED:20240604T000403Z
UID:2480-1717526700-1717534800@burnabyfolkdance.org
SUMMARY:Tuesday evening year-end party with the Pirates
DESCRIPTION:We’re having our year-end party and everyone’s invited and welcome to join us. The more the merrier! It will be a special evening with The Pirates\, our house band\, playing for us to enjoy and dance to. Please bring a snack treat to share with everyone\, good cheer and festival wear is encouraged! \nDoors open at 6:45 pm and the dance program starts at 7:00 pm – 9:00 pm. First time is free and no partner is required. Drop-in is $7. We dance at Charles Rummel Hall in Burnaby at 3630 Lozells Avenue.  \nWe are planning two BIFD picnics this summer at Confederation Park and will let you know the dates and details soon.  \nWe will return to dancing at Charles Rummel on September 10\, 2024 and will confirm sometime in August.  \nFor more information and to be on our email list contact us at bifd@burnabyfolkdance.org. Happy dancing!
URL:https://burnabyfolkdance.org/event/tuesday-evening-year-end-party-with-the-pirates/
LOCATION:Charles Rummel Community Centre\, 3630 Lozells Ave\, Burnaby\, BC\, V5A 2Y8\, Canada
CATEGORIES:Dance Party,Weekly Dancing
ORGANIZER;CN="Burnaby International Folk Dancers Club":MAILTO:bifd@burnabyfolkdance.org
END:VEVENT
END:VCALENDAR