BEGIN:VCALENDAR
VERSION:2.0
PRODID:-//Burnaby International Folk Dancers - ECPv6.15.20//NONSGML v1.0//EN
CALSCALE:GREGORIAN
METHOD:PUBLISH
X-WR-CALNAME:Burnaby International Folk Dancers
X-ORIGINAL-URL:https://burnabyfolkdance.org
X-WR-CALDESC:Events for Burnaby International Folk Dancers
REFRESH-INTERVAL;VALUE=DURATION:PT1H
X-Robots-Tag:noindex
X-PUBLISHED-TTL:PT1H
BEGIN:VTIMEZONE
TZID:America/Vancouver
BEGIN:DAYLIGHT
TZOFFSETFROM:-0800
TZOFFSETTO:-0700
TZNAME:PDT
DTSTART:20170312T100000
END:DAYLIGHT
BEGIN:STANDARD
TZOFFSETFROM:-0700
TZOFFSETTO:-0800
TZNAME:PST
DTSTART:20171105T090000
END:STANDARD
BEGIN:DAYLIGHT
TZOFFSETFROM:-0800
TZOFFSETTO:-0700
TZNAME:PDT
DTSTART:20180311T100000
END:DAYLIGHT
BEGIN:STANDARD
TZOFFSETFROM:-0700
TZOFFSETTO:-0800
TZNAME:PST
DTSTART:20181104T090000
END:STANDARD
BEGIN:DAYLIGHT
TZOFFSETFROM:-0800
TZOFFSETTO:-0700
TZNAME:PDT
DTSTART:20190310T100000
END:DAYLIGHT
BEGIN:STANDARD
TZOFFSETFROM:-0700
TZOFFSETTO:-0800
TZNAME:PST
DTSTART:20191103T090000
END:STANDARD
BEGIN:DAYLIGHT
TZOFFSETFROM:-0800
TZOFFSETTO:-0700
TZNAME:PDT
DTSTART:20200308T100000
END:DAYLIGHT
BEGIN:STANDARD
TZOFFSETFROM:-0700
TZOFFSETTO:-0800
TZNAME:PST
DTSTART:20201101T090000
END:STANDARD
BEGIN:DAYLIGHT
TZOFFSETFROM:-0800
TZOFFSETTO:-0700
TZNAME:PDT
DTSTART:20210314T100000
END:DAYLIGHT
BEGIN:STANDARD
TZOFFSETFROM:-0700
TZOFFSETTO:-0800
TZNAME:PST
DTSTART:20211107T090000
END:STANDARD
BEGIN:DAYLIGHT
TZOFFSETFROM:-0800
TZOFFSETTO:-0700
TZNAME:PDT
DTSTART:20220313T100000
END:DAYLIGHT
BEGIN:STANDARD
TZOFFSETFROM:-0700
TZOFFSETTO:-0800
TZNAME:PST
DTSTART:20221106T090000
END:STANDARD
BEGIN:DAYLIGHT
TZOFFSETFROM:-0800
TZOFFSETTO:-0700
TZNAME:PDT
DTSTART:20230312T100000
END:DAYLIGHT
BEGIN:STANDARD
TZOFFSETFROM:-0700
TZOFFSETTO:-0800
TZNAME:PST
DTSTART:20231105T090000
END:STANDARD
BEGIN:DAYLIGHT
TZOFFSETFROM:-0800
TZOFFSETTO:-0700
TZNAME:PDT
DTSTART:20240310T100000
END:DAYLIGHT
BEGIN:STANDARD
TZOFFSETFROM:-0700
TZOFFSETTO:-0800
TZNAME:PST
DTSTART:20241103T090000
END:STANDARD
END:VTIMEZONE
BEGIN:VTIMEZONE
TZID:UTC
BEGIN:STANDARD
TZOFFSETFROM:+0000
TZOFFSETTO:+0000
TZNAME:UTC
DTSTART:20160101T000000
END:STANDARD
END:VTIMEZONE
BEGIN:VEVENT
DTSTART;TZID=America/Vancouver:20230125T130000
DTEND;TZID=America/Vancouver:20230125T150000
DTSTAMP:20260423T220803
CREATED:20230125T013735Z
LAST-MODIFIED:20230125T013735Z
UID:1920-1674651600-1674658800@burnabyfolkdance.org
SUMMARY:First Zoom party of the new year!
DESCRIPTION:It’s 2023! And we’re celebrating the new year with the first Burnaby (IFD) Zoom party of the new year. We have come up with a wonderful and engaging program for you all to enjoy. On party afternoon’s there is no teaching\, just our team leading dances for you to enjoy. Everyone is welcome! \n\nTo join our Zoom session\, click the link below:\nhttps://zoom.us/j/99504932576\nID: 995 0493 2576\nPasscode: Bifd (Upper case B followed by lower case ifd)\nFor more information contact us at bifd@burnabyfolkdance.org.\n\nhttps://burnabyfolkdance.org
URL:https://burnabyfolkdance.org/event/first-zoom-party-of-the-new-year/
LOCATION:Online
CATEGORIES:Dance Party,Weekly Dancing
ORGANIZER;CN="Burnaby International Folk Dancers Club":MAILTO:bifd@burnabyfolkdance.org
END:VEVENT
BEGIN:VEVENT
DTSTART;TZID=America/Vancouver:20221228T130000
DTEND;TZID=America/Vancouver:20221228T150000
DTSTAMP:20260423T220803
CREATED:20221228T174935Z
LAST-MODIFIED:20221228T174935Z
UID:1883-1672232400-1672239600@burnabyfolkdance.org
SUMMARY:New Year's Zoom party with special guests Jaap Leegwater & Lee Otterholt
DESCRIPTION:We are really excited to let you know that Jaap Leegwater and Lee Otterholt will be our special guest dance leaders at our New Year’s Zoom party this Wednesday\, afternoon\, December 28\, 2022 from 1:00 pm – 3:00 pm (Pacific time). All dances will be led (no teaching) by Jaap\, Lee and our Zoom team dancers. Join us for chat time at 12:45 pm. \nTwo of Jaap’s band members\, Jan Wollring on accordion and Ludomir Leegwater on guitar will be playing for all of us to enjoy dancing to. \nPlease let your folk dance friends know about this wonderful event! And for those interested\, party theme is quirky\, fun hats. \nWe’re looking forward to seeing many of you there! \nTo join our Zoom session\, click the link below\nhttps://zoom.us/j/99504932576\nID: 995 0493 2576\nPasscode: Bifd (Upper case B followed by lower case ifd)
URL:https://burnabyfolkdance.org/event/new-years-zoom-party-with-special-guests-jaap-leegwater-lee-otterholt/
LOCATION:Online
CATEGORIES:Dance Party
ORGANIZER;CN="Burnaby International Folk Dancers Club":MAILTO:bifd@burnabyfolkdance.org
END:VEVENT
BEGIN:VEVENT
DTSTART;TZID=America/Vancouver:20200602T183000
DTEND;TZID=America/Vancouver:20200602T220000
DTSTAMP:20260423T220803
CREATED:20190831T040658Z
LAST-MODIFIED:20200429T054522Z
UID:1205-1591122600-1591135200@burnabyfolkdance.org
SUMMARY:CANCELLED [End of Season Party 2020-06-02]
DESCRIPTION:COVID-19 CANCELS ALL DANCING UNTIL FURTHER NOTICE\nFinal dance session of the season! Bring finger-food to share and wear an ethnic costume if you like. We dance to a prepared playlist created from your requests! The evening begins at 6:30pm with the Basic Steps program which introduces dancers to common folk dance steps\, as well as a few of the dances that are on the dance program that evening. Party starts at 7pm\, and the evening ends at 10pm.
URL:https://burnabyfolkdance.org/event/end-of-season-party-2020-06-02/
LOCATION:Charles Rummel Community Centre\, 3630 Lozells Ave\, Burnaby\, BC\, V5A 2Y8\, Canada
CATEGORIES:Dance Party,Weekly Dancing
ORGANIZER;CN="Chrisanne Pennimpede":MAILTO:bifd@burnabyfolkdance.org
END:VEVENT
BEGIN:VEVENT
DTSTART;TZID=America/Vancouver:20200211T183000
DTEND;TZID=America/Vancouver:20200211T220000
DTSTAMP:20260423T220803
CREATED:20190831T040653Z
LAST-MODIFIED:20190831T040653Z
UID:1189-1581445800-1581458400@burnabyfolkdance.org
SUMMARY:St. Valentine's Day Party 2020-02-11
DESCRIPTION:Join us for St. Valentines Day party. Bring finger food to share. We dance to a prepared playlist created from your requests. Beginners are welcome. First night is Free! No partner or costume required. The evening begins at 6:30pm with the Basic Steps program which introduces dancers to common folk dance steps\, as well as a few of the dances that are on the dance program that evening.\nAt 7pm\, the Valentine’s Party begins\, and the evening ends at 10pm.  Wear pink or red.
URL:https://burnabyfolkdance.org/event/st-valentines-day-party-2020-02-11/
LOCATION:Charles Rummel Community Centre\, 3630 Lozells Ave\, Burnaby\, BC\, V5A 2Y8\, Canada
CATEGORIES:Dance Party,Weekly Dancing
ORGANIZER;CN="Chrisanne Pennimpede":MAILTO:bifd@burnabyfolkdance.org
END:VEVENT
BEGIN:VEVENT
DTSTART;TZID=America/Vancouver:20191203T183000
DTEND;TZID=America/Vancouver:20191203T220000
DTSTAMP:20260423T220803
CREATED:20190831T040652Z
LAST-MODIFIED:20191126T003315Z
UID:1183-1575397800-1575410400@burnabyfolkdance.org
SUMMARY:Holiday Dance Party 2019-12-03
DESCRIPTION:Last dance session before the winter break. Bring finger-food to share and wear an ethnic costume if you like. We dance to a prepared playlist created from your requests!The evening begins at 6:30pm with the Basic Steps program which introduces dancers to common folk dance steps\, as well as a few of the dances that are on the dance program that evening.\nParty starts at 7:10pm and the evening ends at 10pm. The Pirates Band will play a set of dances for us during the evening.
URL:https://burnabyfolkdance.org/event/winter-dance-party-2019-12-03/
LOCATION:Charles Rummel Community Centre\, 3630 Lozells Ave\, Burnaby\, BC\, V5A 2Y8\, Canada
CATEGORIES:Dance Party,Weekly Dancing
ORGANIZER;CN="Chrisanne Pennimpede":MAILTO:bifd@burnabyfolkdance.org
END:VEVENT
BEGIN:VEVENT
DTSTART;TZID=America/Vancouver:20191029T183000
DTEND;TZID=America/Vancouver:20191029T220000
DTSTAMP:20260423T220803
CREATED:20190831T040650Z
LAST-MODIFIED:20190831T040650Z
UID:1178-1572373800-1572386400@burnabyfolkdance.org
SUMMARY:Halloween Party 2019-10-29
DESCRIPTION:Join us in learning folk dances from around the world. Beginners are welcome. First night is Free! No partner or costume required. The evening begins at 6:30pm with the Basic Steps program which introduces dancers to common folk dance steps\, as well as a few of the dances that are on the dance program that evening. Regular programming starts at 7pm. This is a Halloween party! If you like\, wear a silly/scary costume and/or bring a treat to share. Don’t want to\, that’s okay! Come dancing anyway.
URL:https://burnabyfolkdance.org/event/halloween-party-2019-10-29/
LOCATION:Charles Rummel Community Centre\, 3630 Lozells Ave\, Burnaby\, BC\, V5A 2Y8\, Canada
CATEGORIES:Dance Party,Weekly Dancing
ORGANIZER;CN="Chrisanne Pennimpede":MAILTO:bifd@burnabyfolkdance.org
END:VEVENT
BEGIN:VEVENT
DTSTART;TZID=America/Vancouver:20191005T170000
DTEND;TZID=America/Vancouver:20191005T220000
DTSTAMP:20260423T220803
CREATED:20190618T182510Z
LAST-MODIFIED:20190710T192123Z
UID:1113-1570294800-1570312800@burnabyfolkdance.org
SUMMARY:BIFD Celebrating 40 Years Party
DESCRIPTION:Celebrating 40 years\nSaturday\, October 5\, 2019\, 5-10 pm \nPotluck dinner & Folk dancing \nRSVP for Party\n\nCharles Rummel Community Centre \n3630 Lozells Avenue\, Burnaby \nContact: bifd@burnabyfolkdance.org\nDownload flyers here
URL:https://burnabyfolkdance.org/event/bifd-celebrating-40-years-party/
LOCATION:Charles Rummel Community Centre\, 3630 Lozells Ave\, Burnaby\, BC\, V5A 2Y8\, Canada
CATEGORIES:Dance Party
ORGANIZER;CN="Chrisanne Pennimpede":MAILTO:bifd@burnabyfolkdance.org
END:VEVENT
BEGIN:VEVENT
DTSTART;TZID=America/Vancouver:20190604T183000
DTEND;TZID=America/Vancouver:20190604T220000
DTSTAMP:20260423T220803
CREATED:20180704T031741Z
LAST-MODIFIED:20180809T221645Z
UID:867-1559673000-1559685600@burnabyfolkdance.org
SUMMARY:End of Season Party 2019-06-04
DESCRIPTION:Final dance session of the season! Bring finger-food to share and wear an ethnic costume if you like. We dance to a prepared playlist created from your requests!The evening begins at 6:30pm with the Basic Steps program which introduces dancers to common folk dance steps\, as well as a few of the dances that are on the dance program that evening.\nParty starts at 7pm.
URL:https://burnabyfolkdance.org/event/end-of-season-party-2019-06-04/
LOCATION:Charles Rummel Community Centre\, 3630 Lozells Ave\, Burnaby\, BC\, V5A 2Y8\, Canada
CATEGORIES:Dance Party,Weekly Dancing
ORGANIZER;CN="Jane Kupfer":MAILTO:bifd@burnabyfolkdance.org
END:VEVENT
BEGIN:VEVENT
DTSTART;TZID=America/Vancouver:20181204T183000
DTEND;TZID=America/Vancouver:20181204T220000
DTSTAMP:20260423T220803
CREATED:20180704T031730Z
LAST-MODIFIED:20181108T041742Z
UID:845-1543948200-1543960800@burnabyfolkdance.org
SUMMARY:Winter Dance Party 2018-12-04
DESCRIPTION:Last dance session before the winter break. Bring finger-food to share and wear an ethnic costume if you like. We dance to a prepared playlist created from your requests! The evening begins at 6:30pm with the Basic Steps program which introduces dancers to common folk dance steps\, as well as a few of the dances that are on the dance program that evening.\nParty starts at 7pm.
URL:https://burnabyfolkdance.org/event/winter-dance-party-2018-12-04/
LOCATION:Charles Rummel Community Centre\, 3630 Lozells Ave\, Burnaby\, BC\, V5A 2Y8\, Canada
CATEGORIES:Dance Party,Weekly Dancing
ORGANIZER;CN="Jane Kupfer":MAILTO:bifd@burnabyfolkdance.org
END:VEVENT
BEGIN:VEVENT
DTSTART;TZID=America/Vancouver:20181030T183000
DTEND;TZID=America/Vancouver:20181030T220000
DTSTAMP:20260423T220803
CREATED:20180704T031728Z
LAST-MODIFIED:20181003T182711Z
UID:839-1540924200-1540936800@burnabyfolkdance.org
SUMMARY:Halloween Party 2018-10-30
DESCRIPTION:Join us in learning folk dances from around the world. Beginners are welcome. First night is Free! No partner or costume required. The evening begins at 6:30pm with the Basic Steps program which introduces dancers to common folk dance steps\, as well as a few of the dances that are on the dance program that evening.\nRegular programming 7 to 10pm. This is a Halloween party! If you like\, wear a silly/scary costume and/or bring a treat to share. Don’t want to\, that’s okay! Come dancing anyway.
URL:https://burnabyfolkdance.org/event/weekly-dancing-2018-10-30/
LOCATION:Charles Rummel Community Centre\, 3630 Lozells Ave\, Burnaby\, BC\, V5A 2Y8\, Canada
CATEGORIES:Dance Party,Weekly Dancing
ORGANIZER;CN="Jane Kupfer":MAILTO:bifd@burnabyfolkdance.org
END:VEVENT
BEGIN:VEVENT
DTSTART;TZID=UTC:20180605T190000
DTEND;TZID=UTC:20180605T220000
DTSTAMP:20260423T220803
CREATED:20170704T132519Z
LAST-MODIFIED:20180704T031035Z
UID:209-1528225200-1528236000@burnabyfolkdance.org
SUMMARY:Season End Party 2018-06-05
DESCRIPTION:Final dance session of the season! Bring finger-food to share and wear an ethnic costume if you like. We dance to a prepared playlist created from your requests!
URL:https://burnabyfolkdance.org/event/season-end-party-2018-06-05/
LOCATION:Charles Rummel Community Centre\, 3630 Lozells Ave\, Burnaby\, BC\, V5A 2Y8\, Canada
CATEGORIES:Dance Party,Weekly Dancing
ORGANIZER;CN="Jane Kupfer":MAILTO:bifd@burnabyfolkdance.org
END:VEVENT
BEGIN:VEVENT
DTSTART;TZID=UTC:20171205T190000
DTEND;TZID=UTC:20171205T220000
DTSTAMP:20260423T220803
CREATED:20170704T132509Z
LAST-MODIFIED:20170831T135316Z
UID:187-1512500400-1512511200@burnabyfolkdance.org
SUMMARY:Winter Dance Party 2017-12-05
DESCRIPTION:Last dance session before the winter break. Bring finger-food to share and wear an ethnic costume if you like. We dance to a prepared playlist created from your requests! BIFD’s House Band\, The Pirates\, will play a short set of dancing. 
URL:https://burnabyfolkdance.org/event/winter-dance-party-2017-12-05/
LOCATION:Charles Rummel Community Centre\, 3630 Lozells Ave\, Burnaby\, BC\, V5A 2Y8\, Canada
CATEGORIES:Dance Party,Weekly Dancing
ORGANIZER;CN="Jane Kupfer":MAILTO:bifd@burnabyfolkdance.org
END:VEVENT
END:VCALENDAR