BEGIN:VCALENDAR
VERSION:2.0
PRODID:-//Burnaby International Folk Dancers - ECPv6.15.20//NONSGML v1.0//EN
CALSCALE:GREGORIAN
METHOD:PUBLISH
X-WR-CALNAME:Burnaby International Folk Dancers
X-ORIGINAL-URL:https://burnabyfolkdance.org
X-WR-CALDESC:Events for Burnaby International Folk Dancers
REFRESH-INTERVAL;VALUE=DURATION:PT1H
X-Robots-Tag:noindex
X-PUBLISHED-TTL:PT1H
BEGIN:VTIMEZONE
TZID:America/Vancouver
BEGIN:DAYLIGHT
TZOFFSETFROM:-0800
TZOFFSETTO:-0700
TZNAME:PDT
DTSTART:20170312T100000
END:DAYLIGHT
BEGIN:STANDARD
TZOFFSETFROM:-0700
TZOFFSETTO:-0800
TZNAME:PST
DTSTART:20171105T090000
END:STANDARD
BEGIN:DAYLIGHT
TZOFFSETFROM:-0800
TZOFFSETTO:-0700
TZNAME:PDT
DTSTART:20180311T100000
END:DAYLIGHT
BEGIN:STANDARD
TZOFFSETFROM:-0700
TZOFFSETTO:-0800
TZNAME:PST
DTSTART:20181104T090000
END:STANDARD
BEGIN:DAYLIGHT
TZOFFSETFROM:-0800
TZOFFSETTO:-0700
TZNAME:PDT
DTSTART:20190310T100000
END:DAYLIGHT
BEGIN:STANDARD
TZOFFSETFROM:-0700
TZOFFSETTO:-0800
TZNAME:PST
DTSTART:20191103T090000
END:STANDARD
BEGIN:DAYLIGHT
TZOFFSETFROM:-0800
TZOFFSETTO:-0700
TZNAME:PDT
DTSTART:20200308T100000
END:DAYLIGHT
BEGIN:STANDARD
TZOFFSETFROM:-0700
TZOFFSETTO:-0800
TZNAME:PST
DTSTART:20201101T090000
END:STANDARD
BEGIN:DAYLIGHT
TZOFFSETFROM:-0800
TZOFFSETTO:-0700
TZNAME:PDT
DTSTART:20210314T100000
END:DAYLIGHT
BEGIN:STANDARD
TZOFFSETFROM:-0700
TZOFFSETTO:-0800
TZNAME:PST
DTSTART:20211107T090000
END:STANDARD
BEGIN:DAYLIGHT
TZOFFSETFROM:-0800
TZOFFSETTO:-0700
TZNAME:PDT
DTSTART:20220313T100000
END:DAYLIGHT
BEGIN:STANDARD
TZOFFSETFROM:-0700
TZOFFSETTO:-0800
TZNAME:PST
DTSTART:20221106T090000
END:STANDARD
BEGIN:DAYLIGHT
TZOFFSETFROM:-0800
TZOFFSETTO:-0700
TZNAME:PDT
DTSTART:20230312T100000
END:DAYLIGHT
BEGIN:STANDARD
TZOFFSETFROM:-0700
TZOFFSETTO:-0800
TZNAME:PST
DTSTART:20231105T090000
END:STANDARD
BEGIN:DAYLIGHT
TZOFFSETFROM:-0800
TZOFFSETTO:-0700
TZNAME:PDT
DTSTART:20240310T100000
END:DAYLIGHT
BEGIN:STANDARD
TZOFFSETFROM:-0700
TZOFFSETTO:-0800
TZNAME:PST
DTSTART:20241103T090000
END:STANDARD
BEGIN:DAYLIGHT
TZOFFSETFROM:-0800
TZOFFSETTO:-0700
TZNAME:PDT
DTSTART:20250309T100000
END:DAYLIGHT
BEGIN:STANDARD
TZOFFSETFROM:-0700
TZOFFSETTO:-0800
TZNAME:PST
DTSTART:20251102T090000
END:STANDARD
BEGIN:DAYLIGHT
TZOFFSETFROM:-0800
TZOFFSETTO:-0700
TZNAME:PDT
DTSTART:20260308T100000
END:DAYLIGHT
BEGIN:STANDARD
TZOFFSETFROM:-0700
TZOFFSETTO:-0800
TZNAME:PST
DTSTART:20261101T090000
END:STANDARD
END:VTIMEZONE
BEGIN:VTIMEZONE
TZID:America/Los_Angeles
BEGIN:DAYLIGHT
TZOFFSETFROM:-0800
TZOFFSETTO:-0700
TZNAME:PDT
DTSTART:20190310T100000
END:DAYLIGHT
BEGIN:STANDARD
TZOFFSETFROM:-0700
TZOFFSETTO:-0800
TZNAME:PST
DTSTART:20191103T090000
END:STANDARD
BEGIN:DAYLIGHT
TZOFFSETFROM:-0800
TZOFFSETTO:-0700
TZNAME:PDT
DTSTART:20200308T100000
END:DAYLIGHT
BEGIN:STANDARD
TZOFFSETFROM:-0700
TZOFFSETTO:-0800
TZNAME:PST
DTSTART:20201101T090000
END:STANDARD
BEGIN:DAYLIGHT
TZOFFSETFROM:-0800
TZOFFSETTO:-0700
TZNAME:PDT
DTSTART:20210314T100000
END:DAYLIGHT
BEGIN:STANDARD
TZOFFSETFROM:-0700
TZOFFSETTO:-0800
TZNAME:PST
DTSTART:20211107T090000
END:STANDARD
END:VTIMEZONE
BEGIN:VTIMEZONE
TZID:UTC
BEGIN:STANDARD
TZOFFSETFROM:+0000
TZOFFSETTO:+0000
TZNAME:UTC
DTSTART:20170101T000000
END:STANDARD
END:VTIMEZONE
BEGIN:VEVENT
DTSTART;TZID=America/Vancouver:20251104T184500
DTEND;TZID=America/Vancouver:20251104T211500
DTSTAMP:20260423T204040
CREATED:20251104T015607Z
LAST-MODIFIED:20251104T015744Z
UID:3072-1762281900-1762290900@burnabyfolkdance.org
SUMMARY:Tuesday AGM & dancing
DESCRIPTION:This Tuesday is BIFD’s AGM. We will have a short warm-up program so that we can get started with our AGM and plan to finish in plenty of time to continue with our dance programming. We hope to see many of you there for the AGM as we do need to have enough people for a quorum. All are welcome to attend and discuss. For people who pay on a drop-in basis\, membership dues of $5 permits voting at meetings. We dance at Charles Rummel Centre in Burnaby and doors open at 6:45 pm.  \nFor more information and to receive weekly emails with our programs and announcements contact us at bifd@burnabyfolkdance.org.
URL:https://burnabyfolkdance.org/event/tuesday-agm-dancing/
LOCATION:Charles Rummel Community Centre\, 3630 Lozells Ave\, Burnaby\, BC\, V5A 2Y8\, Canada
CATEGORIES:General Meeting,Teaching,Weekly Dancing
ORGANIZER;CN="Burnaby International Folk Dancers Club":MAILTO:bifd@burnabyfolkdance.org
END:VEVENT
BEGIN:VEVENT
DTSTART;TZID=America/Los_Angeles:20200908T190000
DTEND;TZID=America/Los_Angeles:20200908T210000
DTSTAMP:20260423T204040
CREATED:20200901T200716Z
LAST-MODIFIED:20200901T200716Z
UID:1357-1599591600-1599598800@burnabyfolkdance.org
SUMMARY:2020 BIFD AGM
DESCRIPTION:Burnaby International Folk Dancers annual general meeting. It will be held on Zoom.\nTopic: BIFD AGM\nTime: Sep 8\, 2020 07:00 PM Pacific Time (US and Canada)\nZoom Link: https://us02web.zoom.us/j/83103038643\nMeeting ID: 831 0303 8643\nPasscode: Bifd
URL:https://burnabyfolkdance.org/event/2018-bifd-agm-2/
LOCATION:BC
CATEGORIES:General Meeting
ORGANIZER;CN="Burnaby International Folk Dancers Club":MAILTO:bifd@burnabyfolkdance.org
END:VEVENT
BEGIN:VEVENT
DTSTART;TZID=America/Vancouver:20200609T183000
DTEND;TZID=America/Vancouver:20200609T220000
DTSTAMP:20260423T204040
CREATED:20190831T040658Z
LAST-MODIFIED:20200429T054703Z
UID:1206-1591727400-1591740000@burnabyfolkdance.org
SUMMARY:POSTPONED [Annual General Meeting 2020-06-09]
DESCRIPTION:POSTPONED TO SEPTEMBER DUE TO COVID-19. EXACT DATE TO BE DETERMINED.\nDiscuss business at the club’s Annual General Meeting. This session will be mostly planning for the next season. Dancing after the meeting and finishing at 10pm.
URL:https://burnabyfolkdance.org/event/annual-general-meeting-2020-06-09/
LOCATION:Charles Rummel Community Centre\, 3630 Lozells Ave\, Burnaby\, BC\, V5A 2Y8\, Canada
CATEGORIES:General Meeting
ORGANIZER;CN="Chrisanne Pennimpede":MAILTO:bifd@burnabyfolkdance.org
END:VEVENT
BEGIN:VEVENT
DTSTART;TZID=America/Vancouver:20190611T183000
DTEND;TZID=America/Vancouver:20190611T220000
DTSTAMP:20260423T204040
CREATED:20180704T031742Z
LAST-MODIFIED:20180809T221547Z
UID:868-1560277800-1560290400@burnabyfolkdance.org
SUMMARY:Annual General Meeting 2019-06-11
DESCRIPTION:Discuss business at the club’s Annual General Meeting. This session will be mostly planning for the next season.
URL:https://burnabyfolkdance.org/event/annual-general-meeting-2019-06-11/
LOCATION:Charles Rummel Community Centre\, 3630 Lozells Ave\, Burnaby\, BC\, V5A 2Y8\, Canada
CATEGORIES:General Meeting
ORGANIZER;CN="Jane Kupfer":MAILTO:bifd@burnabyfolkdance.org
END:VEVENT
BEGIN:VEVENT
DTSTART;TZID=America/Vancouver:20180918T183000
DTEND;TZID=America/Vancouver:20180918T213000
DTSTAMP:20260423T204040
CREATED:20180704T031723Z
LAST-MODIFIED:20180829T030033Z
UID:833-1537295400-1537306200@burnabyfolkdance.org
SUMMARY:Open House Dancing 2018-09-18
DESCRIPTION:FREE – Find out what folk dancing is! Join us in learning folk dances from around the world starting at 7:30pm. Beginners are welcome. No partner or costume required.\n6:45pm: Special meeting to make some necessary changes to the constitution.\n7:30pm: Open House dancing
URL:https://burnabyfolkdance.org/event/weekly-dancing-2018-09-18/
LOCATION:Charles Rummel Community Centre\, 3630 Lozells Ave\, Burnaby\, BC\, V5A 2Y8\, Canada
CATEGORIES:General Meeting,Weekly Dancing
ORGANIZER;CN="Jane Kupfer":MAILTO:bifd@burnabyfolkdance.org
END:VEVENT
BEGIN:VEVENT
DTSTART;TZID=UTC:20180627T190000
DTEND;TZID=UTC:20180627T210000
DTSTAMP:20260423T204040
CREATED:20180529T120536Z
LAST-MODIFIED:20180529T120536Z
UID:804-1530126000-1530133200@burnabyfolkdance.org
SUMMARY:2018 BIFD AGM
DESCRIPTION:Burnaby International Folk Dancers annual general meeting. It will be held at 620 Seventh Avenue\, Apt. 2\, Buzzer #2. Bring a snack to share.
URL:https://burnabyfolkdance.org/event/2018-bifd-agm/
LOCATION:BC
CATEGORIES:General Meeting
ORGANIZER;CN="Jane Kupfer":MAILTO:bifd@burnabyfolkdance.org
END:VEVENT
END:VCALENDAR