BEGIN:VCALENDAR
VERSION:2.0
PRODID:-//Burnaby International Folk Dancers - ECPv6.15.20//NONSGML v1.0//EN
CALSCALE:GREGORIAN
METHOD:PUBLISH
X-ORIGINAL-URL:https://burnabyfolkdance.org
X-WR-CALDESC:Events for Burnaby International Folk Dancers
REFRESH-INTERVAL;VALUE=DURATION:PT1H
X-Robots-Tag:noindex
X-PUBLISHED-TTL:PT1H
BEGIN:VTIMEZONE
TZID:America/Vancouver
BEGIN:DAYLIGHT
TZOFFSETFROM:-0800
TZOFFSETTO:-0700
TZNAME:PDT
DTSTART:20240310T100000
END:DAYLIGHT
BEGIN:STANDARD
TZOFFSETFROM:-0700
TZOFFSETTO:-0800
TZNAME:PST
DTSTART:20241103T090000
END:STANDARD
BEGIN:DAYLIGHT
TZOFFSETFROM:-0800
TZOFFSETTO:-0700
TZNAME:PDT
DTSTART:20250309T100000
END:DAYLIGHT
BEGIN:STANDARD
TZOFFSETFROM:-0700
TZOFFSETTO:-0800
TZNAME:PST
DTSTART:20251102T090000
END:STANDARD
BEGIN:DAYLIGHT
TZOFFSETFROM:-0800
TZOFFSETTO:-0700
TZNAME:PDT
DTSTART:20260308T100000
END:DAYLIGHT
BEGIN:STANDARD
TZOFFSETFROM:-0700
TZOFFSETTO:-0800
TZNAME:PST
DTSTART:20261101T090000
END:STANDARD
END:VTIMEZONE
BEGIN:VEVENT
DTSTART;VALUE=DATE:20250509
DTEND;VALUE=DATE:20250512
DTSTAMP:20260425T053310
CREATED:20250211T004518Z
LAST-MODIFIED:20250405T154803Z
UID:2748-1746748800-1747007999@burnabyfolkdance.org
SUMMARY:Lyrids Folk Dance Festival 2025
DESCRIPTION:The eleventh Lyrids Folk Dance Festival\, sponsored by Burnaby International Folk Dancers\, will happen May 9-11\, 2025 at Pitt Meadows Heritage Hall an hour drive east of Vancouver\, BC\, Canada.  Our guest artists are Željko Jergan presenting Croatian dances\, and Dimitrios Kontogiannis presenting Greek dances. Zakuska from Seattle\, WA will be the Saturday evening party band.  This is a fragrance-free festival.  For more information and to register: https://lyridsfolkdancefestival.org. 
URL:https://burnabyfolkdance.org/event/lyrids-folk-dance-festival-2025/
LOCATION:Pitt Meadows Heritage Hall\, 12460 Harris Road\, Pitt Meadows\, BC\, V3Y 2J5\, Canada
CATEGORIES:Dance Party,Dance Weekend,Dance Workshop,Festival,Online dance party,Teaching
ORGANIZER;CN="Burnaby International Folk Dancers Club":MAILTO:bifd@burnabyfolkdance.org
END:VEVENT
BEGIN:VEVENT
DTSTART;TZID=America/Vancouver:20250528T124500
DTEND;TZID=America/Vancouver:20250528T150000
DTSTAMP:20260425T053310
CREATED:20250527T234946Z
LAST-MODIFIED:20250527T234946Z
UID:2870-1748436300-1748444400@burnabyfolkdance.org
SUMMARY:Burnaby(IFD) Balkan and International dancing Wednesday Zoom group
DESCRIPTION:Come join us for this FREE weekly Balkan and International folk dance Wednesday Zoom group.  We are open to all who are interested in joining us!  Weekly Wednesday dance sessions from 1:00 pm – 3:00 pm (Pacific Time). Chat time is a 12:45 pm. \nOur monthly parties are the last Wednesday of every month from 1:00 pm – 3:00 pm (Pacific Time). All party dances are led by one of our team members and there is no teaching. \nPlease feel free to stay logged in after the dance program for our friendly meet and greet social time. \nTo join our Zoom session\, click the link below: \nhttps://zoom.us/j/99504932576\nID: 995 0493 2576\nPasscode: Bifd  (Upper case ‘B’ followed by lower case ‘ifd \nHappy dancing! For more information and to receive weekly emails with our programs and announcements contact us at bifd@burnabyfolkdance.org.
URL:https://burnabyfolkdance.org/event/burnabyifd-balkan-and-international-dancing-wednesday-zoom-group/
LOCATION:Online
CATEGORIES:Online dance party,online weekly dancing
ORGANIZER;CN="Burnaby International Folk Dancers Club":MAILTO:bifd@burnabyfolkdance.org
END:VEVENT
END:VCALENDAR