BEGIN:VCALENDAR
VERSION:2.0
PRODID:-//Burnaby International Folk Dancers - ECPv6.15.20//NONSGML v1.0//EN
CALSCALE:GREGORIAN
METHOD:PUBLISH
X-ORIGINAL-URL:https://burnabyfolkdance.org
X-WR-CALDESC:Events for Burnaby International Folk Dancers
REFRESH-INTERVAL;VALUE=DURATION:PT1H
X-Robots-Tag:noindex
X-PUBLISHED-TTL:PT1H
BEGIN:VTIMEZONE
TZID:America/Vancouver
BEGIN:DAYLIGHT
TZOFFSETFROM:-0800
TZOFFSETTO:-0700
TZNAME:PDT
DTSTART:20240310T100000
END:DAYLIGHT
BEGIN:STANDARD
TZOFFSETFROM:-0700
TZOFFSETTO:-0800
TZNAME:PST
DTSTART:20241103T090000
END:STANDARD
BEGIN:DAYLIGHT
TZOFFSETFROM:-0800
TZOFFSETTO:-0700
TZNAME:PDT
DTSTART:20250309T100000
END:DAYLIGHT
BEGIN:STANDARD
TZOFFSETFROM:-0700
TZOFFSETTO:-0800
TZNAME:PST
DTSTART:20251102T090000
END:STANDARD
BEGIN:DAYLIGHT
TZOFFSETFROM:-0800
TZOFFSETTO:-0700
TZNAME:PDT
DTSTART:20260308T100000
END:DAYLIGHT
BEGIN:STANDARD
TZOFFSETFROM:-0700
TZOFFSETTO:-0800
TZNAME:PST
DTSTART:20261101T090000
END:STANDARD
END:VTIMEZONE
BEGIN:VEVENT
DTSTART;TZID=America/Vancouver:20250319T004500
DTEND;TZID=America/Vancouver:20250319T150000
DTSTAMP:20260425T083048
CREATED:20250317T235634Z
LAST-MODIFIED:20250318T000846Z
UID:2783-1742345100-1742396400@burnabyfolkdance.org
SUMMARY:Burnaby(IFD) Balkan and International folk dance Wednesday Zoom group
DESCRIPTION:Come join us for this FREE weekly Balkan and International folk dance Wednesday Zoom group.  We are open to all who are interested in joining us!  Weekly Wednesday dance sessions from 1:00 pm – 3:00 pm (Pacific Time). Chat time is a 12:45 pm. \nOur monthly parties are the last Wednesday of every month from 1:00 pm – 3:00 pm (Pacific Time). All party dances are led by one of our team members and there is no teaching. \nPlease feel free to stay logged in after the dance program for our friendly meet and greet social time. \nTo join our Zoom session\, click the link below: \nhttps://zoom.us/j/99504932576\nID: 995 0493 2576\nPasscode: Bifd  (Upper case ‘B’ followed by lower case ‘ifd \nHappy dancing! For more information and to receive weekly emails with our programs and announcements contact us at bifd@burnabyfolkdance.org.
URL:https://burnabyfolkdance.org/event/burnabyifd-balkan-and-international-folk-dance-wednesday-zoom-group/
LOCATION:Online
CATEGORIES:online weekly dancing,Teaching
ORGANIZER;CN="Burnaby International Folk Dancers Club":MAILTO:bifd@burnabyfolkdance.org
END:VEVENT
BEGIN:VEVENT
DTSTART;TZID=America/Vancouver:20250326T124500
DTEND;TZID=America/Vancouver:20250326T150000
DTSTAMP:20260425T083048
CREATED:20250324T235020Z
LAST-MODIFIED:20250324T235247Z
UID:2795-1742993100-1743001200@burnabyfolkdance.org
SUMMARY:Balkan & International dancing Wednesday Zoom group end of the month party!
DESCRIPTION:It’s the last Wednesday of the month\, which means it’s party-time! Our theme this month is springtime\, and we hope everyone is enjoying warmer weather\, spring flowers\, longer hours of daylight and lots of sunshine! All party dances are led by one of our team members.  Please invite your dance friends who prefer Zoom dancing when there is no teaching just someone leading the dances. \nCome join us for this FREE weekly Balkan and International dancing Zoom session.  We are open to all who are interested in joining us!  Weekly Wednesday dance sessions are from 1:00 pm – 3:00 pm (Pacific Time). Chat time is a 12:45 pm. Please feel free to stay logged in after the dance program for our friendly meet and greet social time. \nTo join our Zoom session\, click the link below: \nhttps://zoom.us/j/99504932576\nID: 995 0493 2576\nPasscode: Bifd  (Upper case ‘B’ followed by lower case ‘ifd \nFor more information and to receive weekly emails with our programs and announcements contact us at bifd@burnabyfolkdance.org.
URL:https://burnabyfolkdance.org/event/burnabyifd-balkan-and-international-folk-dance-wednesday-zoom-group-2/
LOCATION:Online
CATEGORIES:Online dance party,online weekly dancing
ORGANIZER;CN="Burnaby International Folk Dancers Club":MAILTO:bifd@burnabyfolkdance.org
END:VEVENT
END:VCALENDAR