BEGIN:VCALENDAR
VERSION:2.0
PRODID:-//Burnaby International Folk Dancers - ECPv6.15.20//NONSGML v1.0//EN
CALSCALE:GREGORIAN
METHOD:PUBLISH
X-WR-CALNAME:Burnaby International Folk Dancers
X-ORIGINAL-URL:https://burnabyfolkdance.org
X-WR-CALDESC:Events for Burnaby International Folk Dancers
REFRESH-INTERVAL;VALUE=DURATION:PT1H
X-Robots-Tag:noindex
X-PUBLISHED-TTL:PT1H
BEGIN:VTIMEZONE
TZID:America/Vancouver
BEGIN:DAYLIGHT
TZOFFSETFROM:-0800
TZOFFSETTO:-0700
TZNAME:PDT
DTSTART:20220313T100000
END:DAYLIGHT
BEGIN:STANDARD
TZOFFSETFROM:-0700
TZOFFSETTO:-0800
TZNAME:PST
DTSTART:20221106T090000
END:STANDARD
BEGIN:DAYLIGHT
TZOFFSETFROM:-0800
TZOFFSETTO:-0700
TZNAME:PDT
DTSTART:20230312T100000
END:DAYLIGHT
BEGIN:STANDARD
TZOFFSETFROM:-0700
TZOFFSETTO:-0800
TZNAME:PST
DTSTART:20231105T090000
END:STANDARD
BEGIN:DAYLIGHT
TZOFFSETFROM:-0800
TZOFFSETTO:-0700
TZNAME:PDT
DTSTART:20240310T100000
END:DAYLIGHT
BEGIN:STANDARD
TZOFFSETFROM:-0700
TZOFFSETTO:-0800
TZNAME:PST
DTSTART:20241103T090000
END:STANDARD
END:VTIMEZONE
BEGIN:VEVENT
DTSTART;TZID=America/Vancouver:20231129T130000
DTEND;TZID=America/Vancouver:20231129T150000
DTSTAMP:20260425T054410
CREATED:20231129T191920Z
LAST-MODIFIED:20231129T191920Z
UID:2229-1701262800-1701270000@burnabyfolkdance.org
SUMMARY:Wednesday afternoon dance party online
DESCRIPTION:It’s Wednesday afternoon Zoom party time! We have a great program for you and hope you all can tune in this week! Please let your folk dance friends know about our party\, as some folks prefer joining us for our monthly parties where there’s no teaching\, just our team leading the dances for you all to enjoy with us. \nPlease see our Zoom link and passcode below. Everyone is welcome to join us for chat time at 12:45 pm. \n\nPlease feel free to stay logged in after the dance program for our friendly meet and greet social time\nWe’re all looking forward to seeing you there!\nTo join our Zoom session\, click the link below\n\nhttps://zoom.us/j/99504932576\nID: 995 0493 2576 \nPasscode: Bifd (Upper case B followed by lower case ifd) \nFor more information and to receive our reminder emails and announcements contact us at bifd@burnabyfolkdance.org.
URL:https://burnabyfolkdance.org/event/wednesday-afternoon-dance-party-online-2/
LOCATION:Online
CATEGORIES:Dance Party,online weekly dancing
ORGANIZER;CN="Burnaby International Folk Dancers Club":MAILTO:bifd@burnabyfolkdance.org
END:VEVENT
BEGIN:VEVENT
DTSTART;TZID=America/Vancouver:20231101T130000
DTEND;TZID=America/Vancouver:20231101T150000
DTSTAMP:20260425T054410
CREATED:20231031T041725Z
LAST-MODIFIED:20231031T041725Z
UID:2212-1698843600-1698850800@burnabyfolkdance.org
SUMMARY:Wednesday afternoons Balkan and International dancing online
DESCRIPTION:Come join us for this FREE weekly Balkan and International dancing Zoom session.  We are open to all who are interested in joining us!  Weekly Wednesday afternoon dance sessions 1:00 pm – 3:00 pm (Pacific Time). Chat time is a 12:45 pm. Please feel free to stay logged in after the dance program for our friendly meet and greet social time. \nWe look forward to seeing many of you at our Wednesday afternoon (1:00 – 3:00 pm\, Pacific time) Zoom group!  \nMonthly parties: The last Wednesday of every month is our party from 1:00 pm – 3:00 pm (Pacific Time).  All party dances are led by one of our team members.  Please invite your dance friends who prefer Zoom dancing when there is no teaching just someone leading the dances. \nTo join our Zoom session\, click the link below: \nhttps://zoom.us/j/99504932576\nID: 995 0493 2576\nPasscode: Bifd  (Upper case ‘B’ followed by lower case ‘ifd \nFor more information and to receive weekly emails with our programs and announcements contact us at bifd@burnabyfolkdance.org.
URL:https://burnabyfolkdance.org/event/wednesday-afternoons-balkan-and-international-dancing-online/
LOCATION:Online
CATEGORIES:online weekly dancing
ORGANIZER;CN="Burnaby International Folk Dancers Club":MAILTO:bifd@burnabyfolkdance.org
END:VEVENT
BEGIN:VEVENT
DTSTART;TZID=America/Vancouver:20231025T130000
DTEND;TZID=America/Vancouver:20231025T150000
DTSTAMP:20260425T054410
CREATED:20231024T034327Z
LAST-MODIFIED:20231024T034521Z
UID:2201-1698238800-1698246000@burnabyfolkdance.org
SUMMARY:Wednesday afternoon Halloween dance party online
DESCRIPTION:Join us for our end-of-the-month Zoom party on Wednesday\, October 25\, 2023 from 1:00 – 3:00 pm (Pacific time).  It’ll be a Halloween party\, so wear a costume\, hat\, or whatever suits your fancy. We have a great program for you and hope you all can tune in this week!  Please let your folk dance friends know about our party\, as some folks prefer joining us for our monthly parties where there’s no teaching\, just our team leading the dances for you all to enjoy with us.   \nWe dance every Wednesday afternoons from 1:00 – 3:00 pm (Pacific Time). Join us weekly for this Free Balkan and International folk dance afternoon on Zoom. Tune in at 12:45 pm for chat time. Everyone is welcome!  \nMonthly parties: The last Wednesday of every month is our party from 1:00 pm – 3:00 pm (Pacific Time).  All party dances are led by one of our team members.  \nTo join our Zoom session\, click the link below\nhttps://zoom.us/j/99504932576\nID: 995 0493 2576\nPasscode: Bifd  (Upper case B followed by lower case ifd) \nFor more information and to receive our reminder emails and announcements contact us at bifd@burnabyfolkdance.org.
URL:https://burnabyfolkdance.org/event/wednesday-afternoon-halloween-dance-party-online/
LOCATION:Online
CATEGORIES:Dance Party,online weekly dancing
ORGANIZER;CN="Burnaby International Folk Dancers Club":MAILTO:bifd@burnabyfolkdance.org
END:VEVENT
BEGIN:VEVENT
DTSTART;TZID=America/Vancouver:20231018T130000
DTEND;TZID=America/Vancouver:20231018T150000
DTSTAMP:20260425T054410
CREATED:20231017T230319Z
LAST-MODIFIED:20231017T230319Z
UID:2189-1697634000-1697641200@burnabyfolkdance.org
SUMMARY:Balkan and International dancing online
DESCRIPTION:Come join us for this FREE weekly Balkan and International dancing Zoom session.  We are open to all who are interested in joining us!  Weekly Wednesday afternoon dance sessions 1:00 pm – 3:00 pm (Pacific Time). Chat time is a 12:45 pm. Please feel free to stay logged in after the dance program for our friendly meet and greet social time. \nWe look forward to seeing many of you at our Wednesday afternoon (1:00 – 3:00 pm\, Pacific time) Zoom group!  \nMonthly parties: The last Wednesday of every month is our party from 1:00 pm – 3:00 pm (Pacific Time).  All party dances are led by one of our team members.  Please invite your dance friends who prefer Zoom dancing when there is no teaching just someone leading the dances. \nTo join our Zoom session\, click the link below: \nhttps://zoom.us/j/99504932576\nID: 995 0493 2576\nPasscode: Bifd  (Upper case ‘B’ followed by lower case ‘ifd \nFor more information and to receive weekly emails with our programs and announcements contact us at bifd@burnabyfolkdance.org.
URL:https://burnabyfolkdance.org/event/balkan-and-international-dancing-online/
LOCATION:Online
CATEGORIES:online weekly dancing
ORGANIZER;CN="Surrey International Folk Dancers":MAILTO:surreyfolkdance@gmail.com
END:VEVENT
BEGIN:VEVENT
DTSTART;TZID=America/Vancouver:20231011T130000
DTEND;TZID=America/Vancouver:20231011T150000
DTSTAMP:20260425T054410
CREATED:20231010T192835Z
LAST-MODIFIED:20231010T193023Z
UID:2182-1697029200-1697036400@burnabyfolkdance.org
SUMMARY:Balkan and International folk dancing online
DESCRIPTION:Come join us for this FREE weekly Balkan and International folk dance Zoom session.  We are open to all who are interested in joining us!  Weekly Wednesday afternoon dance sessions 1:00 pm – 3:00 pm (Pacific Time). Chat time is a 12:45 pm. Please feel free to stay logged in after the dance program for our friendly meet and greet social time. \nWe look forward to seeing many of you at our Wednesday afternoon (1:00 – 3:00 pm\, Pacific time) Zoom group!  \nMonthly parties: The last Wednesday of every month is our party from 1:00 pm – 3:00 pm (Pacific Time).  All party dances are led by one of our team members.  Please invite your folk dance friends who prefer Zoom dancing when there is no teaching just someone leading the dances. \nTo join our Zoom session\, click the link below: \nhttps://zoom.us/j/99504932576\nID: 995 0493 2576\nPasscode: Bifd  (Upper case ‘B’ followed by lower case ‘ifd \nFor more information and to receive weekly emails with our programs and announcements contact us at bifd@burnabyfolkdance.org.
URL:https://burnabyfolkdance.org/event/2182/
LOCATION:Online
CATEGORIES:online weekly dancing
ORGANIZER;CN="Burnaby International Folk Dancers Club":MAILTO:bifd@burnabyfolkdance.org
END:VEVENT
BEGIN:VEVENT
DTSTART;TZID=America/Vancouver:20231004T130000
DTEND;TZID=America/Vancouver:20231004T150000
DTSTAMP:20260425T054410
CREATED:20231003T001553Z
LAST-MODIFIED:20231003T002932Z
UID:2172-1696424400-1696431600@burnabyfolkdance.org
SUMMARY:Zoom 3 year anniversary party
DESCRIPTION:We are celebrating 3 years dancing online on Wednesday\, October 4\, 2023 from 1:00 pm – 3:00 pm (PT). We are having several guest teachers that helped make our Zoom group a success over the years including Jaap Leegwater. Everyone is welcome.  Here is our Zoom link and passcode.  \nhttps://zoom.us/j/99504932576\nID: 995 0493 2576\nPasscode: Bifd  (Upper case B followed by lower case ifd) \nFor more information and to receive weekly emails with our programs and announcements contact us at bifd@burnabyfolkdance.org. 
URL:https://burnabyfolkdance.org/event/zoom-3-year-anniversary-party/
LOCATION:Online
CATEGORIES:Dance Party,online weekly dancing
ORGANIZER;CN="Burnaby International Folk Dancers Club":MAILTO:bifd@burnabyfolkdance.org
END:VEVENT
BEGIN:VEVENT
DTSTART;TZID=America/Vancouver:20230920T130000
DTEND;TZID=America/Vancouver:20230920T150000
DTSTAMP:20260425T054410
CREATED:20230905T154716Z
LAST-MODIFIED:20230905T154716Z
UID:2156-1695214800-1695222000@burnabyfolkdance.org
SUMMARY:Wednesday afternoon dancing online
DESCRIPTION:Come join us for this FREE weekly Balkan and International folk dance Zoom session.  We are open to all who are interested in joining us!  Weekly Wednesday afternoon dance sessions 1:00 pm – 3:00 pm (Pacific Time). Chat time is a 12:45 pm. Please feel free to stay logged in after the dance program for our friendly meet and greet social time. \nWe look forward to seeing many of you at our Wednesday afternoon (1:00 – 3:00 pm\, Pacific time) Zoom group!  \nMonthly parties: The last Wednesday of every month is our party from 1:00 pm – 3:00 pm (Pacific Time).  All party dances are led by one of our team members.  Please invite your folk dance friends who prefer Zoom dancing when there is no teaching just someone leading the dances. \nTo join our Zoom session\, click the link below: \nhttps://zoom.us/j/99504932576\nID: 995 0493 2576\nPasscode: Bifd  (Upper case ‘B’ followed by lower case ‘ifd \nFor more information and to receive weekly emails with our programs and announcements contact us at bifd@burnabyfolkdance.org.
URL:https://burnabyfolkdance.org/event/wednesday-afternoon-dancing-online-10/
LOCATION:Online
CATEGORIES:online weekly dancing
ORGANIZER;CN="Burnaby International Folk Dancers Club":MAILTO:bifd@burnabyfolkdance.org
END:VEVENT
BEGIN:VEVENT
DTSTART;TZID=America/Vancouver:20230913T130000
DTEND;TZID=America/Vancouver:20230913T150000
DTSTAMP:20260425T054410
CREATED:20230905T152852Z
LAST-MODIFIED:20230905T154552Z
UID:2152-1694610000-1694617200@burnabyfolkdance.org
SUMMARY:Wednesday afternoon dancing online
DESCRIPTION:Come join us for this FREE weekly Balkan and International folk dance Zoom session.  We are open to all who are interested in joining us!  Weekly Wednesday afternoon dance sessions 1:00 pm – 3:00 pm (Pacific Time). Chat time is a 12:45 pm. Please feel free to stay logged in after the dance program for our friendly meet and greet social time. \nWe look forward to seeing many of you at our Wednesday afternoon (1:00 – 3:00 pm\, Pacific time) Zoom group!  \nMonthly parties: The last Wednesday of every month is our party from 1:00 pm – 3:00 pm (Pacific Time).  All party dances are led by one of our team members.  Please invite your folk dance friends who prefer Zoom dancing when there is no teaching just someone leading the dances. \nTo join our Zoom session\, click the link below: \nhttps://zoom.us/j/99504932576\nID: 995 0493 2576\nPasscode: Bifd  (Upper case ‘B’ followed by lower case ‘ifd \nFor more information and to receive weekly emails with our programs and announcements contact us at bifd@burnabyfolkdance.org.
URL:https://burnabyfolkdance.org/event/wednesday-afternoon-dancing-online-9/
LOCATION:Online
CATEGORIES:online weekly dancing
ORGANIZER;CN="Burnaby International Folk Dancers Club":MAILTO:bifd@burnabyfolkdance.org
END:VEVENT
BEGIN:VEVENT
DTSTART;TZID=America/Vancouver:20230906T130000
DTEND;TZID=America/Vancouver:20230906T150000
DTSTAMP:20260425T054410
CREATED:20230905T152717Z
LAST-MODIFIED:20230905T154531Z
UID:2150-1694005200-1694012400@burnabyfolkdance.org
SUMMARY:Wednesday afternoon dancing online
DESCRIPTION:Come join us for this FREE weekly Balkan and International folk dance Zoom session.  We are open to all who are interested in joining us!  Weekly Wednesday afternoon dance sessions 1:00 pm – 3:00 pm (Pacific Time). Chat time is a 12:45 pm. Please feel free to stay logged in after the dance program for our friendly meet and greet social time. \nWe look forward to seeing many of you at our Wednesday afternoon (1:00 – 3:00 pm\, Pacific time) Zoom group!  \nMonthly parties: The last Wednesday of every month is our party from 1:00 pm – 3:00 pm (Pacific Time).  All party dances are led by one of our team members.  Please invite your folk dance friends who prefer Zoom dancing when there is no teaching just someone leading the dances. \nTo join our Zoom session\, click the link below: \nhttps://zoom.us/j/99504932576\nID: 995 0493 2576\nPasscode: Bifd  (Upper case ‘B’ followed by lower case ‘ifd \nFor more information and to receive weekly emails with our programs and announcements contact us at bifd@burnabyfolkdance.org.
URL:https://burnabyfolkdance.org/event/wednesday-afternoon-dancing-online-8/
LOCATION:Online
CATEGORIES:online weekly dancing
ORGANIZER;CN="Burnaby International Folk Dancers Club":MAILTO:bifd@burnabyfolkdance.org
END:VEVENT
BEGIN:VEVENT
DTSTART;TZID=America/Vancouver:20230802T130000
DTEND;TZID=America/Vancouver:20230802T150000
DTSTAMP:20260425T054410
CREATED:20230801T045913Z
LAST-MODIFIED:20230801T045913Z
UID:2134-1690981200-1690988400@burnabyfolkdance.org
SUMMARY:Wednesday afternoon dancing online
DESCRIPTION:Come join us for this FREE weekly Balkan and International folk dance Zoom session.  We are open to all who are interested in joining us!  Weekly Wednesday afternoon dance sessions 1:00 pm – 3:00 pm (Pacific Time). Chat time is a 12:45 pm. Please feel free to stay logged in after the dance program for our friendly meet and greet social time. \nWe look forward to seeing many of you at our Wednesday afternoon (1:00 – 3:00 pm\, Pacific time) Zoom group!  \nMonthly parties: The last Wednesday of every month is our party from 1:00 pm – 3:00 pm (Pacific Time).  All party dances are led by one of our team members.  Please invite your folk dance friends who prefer Zoom dancing when there is no teaching just someone leading the dances. \nTo join our Zoom session\, click the link below: \nhttps://zoom.us/j/99504932576\nID: 995 0493 2576\nPasscode: Bifd  (Upper case ‘B’ followed by lower case ‘ifd \nFor more information and to receive weekly emails with our programs and announcements contact us at bifd@burnabyfolkdance.org.
URL:https://burnabyfolkdance.org/event/wednesday-afternoon-dancing-online-7/
LOCATION:Online
CATEGORIES:online weekly dancing,Weekly Dancing
ORGANIZER;CN="Burnaby International Folk Dancers Club":MAILTO:bifd@burnabyfolkdance.org
END:VEVENT
BEGIN:VEVENT
DTSTART;TZID=America/Vancouver:20230621T130000
DTEND;TZID=America/Vancouver:20230621T150000
DTSTAMP:20260425T054410
CREATED:20230620T193215Z
LAST-MODIFIED:20230620T193801Z
UID:2094-1687352400-1687359600@burnabyfolkdance.org
SUMMARY:Wednesday afternoon online dancing
DESCRIPTION:Join us for this FREE weekly Balkan and International folk dance Zoom session.  This week we’re excited to invite you for our Summer Solstice folk dance program. Everyone’s welcome to join us for this festive program welcoming in the summer. \nWe are open to all who are interested in joining us!  Weekly Wednesday afternoon dance sessions 1:00 pm – 3:00 pm (Pacific Time). Chat time is a 12:45 pm. Please feel free to stay logged in after the dance program for our friendly meet and greet social time. \nWe look forward to seeing many of you at our Wednesday afternoon (1:00 – 3:00 pm\, Pacific time) Zoom group!  \nMonthly parties: The last Wednesday of every month is our party from 1:00 pm – 3:00 pm (Pacific Time).  All party dances are led by one of our team members.  Please invite your folk dance friends who prefer Zoom dancing when there is no teaching just someone leading the dances. \nTo join our Zoom session\, click the link below: \nhttps://zoom.us/j/99504932576\nID: 995 0493 2576\nPasscode: Bifd  (Upper case ‘B’ followed by lower case ‘ifd \nFor more information and to receive weekly emails with our programs and announcements contact us at bifd@burnabyfolkdance.org.
URL:https://burnabyfolkdance.org/event/2094/
LOCATION:Online
CATEGORIES:online weekly dancing
ORGANIZER;CN="Burnaby International Folk Dancers Club":MAILTO:bifd@burnabyfolkdance.org
END:VEVENT
END:VCALENDAR