BEGIN:VCALENDAR
VERSION:2.0
PRODID:-//Burnaby International Folk Dancers - ECPv6.15.20//NONSGML v1.0//EN
CALSCALE:GREGORIAN
METHOD:PUBLISH
X-ORIGINAL-URL:https://burnabyfolkdance.org
X-WR-CALDESC:Events for Burnaby International Folk Dancers
REFRESH-INTERVAL;VALUE=DURATION:PT1H
X-Robots-Tag:noindex
X-PUBLISHED-TTL:PT1H
BEGIN:VTIMEZONE
TZID:America/Vancouver
BEGIN:DAYLIGHT
TZOFFSETFROM:-0800
TZOFFSETTO:-0700
TZNAME:PDT
DTSTART:20250309T100000
END:DAYLIGHT
BEGIN:STANDARD
TZOFFSETFROM:-0700
TZOFFSETTO:-0800
TZNAME:PST
DTSTART:20251102T090000
END:STANDARD
BEGIN:DAYLIGHT
TZOFFSETFROM:-0800
TZOFFSETTO:-0700
TZNAME:PDT
DTSTART:20260308T100000
END:DAYLIGHT
BEGIN:STANDARD
TZOFFSETFROM:-0700
TZOFFSETTO:-0800
TZNAME:PST
DTSTART:20261101T090000
END:STANDARD
BEGIN:DAYLIGHT
TZOFFSETFROM:-0800
TZOFFSETTO:-0700
TZNAME:PDT
DTSTART:20270314T100000
END:DAYLIGHT
BEGIN:STANDARD
TZOFFSETFROM:-0700
TZOFFSETTO:-0800
TZNAME:PST
DTSTART:20271107T090000
END:STANDARD
END:VTIMEZONE
BEGIN:VEVENT
DTSTART;TZID=America/Vancouver:20260128T124500
DTEND;TZID=America/Vancouver:20260128T150000
DTSTAMP:20260425T094812
CREATED:20260127T194702Z
LAST-MODIFIED:20260127T195010Z
UID:3187-1769604300-1769612400@burnabyfolkdance.org
SUMMARY:Burnaby(IFD) Balkan and International folk dance Wednesday Zoom group month-end party
DESCRIPTION:Come join us for this FREE weekly Balkan and International folk dance Wednesday Zoom group.  We are open to all who are interested in joining us!  Weekly Wednesday dance sessions from 1:00 pm – 3:00 pm (Pacific Time). Chat time is a 12:45 pm. \nOur month-end party is this Wednesday\, January 28th from and all party dances are led by one of our team members and there is no teaching. \nPlease feel free to stay logged in after the dance program for our friendly meet and greet social time. \nTo join our Zoom session\, click the link below: \nhttps://zoom.us/j/99504932576\nID: 995 0493 2576\nPasscode: Bifd  (Upper case ‘B’ followed by lower case ‘ifd \nHappy dancing! For more information and to receive weekly emails with our programs and announcements contact us at bifd@burnabyfolkdance.org.
URL:https://burnabyfolkdance.org/event/burnabyifd-3/
LOCATION:Online
CATEGORIES:Audience participation,Online dance party,online weekly dancing
ORGANIZER;CN="Burnaby International Folk Dancers Club":MAILTO:bifd@burnabyfolkdance.org
END:VEVENT
BEGIN:VEVENT
DTSTART;TZID=America/Vancouver:20260204T124500
DTEND;TZID=America/Vancouver:20260204T150000
DTSTAMP:20260425T094812
CREATED:20260202T012553Z
LAST-MODIFIED:20260202T012553Z
UID:3205-1770209100-1770217200@burnabyfolkdance.org
SUMMARY:Burnaby(IFD) Balkan and International folk dance Wednesday Zoom group
DESCRIPTION:Come join us for this FREE weekly Balkan and International folk dance Wednesday Zoom group.  We are open to all who are interested in joining us!  Weekly Wednesday dance sessions from 1:00 pm – 3:00 pm (Pacific Time). Chat time is a 12:45 pm. \nOur monthly parties are the last Wednesday of every month from 1:00 pm – 3:00 pm (Pacific Time). All party dances are led by one of our team members and there is no teaching. \nPlease feel free to stay logged in after the dance program for our friendly meet and greet social time. \nTo join our Zoom session\, click the link below: \nhttps://zoom.us/j/99504932576\nID: 995 0493 2576\nPasscode: Bifd  (Upper case ‘B’ followed by lower case ‘ifd \nHappy dancing! For more information and to receive weekly emails with our programs and announcements contact us at bifd@burnabyfolkdance.org.
URL:https://burnabyfolkdance.org/event/burnabyifd-balkan-and-international-folk-dance-wednesday-zoom-group-27/
LOCATION:Online
CATEGORIES:Audience participation,online weekly dancing,Teaching
ORGANIZER;CN="Burnaby International Folk Dancers Club":MAILTO:bifd@burnabyfolkdance.org
END:VEVENT
BEGIN:VEVENT
DTSTART;TZID=America/Vancouver:20260211T124500
DTEND;TZID=America/Vancouver:20260211T150000
DTSTAMP:20260425T094812
CREATED:20260202T012656Z
LAST-MODIFIED:20260202T012656Z
UID:3207-1770813900-1770822000@burnabyfolkdance.org
SUMMARY:Burnaby(IFD) Balkan and International folk dance Wednesday Zoom group
DESCRIPTION:Come join us for this FREE weekly Balkan and International folk dance Wednesday Zoom group.  We are open to all who are interested in joining us!  Weekly Wednesday dance sessions from 1:00 pm – 3:00 pm (Pacific Time). Chat time is a 12:45 pm. \nOur monthly parties are the last Wednesday of every month from 1:00 pm – 3:00 pm (Pacific Time). All party dances are led by one of our team members and there is no teaching. \nPlease feel free to stay logged in after the dance program for our friendly meet and greet social time. \nTo join our Zoom session\, click the link below: \nhttps://zoom.us/j/99504932576\nID: 995 0493 2576\nPasscode: Bifd  (Upper case ‘B’ followed by lower case ‘ifd \nHappy dancing! For more information and to receive weekly emails with our programs and announcements contact us at bifd@burnabyfolkdance.org.
URL:https://burnabyfolkdance.org/event/burnabyifd-balkan-and-international-folk-dance-wednesday-zoom-group-28/
LOCATION:Online
CATEGORIES:Audience participation,online weekly dancing,Teaching
ORGANIZER;CN="Burnaby International Folk Dancers Club":MAILTO:bifd@burnabyfolkdance.org
END:VEVENT
BEGIN:VEVENT
DTSTART;TZID=America/Vancouver:20260218T124500
DTEND;TZID=America/Vancouver:20260218T150000
DTSTAMP:20260425T094812
CREATED:20260202T012806Z
LAST-MODIFIED:20260202T012806Z
UID:3209-1771418700-1771426800@burnabyfolkdance.org
SUMMARY:Burnaby(IFD) Balkan and International folk dance Wednesday Zoom group
DESCRIPTION:Come join us for this FREE weekly Balkan and International folk dance Wednesday Zoom group.  We are open to all who are interested in joining us!  Weekly Wednesday dance sessions from 1:00 pm – 3:00 pm (Pacific Time). Chat time is a 12:45 pm. \nOur monthly parties are the last Wednesday of every month from 1:00 pm – 3:00 pm (Pacific Time). All party dances are led by one of our team members and there is no teaching. \nPlease feel free to stay logged in after the dance program for our friendly meet and greet social time. \nTo join our Zoom session\, click the link below: \nhttps://zoom.us/j/99504932576\nID: 995 0493 2576\nPasscode: Bifd  (Upper case ‘B’ followed by lower case ‘ifd \nHappy dancing! For more information and to receive weekly emails with our programs and announcements contact us at bifd@burnabyfolkdance.org.
URL:https://burnabyfolkdance.org/event/burnabyifd-balkan-and-international-folk-dance-wednesday-zoom-group-29/
LOCATION:Online
CATEGORIES:Audience participation,online weekly dancing,Teaching
ORGANIZER;CN="Burnaby International Folk Dancers Club":MAILTO:bifd@burnabyfolkdance.org
END:VEVENT
BEGIN:VEVENT
DTSTART;TZID=America/Vancouver:20260225T124500
DTEND;TZID=America/Vancouver:20260225T150000
DTSTAMP:20260425T094812
CREATED:20260202T012918Z
LAST-MODIFIED:20260202T012918Z
UID:3211-1772023500-1772031600@burnabyfolkdance.org
SUMMARY:Burnaby(IFD) Balkan and International folk dance Wednesday Zoom group
DESCRIPTION:Come join us for this FREE weekly Balkan and International folk dance Wednesday Zoom group.  We are open to all who are interested in joining us!  Weekly Wednesday dance sessions from 1:00 pm – 3:00 pm (Pacific Time). Chat time is a 12:45 pm. \nOur monthly parties are the last Wednesday of every month from 1:00 pm – 3:00 pm (Pacific Time). All party dances are led by one of our team members and there is no teaching. \nPlease feel free to stay logged in after the dance program for our friendly meet and greet social time. \nTo join our Zoom session\, click the link below: \nhttps://zoom.us/j/99504932576\nID: 995 0493 2576\nPasscode: Bifd  (Upper case ‘B’ followed by lower case ‘ifd \nHappy dancing! For more information and to receive weekly emails with our programs and announcements contact us at bifd@burnabyfolkdance.org.
URL:https://burnabyfolkdance.org/event/burnabyifd-balkan-and-international-folk-dance-wednesday-zoom-group-30/
LOCATION:Online
CATEGORIES:Audience participation,online weekly dancing,Teaching
ORGANIZER;CN="Burnaby International Folk Dancers Club":MAILTO:bifd@burnabyfolkdance.org
END:VEVENT
BEGIN:VEVENT
DTSTART;TZID=America/Vancouver:20260304T124500
DTEND;TZID=America/Vancouver:20260304T150000
DTSTAMP:20260425T094812
CREATED:20260303T195209Z
LAST-MODIFIED:20260303T195209Z
UID:3220-1772628300-1772636400@burnabyfolkdance.org
SUMMARY:Burnaby(IFD) Balkan and International folk dance Wednesday Zoom group
DESCRIPTION:Come join us for this FREE weekly Balkan and International folk dance Wednesday Zoom group.  We are open to all who are interested in joining us!  Weekly Wednesday dance sessions from 1:00 pm – 3:00 pm (Pacific Time). Chat time is a 12:45 pm. \nOur monthly parties are the last Wednesday of every month from 1:00 pm – 3:00 pm (Pacific Time). All party dances are led by one of our team members and there is no teaching. \nPlease feel free to stay logged in after the dance program for our friendly meet and greet social time. \nTo join our Zoom session\, click the link below: \nhttps://zoom.us/j/99504932576\nID: 995 0493 2576\nPasscode: Bifd  (Upper case ‘B’ followed by lower case ‘ifd \nHappy dancing! For more information and to receive weekly emails with our programs and announcements contact us at bifd@burnabyfolkdance.org.
URL:https://burnabyfolkdance.org/event/burnabyifd-balkan-and-international-folk-dance-wednesday-zoom-group-31/
LOCATION:Online
CATEGORIES:Audience participation,online weekly dancing,Teaching
ORGANIZER;CN="Burnaby International Folk Dancers Club":MAILTO:bifd@burnabyfolkdance.org
END:VEVENT
BEGIN:VEVENT
DTSTART;TZID=America/Vancouver:20260311T124500
DTEND;TZID=America/Vancouver:20260311T150000
DTSTAMP:20260425T094812
CREATED:20260310T025443Z
LAST-MODIFIED:20260310T025443Z
UID:3231-1773233100-1773241200@burnabyfolkdance.org
SUMMARY:Burnaby(IFD) Balkan and International folk dance Wednesday Zoom group
DESCRIPTION:Come join us for this FREE weekly Balkan and International folk dance Wednesday Zoom group.  We are open to all who are interested in joining us!  Weekly Wednesday dance sessions from 1:00 pm – 3:00 pm (Pacific Time). Chat time is a 12:45 pm. \nOur monthly parties are the last Wednesday of every month from 1:00 pm – 3:00 pm (Pacific Time). All party dances are led by one of our team members and there is no teaching. \nPlease feel free to stay logged in after the dance program for our friendly meet and greet social time. \nTo join our Zoom session\, click the link below: \nhttps://zoom.us/j/99504932576\nID: 995 0493 2576\nPasscode: Bifd  (Upper case ‘B’ followed by lower case ‘ifd \nHappy dancing! For more information and to receive weekly emails with our programs and announcements contact us at bifd@burnabyfolkdance.org.
URL:https://burnabyfolkdance.org/event/burnabyifd-balkan-and-international-folk-dance-wednesday-zoom-group-32/
LOCATION:Online
CATEGORIES:online weekly dancing,Teaching
ORGANIZER;CN="Burnaby International Folk Dancers Club":MAILTO:bifd@burnabyfolkdance.org
END:VEVENT
BEGIN:VEVENT
DTSTART;TZID=America/Vancouver:20260318T124500
DTEND;TZID=America/Vancouver:20260318T150000
DTSTAMP:20260425T094812
CREATED:20260317T025056Z
LAST-MODIFIED:20260317T025121Z
UID:3236-1773837900-1773846000@burnabyfolkdance.org
SUMMARY:Burnaby(IFD) Balkan and International folk dance Wednesday Zoom group
DESCRIPTION:Come join us for this FREE weekly Balkan and International folk dance Wednesday Zoom group.  We are open to all who are interested in joining us!  Weekly Wednesday dance sessions from 1:00 pm – 3:00 pm (Pacific Time). Chat time is a 12:45 pm. \nOur monthly parties are the last Wednesday of every month from 1:00 pm – 3:00 pm (Pacific Time). All party dances are led by one of our team members and there is no teaching. \nPlease feel free to stay logged in after the dance program for our friendly meet and greet social time. \nTo join our Zoom session\, click the link below: \nhttps://zoom.us/j/99504932576\nID: 995 0493 2576\nPasscode: Bifd  (Upper case ‘B’ followed by lower case ‘ifd \nHappy dancing! For more information and to receive weekly emails with our programs and announcements contact us at bifd@burnabyfolkdance.org.
URL:https://burnabyfolkdance.org/event/3236/
LOCATION:Online
CATEGORIES:Audience participation,online weekly dancing,Teaching
ORGANIZER;CN="Burnaby International Folk Dancers Club":MAILTO:bifd@burnabyfolkdance.org
END:VEVENT
BEGIN:VEVENT
DTSTART;TZID=America/Vancouver:20260325T124500
DTEND;TZID=America/Vancouver:20260325T150000
DTSTAMP:20260425T094812
CREATED:20260323T210528Z
LAST-MODIFIED:20260323T210855Z
UID:3248-1774442700-1774450800@burnabyfolkdance.org
SUMMARY:Burnaby(IFD) Balkan and International folk dance month-end party Wednesday Zoom group
DESCRIPTION:Come join us for this FREE weekly Balkan and International folk dance Wednesday Zoom group.  We are open to all who are interested in joining us!  Weekly Wednesday dance sessions from 1:00 pm – 3:00 pm (Pacific Time). Chat time is a 12:45 pm. \nIt’s our month-end party from 1:00 pm – 3:00 pm (Pacific Time). Please let your folk dance friends know about our party with all dances led by one of our dance leaders and there is no teaching. Everyone is welcome!  \nPlease feel free to stay logged in after the dance program for our friendly meet and greet social time. \nTo join our Zoom session\, click the link below: \nhttps://zoom.us/j/99504932576\nID: 995 0493 2576\nPasscode: Bifd  (Upper case ‘B’ followed by lower case ‘ifd \nHappy dancing! For more information and to receive weekly emails with our programs and announcements contact us at bifd@burnabyfolkdance.org.
URL:https://burnabyfolkdance.org/event/burnabyifd-balkan-and-international-folk-dance-wednesday-zoom-group-33/
LOCATION:Online
CATEGORIES:Audience participation,Online dance party,online weekly dancing,Teaching
ORGANIZER;CN="Burnaby International Folk Dancers Club":MAILTO:bifd@burnabyfolkdance.org
END:VEVENT
BEGIN:VEVENT
DTSTART;TZID=America/Vancouver:20260401T124500
DTEND;TZID=America/Vancouver:20260401T150000
DTSTAMP:20260425T094812
CREATED:20260323T211503Z
LAST-MODIFIED:20260323T211503Z
UID:3254-1775047500-1775055600@burnabyfolkdance.org
SUMMARY:Burnaby(IFD) Balkan and International folk dance Wednesday Zoom group
DESCRIPTION:Come join us for this FREE weekly Balkan and International folk dance Wednesday Zoom group.  We are open to all who are interested in joining us!  Weekly Wednesday dance sessions from 1:00 pm – 3:00 pm (Pacific Time). Chat time is a 12:45 pm. \nOur monthly parties are the last Wednesday of every month from 1:00 pm – 3:00 pm (Pacific Time). All party dances are led by one of our team members and there is no teaching. \nPlease feel free to stay logged in after the dance program for our friendly meet and greet social time. \nTo join our Zoom session\, click the link below: \nhttps://zoom.us/j/99504932576\nID: 995 0493 2576\nPasscode: Bifd  (Upper case ‘B’ followed by lower case ‘ifd \nHappy dancing! For more information and to receive weekly emails with our programs and announcements contact us at bifd@burnabyfolkdance.org.
URL:https://burnabyfolkdance.org/event/burnabyifd-balkan-and-international-folk-dance-wednesday-zoom-group-34/
LOCATION:Online
CATEGORIES:Audience participation,online weekly dancing,Teaching
ORGANIZER;CN="Burnaby International Folk Dancers Club":MAILTO:bifd@burnabyfolkdance.org
END:VEVENT
BEGIN:VEVENT
DTSTART;TZID=America/Vancouver:20260408T124500
DTEND;TZID=America/Vancouver:20260408T150000
DTSTAMP:20260425T094812
CREATED:20260323T211756Z
LAST-MODIFIED:20260323T211817Z
UID:3258-1775652300-1775660400@burnabyfolkdance.org
SUMMARY:Burnaby(IFD) Balkan and International folk dance Wednesday Zoom group
DESCRIPTION:Come join us for this FREE weekly Balkan and International folk dance Wednesday Zoom group.  We are open to all who are interested in joining us!  Weekly Wednesday dance sessions from 1:00 pm – 3:00 pm (Pacific Time). Chat time is a 12:45 pm. \nOur monthly parties are the last Wednesday of every month from 1:00 pm – 3:00 pm (Pacific Time). All party dances are led by one of our team members and there is no teaching. \nPlease feel free to stay logged in after the dance program for our friendly meet and greet social time. \nTo join our Zoom session\, click the link below: \nhttps://zoom.us/j/99504932576\nID: 995 0493 2576\nPasscode: Bifd  (Upper case ‘B’ followed by lower case ‘ifd \nHappy dancing! For more information and to receive weekly emails with our programs and announcements contact us at bifd@burnabyfolkdance.org.
URL:https://burnabyfolkdance.org/event/3258/
LOCATION:Online
CATEGORIES:Audience participation,online weekly dancing,Teaching
ORGANIZER;CN="Burnaby International Folk Dancers Club":MAILTO:bifd@burnabyfolkdance.org
END:VEVENT
BEGIN:VEVENT
DTSTART;TZID=America/Vancouver:20260415T124500
DTEND;TZID=America/Vancouver:20260415T150000
DTSTAMP:20260425T094812
CREATED:20260323T212252Z
LAST-MODIFIED:20260323T212252Z
UID:3263-1776257100-1776265200@burnabyfolkdance.org
SUMMARY:Burnaby(IFD) Balkan and International folk dance Wednesday Zoom group
DESCRIPTION:Come join us for this FREE weekly Balkan and International folk dance Wednesday Zoom group.  We are open to all who are interested in joining us!  Weekly Wednesday dance sessions from 1:00 pm – 3:00 pm (Pacific Time). Chat time is a 12:45 pm. \nOur monthly parties are the last Wednesday of every month from 1:00 pm – 3:00 pm (Pacific Time). All party dances are led by one of our team members and there is no teaching. \nPlease feel free to stay logged in after the dance program for our friendly meet and greet social time. \nTo join our Zoom session\, click the link below: \nhttps://zoom.us/j/99504932576\nID: 995 0493 2576\nPasscode: Bifd  (Upper case ‘B’ followed by lower case ‘ifd \nHappy dancing! For more information and to receive weekly emails with our programs and announcements contact us at bifd@burnabyfolkdance.org.
URL:https://burnabyfolkdance.org/event/burnabyifd-balkan-and-international-folk-dance-wednesday-zoom-group-35/
LOCATION:Online
CATEGORIES:Audience participation,online weekly dancing,Teaching
ORGANIZER;CN="Burnaby International Folk Dancers Club":MAILTO:bifd@burnabyfolkdance.org
END:VEVENT
END:VCALENDAR