BEGIN:VCALENDAR
VERSION:2.0
PRODID:-//Burnaby International Folk Dancers - ECPv6.15.20//NONSGML v1.0//EN
CALSCALE:GREGORIAN
METHOD:PUBLISH
X-ORIGINAL-URL:https://burnabyfolkdance.org
X-WR-CALDESC:Events for Burnaby International Folk Dancers
REFRESH-INTERVAL;VALUE=DURATION:PT1H
X-Robots-Tag:noindex
X-PUBLISHED-TTL:PT1H
BEGIN:VTIMEZONE
TZID:America/Vancouver
BEGIN:DAYLIGHT
TZOFFSETFROM:-0800
TZOFFSETTO:-0700
TZNAME:PDT
DTSTART:20230312T100000
END:DAYLIGHT
BEGIN:STANDARD
TZOFFSETFROM:-0700
TZOFFSETTO:-0800
TZNAME:PST
DTSTART:20231105T090000
END:STANDARD
BEGIN:DAYLIGHT
TZOFFSETFROM:-0800
TZOFFSETTO:-0700
TZNAME:PDT
DTSTART:20240310T100000
END:DAYLIGHT
BEGIN:STANDARD
TZOFFSETFROM:-0700
TZOFFSETTO:-0800
TZNAME:PST
DTSTART:20241103T090000
END:STANDARD
BEGIN:DAYLIGHT
TZOFFSETFROM:-0800
TZOFFSETTO:-0700
TZNAME:PDT
DTSTART:20250309T100000
END:DAYLIGHT
BEGIN:STANDARD
TZOFFSETFROM:-0700
TZOFFSETTO:-0800
TZNAME:PST
DTSTART:20251102T090000
END:STANDARD
END:VTIMEZONE
BEGIN:VEVENT
DTSTART;TZID=America/Vancouver:20240806T190000
DTEND;TZID=America/Vancouver:20240806T210000
DTSTAMP:20260424T175620
CREATED:20240806T164211Z
LAST-MODIFIED:20240806T170013Z
UID:2549-1722970800-1722978000@burnabyfolkdance.org
SUMMARY:Stanley Park dancing Tuesday evenings until August 20th
DESCRIPTION:Stanley Park dancing on Tuesday evenings until August 20th from 7:00 pm – 9:00 pm (weather permitting).  Join us at Ceperley Park blacktop area/basketball court in Stanley Park. There are several parking areas in the park\, but the one closest to Ceperley Park is just up the small hill from Ceperley Park\, where the blacktop area/basketball court area is.  \nParking is $4.25/hour. We encourage everyone to carpool\, bike\, or walk if possible. \nFeel free to invite your friends to join us. Everyone is welcome and the more the merrier!
URL:https://burnabyfolkdance.org/event/stanley-park-dancing-tuesday-evenings-until-august-20th-2/
LOCATION:Ceperley Park\, 8701 Stanley Park Drive\, Vancouver\, British Columbia
CATEGORIES:Outdoor dancing,Teaching
ORGANIZER;CN="Burnaby International Folk Dancers Club":MAILTO:bifd@burnabyfolkdance.org
END:VEVENT
BEGIN:VEVENT
DTSTART;TZID=America/Vancouver:20240813T190000
DTEND;TZID=America/Vancouver:20240813T210000
DTSTAMP:20260424T175620
CREATED:20240811T041156Z
LAST-MODIFIED:20240811T041156Z
UID:2561-1723575600-1723582800@burnabyfolkdance.org
SUMMARY:Stanley Park dancing until Tuesday August 20th
DESCRIPTION:Stanley Park dancing on Tuesday evenings until August 20th from 7:00 pm – 9:00 pm (weather permitting).  Join us at Ceperley Park blacktop area/basketball court in Stanley Park. There are several parking areas in the park\, but the one closest to Ceperley Park is just up the small hill from Ceperley Park\, where the blacktop area/basketball court area is.  \nParking is $4.25/hour. We encourage everyone to carpool\, bike\, or walk if possible. \nFeel free to invite your friends to join us. Everyone is welcome and the more the merrier!
URL:https://burnabyfolkdance.org/event/stanley-park-dancing-until-tuesday-august-20th/
LOCATION:Ceperley Park\, 8701 Stanley Park Drive\, Vancouver\, British Columbia
CATEGORIES:Outdoor dancing
ORGANIZER;CN="Burnaby International Folk Dancers Club":MAILTO:bifd@burnabyfolkdance.org
END:VEVENT
BEGIN:VEVENT
DTSTART;TZID=America/Vancouver:20240820T190000
DTEND;TZID=America/Vancouver:20240820T210000
DTSTAMP:20260424T175620
CREATED:20240820T193830Z
LAST-MODIFIED:20240820T193830Z
UID:2573-1724180400-1724187600@burnabyfolkdance.org
SUMMARY:Stanley Park's dancing last night August 20th at Ceperley Park
DESCRIPTION:Stanley Park’s dancing last night is this Tuesday\, August 20th at Ceperley Park from 7:00 pm – 9:00 pm (weather permitting). There are several parking areas in the park\, but the one closest to Ceperley Park is just up the small hill from Ceperley Park\, where the blacktop area/basketball court area is. Parking is $4.25/hour. We encourage everyone to carpool\, bike\, or walk if possible. Feel free to invite your friends to join us. Everyone is welcome and the more the merrier!
URL:https://burnabyfolkdance.org/event/stanley-parks-dancing-last-night-august-20th-at-ceperley-park/
LOCATION:Ceperley Park\, 8701 Stanley Park Drive\, Vancouver\, British Columbia
CATEGORIES:Outdoor dancing,Teaching
ORGANIZER;CN="Burnaby International Folk Dancers Club":MAILTO:bifd@burnabyfolkdance.org
END:VEVENT
BEGIN:VEVENT
DTSTART;TZID=America/Vancouver:20240822T110000
DTEND;TZID=America/Vancouver:20240822T160000
DTSTAMP:20260424T175620
CREATED:20240716T193726Z
LAST-MODIFIED:20240820T193252Z
UID:2528-1724324400-1724342400@burnabyfolkdance.org
SUMMARY:Summer picnic and dancing with live band\, The Pirates
DESCRIPTION:Summer picnic and dancing with house band The Pirates on Thursday\, August 22nd from 11:00ish am – 4:00 pm.  Everyone is welcome to join us at Confederation Park in Burnaby – 250 Willingdon Avenue.  One block north of Hastings.  We meet at the Cenotaph. Bring your picnic lunch\, sunglasses\, sunscreen\, hat\, water\, and chair or blanket. The band will start playing at 12:30 and afterwards there will be recorded music. It’s weather permitting and if need to cancel\, we will announce and if there is alternate date. 
URL:https://burnabyfolkdance.org/event/summer-picnic-and-dancing-with-live-band-2/
LOCATION:Confederation Park\, 250 Willingdon Avenue\, Burnaby\, BC\, V5C 5J9\, Canada
CATEGORIES:Dance Party,Outdoor dancing
ORGANIZER;CN="Burnaby International Folk Dancers Club":MAILTO:bifd@burnabyfolkdance.org
END:VEVENT
END:VCALENDAR