BEGIN:VCALENDAR
VERSION:2.0
PRODID:-//Burnaby International Folk Dancers - ECPv6.15.20//NONSGML v1.0//EN
CALSCALE:GREGORIAN
METHOD:PUBLISH
X-WR-CALNAME:Burnaby International Folk Dancers
X-ORIGINAL-URL:https://burnabyfolkdance.org
X-WR-CALDESC:Events for Burnaby International Folk Dancers
REFRESH-INTERVAL;VALUE=DURATION:PT1H
X-Robots-Tag:noindex
X-PUBLISHED-TTL:PT1H
BEGIN:VTIMEZONE
TZID:America/Vancouver
BEGIN:DAYLIGHT
TZOFFSETFROM:-0800
TZOFFSETTO:-0700
TZNAME:PDT
DTSTART:20230312T100000
END:DAYLIGHT
BEGIN:STANDARD
TZOFFSETFROM:-0700
TZOFFSETTO:-0800
TZNAME:PST
DTSTART:20231105T090000
END:STANDARD
BEGIN:DAYLIGHT
TZOFFSETFROM:-0800
TZOFFSETTO:-0700
TZNAME:PDT
DTSTART:20240310T100000
END:DAYLIGHT
BEGIN:STANDARD
TZOFFSETFROM:-0700
TZOFFSETTO:-0800
TZNAME:PST
DTSTART:20241103T090000
END:STANDARD
BEGIN:DAYLIGHT
TZOFFSETFROM:-0800
TZOFFSETTO:-0700
TZNAME:PDT
DTSTART:20250309T100000
END:DAYLIGHT
BEGIN:STANDARD
TZOFFSETFROM:-0700
TZOFFSETTO:-0800
TZNAME:PST
DTSTART:20251102T090000
END:STANDARD
END:VTIMEZONE
BEGIN:VEVENT
DTSTART;TZID=America/Vancouver:20240602T123000
DTEND;TZID=America/Vancouver:20240602T170000
DTSTAMP:20260425T113648
CREATED:20240528T201128Z
LAST-MODIFIED:20240528T201128Z
UID:2473-1717331400-1717347600@burnabyfolkdance.org
SUMMARY:BIFD performing at Serbian Days
DESCRIPTION:Serbian Days 2024 is on June 1st and 2nd at St. Archangel Michael’s School 7837 Canada Way in Burnaby and admission is free. Our performance group will be performing on Sunday at 1:30ish\, and it’s a day filled with an array of folk dance performances starting at 12:30 pm. Come out and support our performers!
URL:https://burnabyfolkdance.org/event/bifd-performing-at-serbian-days/
LOCATION:St. Archangel Michael’s School\, 7837 Canada Way\, Burnaby\, British Columbia\, V3N 3K8\, Canada
CATEGORIES:Performance
END:VEVENT
END:VCALENDAR