BEGIN:VCALENDAR
VERSION:2.0
PRODID:-//Burnaby International Folk Dancers - ECPv6.15.20//NONSGML v1.0//EN
CALSCALE:GREGORIAN
METHOD:PUBLISH
X-ORIGINAL-URL:https://burnabyfolkdance.org
X-WR-CALDESC:Events for Burnaby International Folk Dancers
REFRESH-INTERVAL;VALUE=DURATION:PT1H
X-Robots-Tag:noindex
X-PUBLISHED-TTL:PT1H
BEGIN:VTIMEZONE
TZID:UTC
BEGIN:STANDARD
TZOFFSETFROM:+0000
TZOFFSETTO:+0000
TZNAME:UTC
DTSTART:20160101T000000
END:STANDARD
END:VTIMEZONE
BEGIN:VEVENT
DTSTART;TZID=UTC:20171018T193000
DTEND;TZID=UTC:20171018T203000
DTSTAMP:20260423T180631
CREATED:20170919T102925Z
LAST-MODIFIED:20170919T102925Z
UID:750-1508355000-1508358600@burnabyfolkdance.org
SUMMARY:2017 Parkwood Manor Performance
DESCRIPTION:Parkwood Manor\, Coquitlam. Burnaby folk danceers performance group will perform and teach some dances for the residences.
URL:https://burnabyfolkdance.org/event/2017-parkwood-manor-performance/
LOCATION:Parkwood Manor\, 1142 Dufferin Street\, Coquitlam\, BC\, V3B 6V4\, Canada
CATEGORIES:Performance
ORGANIZER;CN="Jane Kupfer":MAILTO:bifd@burnabyfolkdance.org
END:VEVENT
BEGIN:VEVENT
DTSTART;TZID=UTC:20171010T123000
DTEND;TZID=UTC:20171010T134500
DTSTAMP:20260423T180631
CREATED:20170830T215139Z
LAST-MODIFIED:20170906T110531Z
UID:494-1507638600-1507643100@burnabyfolkdance.org
SUMMARY:2017 Trout Lake Community Centre Performance
DESCRIPTION:Trout Lake Community Centre\, Vancouver. Burnaby folk dancers performance group will perform and teach some dances at Social Tuesday event for a seniors group. 
URL:https://burnabyfolkdance.org/event/2017-trout-lake-community-centre-performance/
LOCATION:Trout Lake Community Centre\, 3360 Victoria Drive\, Vancouver\, BC\, V5N 4M4\, Canada
CATEGORIES:Performance
ORGANIZER;CN="Jane Kupfer":MAILTO:bifd@burnabyfolkdance.org
END:VEVENT
BEGIN:VEVENT
DTSTART;TZID=UTC:20170827T110000
DTEND;TZID=UTC:20170827T180000
DTSTAMP:20260423T180631
CREATED:20170806T105049Z
LAST-MODIFIED:20170806T105208Z
UID:446-1503831600-1503856800@burnabyfolkdance.org
SUMMARY:Vancouver Friendship without Borders Festival 2017
DESCRIPTION:Burnaby folk dancers performance group will be performing at the Vancouver Friendship without Borders Festival 2017. \nRepresentatives of Armenia\, Arzeibadzhan\, Belarus\, Georgia\, Kazakhstan\, Kyrgyzstan\, Latvia\, Lithuania\, Moldova\, Russia\, Tajikistan\, Tatarstan\, Uzbekistan\, Ukraine\, Estonia will take part in this event. \nPerformance time to be determined.
URL:https://burnabyfolkdance.org/event/vancouver-friendship-without-borders-festival-2017/
LOCATION:Russian Hall\, 600 Campbell Ave\, Vancouver\, BC\, V6A 3K6\, Canada
CATEGORIES:Performance
ORGANIZER;CN="Jane Kupfer":MAILTO:bifd@burnabyfolkdance.org
END:VEVENT
BEGIN:VEVENT
DTSTART;TZID=UTC:20170818T190000
DTEND;TZID=UTC:20170818T200000
DTSTAMP:20260423T180631
CREATED:20170731T125600Z
LAST-MODIFIED:20170806T105627Z
UID:434-1503082800-1503086400@burnabyfolkdance.org
SUMMARY:2017 Kitsilano Showboat Performance
DESCRIPTION:August 18\, Friday\, 7:00 – 8:00\, Kitsilano Showboat\, Vancouver\, BIFD performance with some teaching.
URL:https://burnabyfolkdance.org/event/2017-kitsilano-showboat-performance/
LOCATION:Kitsilano Showboat\, 2300 Cornwall AVenue\, Vancouver\, British Columbia\, V6K 1B7\, Canada
CATEGORIES:Performance
ORGANIZER;CN="Jane Kupfer":MAILTO:bifd@burnabyfolkdance.org
END:VEVENT
BEGIN:VEVENT
DTSTART;TZID=UTC:20170730T141500
DTEND;TZID=UTC:20170730T153000
DTSTAMP:20260423T180631
CREATED:20170731T125042Z
LAST-MODIFIED:20170731T125105Z
UID:430-1501424100-1501428600@burnabyfolkdance.org
SUMMARY:2017 Chinese Cultural Heritage Festival Performance
DESCRIPTION:July 30\, Sunday\, 11 – 7\, Swangard Stadium\, Burnaby\,  Chinese Cultural Heritage Festival. BIFD performs briefly at 2:15 and then moves to the lawn for an hour of teaching.  Join us!
URL:https://burnabyfolkdance.org/event/2017-chinese-cultural-heritage-festival-performance/
LOCATION:Swangard Stadium\, 3883 Imperial Street\, Burnaby\, BC\, V5G 4H7\, Canada
CATEGORIES:Performance
ORGANIZER;CN="Jane Kupfer":MAILTO:bifd@burnabyfolkdance.org
END:VEVENT
END:VCALENDAR