BEGIN:VCALENDAR
VERSION:2.0
PRODID:-//Burnaby International Folk Dancers - ECPv6.15.20//NONSGML v1.0//EN
CALSCALE:GREGORIAN
METHOD:PUBLISH
X-WR-CALNAME:Burnaby International Folk Dancers
X-ORIGINAL-URL:https://burnabyfolkdance.org
X-WR-CALDESC:Events for Burnaby International Folk Dancers
REFRESH-INTERVAL;VALUE=DURATION:PT1H
X-Robots-Tag:noindex
X-PUBLISHED-TTL:PT1H
BEGIN:VTIMEZONE
TZID:America/Vancouver
BEGIN:DAYLIGHT
TZOFFSETFROM:-0800
TZOFFSETTO:-0700
TZNAME:PDT
DTSTART:20240310T100000
END:DAYLIGHT
BEGIN:STANDARD
TZOFFSETFROM:-0700
TZOFFSETTO:-0800
TZNAME:PST
DTSTART:20241103T090000
END:STANDARD
BEGIN:DAYLIGHT
TZOFFSETFROM:-0800
TZOFFSETTO:-0700
TZNAME:PDT
DTSTART:20250309T100000
END:DAYLIGHT
BEGIN:STANDARD
TZOFFSETFROM:-0700
TZOFFSETTO:-0800
TZNAME:PST
DTSTART:20251102T090000
END:STANDARD
BEGIN:DAYLIGHT
TZOFFSETFROM:-0800
TZOFFSETTO:-0700
TZNAME:PDT
DTSTART:20260308T100000
END:DAYLIGHT
BEGIN:STANDARD
TZOFFSETFROM:-0700
TZOFFSETTO:-0800
TZNAME:PST
DTSTART:20261101T090000
END:STANDARD
END:VTIMEZONE
BEGIN:VEVENT
DTSTART;TZID=America/Vancouver:20250204T184500
DTEND;TZID=America/Vancouver:20250204T210000
DTSTAMP:20260424T085401
CREATED:20250203T200159Z
LAST-MODIFIED:20250204T204339Z
UID:2727-1738694700-1738702800@burnabyfolkdance.org
SUMMARY:CANCELLED February 4th at Charles Rummel due to cold weather\, snow\, and icy conditions
DESCRIPTION:Dancing is CANCELLED tonight\, February 4th\, at Charles Rummel Centre from 6:45 pm – 9:00 pm due to cold weather\, snow\, and icy conditions. We are concerned about the roads being icy at night especially side streets. \nJoin us on Zoom tomorrow from 1:00 pm – 3:00 pm (Pacific Time) for our weekly Balkan and International folk dancing. Tune in at 12:45 pm for chat time. Everyone is welcome! Feel free to attend anytime at no charge. Our monthly parties are the last Wednesday of every month from 1:00 pm – 3:00 pm (Pacific Time). All party dances are led by one of our team members and there is no teaching. \nTo join our Zoom session\, click on the link below \nhttps://zoom.us/j/99504932576 \nID: 995 0493 2576 \nPasscode: Bifd (Upper case B followed by lower case ifd) \n  \nHappy dancing! For more information and to receive our reminder emails and announcements contact us at bifd@burnabyfolkdance.org.
URL:https://burnabyfolkdance.org/event/come-dance-with-us-tuesday-evenings-16/
LOCATION:Charles Rummel Community Centre\, 3630 Lozells Ave\, Burnaby\, BC\, V5A 2Y8\, Canada
CATEGORIES:Teaching,Weekly Dancing
ORGANIZER;CN="Burnaby International Folk Dancers Club":MAILTO:bifd@burnabyfolkdance.org
END:VEVENT
BEGIN:VEVENT
DTSTART;TZID=America/Vancouver:20250205T124500
DTEND;TZID=America/Vancouver:20250205T150000
DTSTAMP:20260424T085401
CREATED:20250203T200345Z
LAST-MODIFIED:20250203T200509Z
UID:2729-1738759500-1738767600@burnabyfolkdance.org
SUMMARY:Balkan and International folk dance Wednesday Zoom group
DESCRIPTION:Come join us for this FREE weekly Balkan and International folk dance Wednesday Zoom group.  We are open to all who are interested in joining us!  Weekly Wednesday dance sessions from 1:00 pm – 3:00 pm (Pacific Time). Chat time is a 12:45 pm.\nOur monthly parties are the last Wednesday of every month from 1:00 pm – 3:00 pm (Pacific Time). All party dances are led by one of our team members and there is no teaching.\nPlease feel free to stay logged in after the dance program for our friendly meet and greet social time.\nTo join our Zoom session\, click the link below: \nhttps://zoom.us/j/99504932576\nID: 995 0493 2576\nPasscode: Bifd  (Upper case ‘B’ followed by lower case ‘ifd \nHappy dancing! For more information and to receive weekly emails with our programs and announcements contact us at bifd@burnabyfolkdance.org.
URL:https://burnabyfolkdance.org/event/2729/
LOCATION:Online
CATEGORIES:online weekly dancing,Teaching
ORGANIZER;CN="Burnaby International Folk Dancers Club":MAILTO:bifd@burnabyfolkdance.org
END:VEVENT
BEGIN:VEVENT
DTSTART;TZID=America/Vancouver:20250211T184500
DTEND;TZID=America/Vancouver:20250211T210000
DTSTAMP:20260424T085401
CREATED:20250211T002641Z
LAST-MODIFIED:20250211T002641Z
UID:2739-1739299500-1739307600@burnabyfolkdance.org
SUMMARY:Come dance with us!
DESCRIPTION:Come dance with us on Tuesday evenings at Charles Rummel Centre in Burnaby from 7:00 pm – 9:00 pm. Doors open at 6:45 to get ready for the warm-up dances starting at 7:00. Drop-in is $7. First time is FREE. No partner or costume required.\nHappy dancing! For more information and to receive our reminder emails and announcements contact us at bifd@burnabyfolkdance.org.
URL:https://burnabyfolkdance.org/event/come-dance-with-us/
LOCATION:Charles Rummel Community Centre\, 3630 Lozells Ave\, Burnaby\, BC\, V5A 2Y8\, Canada
CATEGORIES:Teaching,Weekly Dancing
ORGANIZER;CN="Burnaby International Folk Dancers Club":MAILTO:bifd@burnabyfolkdance.org
END:VEVENT
BEGIN:VEVENT
DTSTART;TZID=America/Vancouver:20250212T124500
DTEND;TZID=America/Vancouver:20250212T150000
DTSTAMP:20260424T085401
CREATED:20250211T004808Z
LAST-MODIFIED:20250211T004808Z
UID:2750-1739364300-1739372400@burnabyfolkdance.org
SUMMARY:Balkan and International folk dance Wednesday Zoom group
DESCRIPTION:Come join us for this FREE weekly Balkan and International folk dance Wednesday Zoom group.  We are open to all who are interested in joining us!  Weekly Wednesday dance sessions from 1:00 pm – 3:00 pm (Pacific Time). Chat time is a 12:45 pm.\nOur monthly parties are the last Wednesday of every month from 1:00 pm – 3:00 pm (Pacific Time). All party dances are led by one of our team members and there is no teaching.\nPlease feel free to stay logged in after the dance program for our friendly meet and greet social time.\nTo join our Zoom session\, click the link below: \nhttps://zoom.us/j/99504932576\nID: 995 0493 2576\nPasscode: Bifd  (Upper case ‘B’ followed by lower case ‘ifd \nHappy dancing! For more information and to receive weekly emails with our programs and announcements contact us at bifd@burnabyfolkdance.org.
URL:https://burnabyfolkdance.org/event/balkan-and-international-folk-dance-wednesday-zoom-group-8/
LOCATION:Online
CATEGORIES:online weekly dancing,Teaching
ORGANIZER;CN="Burnaby International Folk Dancers Club":MAILTO:bifd@burnabyfolkdance.org
END:VEVENT
BEGIN:VEVENT
DTSTART;TZID=America/Vancouver:20250218T184500
DTEND;TZID=America/Vancouver:20250218T210000
DTSTAMP:20260424T085401
CREATED:20250211T002757Z
LAST-MODIFIED:20250211T002757Z
UID:2741-1739904300-1739912400@burnabyfolkdance.org
SUMMARY:Come dance with us!
DESCRIPTION:Come dance with us on Tuesday evenings at Charles Rummel Centre in Burnaby from 7:00 pm – 9:00 pm. Doors open at 6:45 to get ready for the warm-up dances starting at 7:00. Drop-in is $7. First time is FREE. No partner or costume required.\nHappy dancing! For more information and to receive our reminder emails and announcements contact us at bifd@burnabyfolkdance.org.
URL:https://burnabyfolkdance.org/event/come-dance-with-us-2/
LOCATION:Charles Rummel Community Centre\, 3630 Lozells Ave\, Burnaby\, BC\, V5A 2Y8\, Canada
CATEGORIES:Teaching,Weekly Dancing
ORGANIZER;CN="Burnaby International Folk Dancers Club":MAILTO:bifd@burnabyfolkdance.org
END:VEVENT
BEGIN:VEVENT
DTSTART;TZID=America/Vancouver:20250219T124500
DTEND;TZID=America/Vancouver:20250219T150000
DTSTAMP:20260424T085401
CREATED:20250211T004930Z
LAST-MODIFIED:20250211T004930Z
UID:2752-1739969100-1739977200@burnabyfolkdance.org
SUMMARY:Balkan and International folk dance Wednesday Zoom group
DESCRIPTION:Come join us for this FREE weekly Balkan and International folk dance Wednesday Zoom group.  We are open to all who are interested in joining us!  Weekly Wednesday dance sessions from 1:00 pm – 3:00 pm (Pacific Time). Chat time is a 12:45 pm.\nOur monthly parties are the last Wednesday of every month from 1:00 pm – 3:00 pm (Pacific Time). All party dances are led by one of our team members and there is no teaching.\nPlease feel free to stay logged in after the dance program for our friendly meet and greet social time.\nTo join our Zoom session\, click the link below: \nhttps://zoom.us/j/99504932576\nID: 995 0493 2576\nPasscode: Bifd  (Upper case ‘B’ followed by lower case ‘ifd \nHappy dancing! For more information and to receive weekly emails with our programs and announcements contact us at bifd@burnabyfolkdance.org.
URL:https://burnabyfolkdance.org/event/balkan-and-international-folk-dance-wednesday-zoom-group-9/
LOCATION:Online
CATEGORIES:online weekly dancing,Teaching
ORGANIZER;CN="Burnaby International Folk Dancers Club":MAILTO:bifd@burnabyfolkdance.org
END:VEVENT
BEGIN:VEVENT
DTSTART;TZID=America/Vancouver:20250225T184500
DTEND;TZID=America/Vancouver:20250225T210000
DTSTAMP:20260424T085401
CREATED:20250211T003146Z
LAST-MODIFIED:20250211T003146Z
UID:2743-1740509100-1740517200@burnabyfolkdance.org
SUMMARY:Come dance with us end of the month party!
DESCRIPTION:Tuesday evening we’re having a party and everyone’s invited and welcome to join us. The more the merrier! Please bring a snack treat to share with everyone\, good cheer and festival wear is encouraged! \nDoors open at 6:45 pm and the dance program starts at 7:00 pm – 9:00 pm. We dance at Charles Rummel Hall in Burnaby\, 3630 Lozells Avenue.  \nFirst time is FREE. No partner or costume required. Drop-in is $7. \nHappy dancing everyone and see you very soon now! \nFor more information and to receive our reminder emails and announcements contact us at bifd@burnabyfolkdance.org.
URL:https://burnabyfolkdance.org/event/come-dance-with-us-end-of-the-month-party/
LOCATION:Charles Rummel Community Centre\, 3630 Lozells Ave\, Burnaby\, BC\, V5A 2Y8\, Canada
CATEGORIES:Dance Party,Teaching,Weekly Dancing
ORGANIZER;CN="Burnaby International Folk Dancers Club":MAILTO:bifd@burnabyfolkdance.org
END:VEVENT
END:VCALENDAR