BEGIN:VCALENDAR
VERSION:2.0
PRODID:-//Burnaby International Folk Dancers - ECPv6.15.20//NONSGML v1.0//EN
CALSCALE:GREGORIAN
METHOD:PUBLISH
X-ORIGINAL-URL:https://burnabyfolkdance.org
X-WR-CALDESC:Events for Burnaby International Folk Dancers
REFRESH-INTERVAL;VALUE=DURATION:PT1H
X-Robots-Tag:noindex
X-PUBLISHED-TTL:PT1H
BEGIN:VTIMEZONE
TZID:America/Vancouver
BEGIN:DAYLIGHT
TZOFFSETFROM:-0800
TZOFFSETTO:-0700
TZNAME:PDT
DTSTART:20240310T100000
END:DAYLIGHT
BEGIN:STANDARD
TZOFFSETFROM:-0700
TZOFFSETTO:-0800
TZNAME:PST
DTSTART:20241103T090000
END:STANDARD
BEGIN:DAYLIGHT
TZOFFSETFROM:-0800
TZOFFSETTO:-0700
TZNAME:PDT
DTSTART:20250309T100000
END:DAYLIGHT
BEGIN:STANDARD
TZOFFSETFROM:-0700
TZOFFSETTO:-0800
TZNAME:PST
DTSTART:20251102T090000
END:STANDARD
BEGIN:DAYLIGHT
TZOFFSETFROM:-0800
TZOFFSETTO:-0700
TZNAME:PDT
DTSTART:20260308T100000
END:DAYLIGHT
BEGIN:STANDARD
TZOFFSETFROM:-0700
TZOFFSETTO:-0800
TZNAME:PST
DTSTART:20261101T090000
END:STANDARD
END:VTIMEZONE
BEGIN:VEVENT
DTSTART;TZID=America/Vancouver:20250805T190000
DTEND;TZID=America/Vancouver:20250805T210000
DTSTAMP:20260423T234128
CREATED:20250805T225904Z
LAST-MODIFIED:20250806T011318Z
UID:2985-1754420400-1754427600@burnabyfolkdance.org
SUMMARY:Cancelled World Dance in the Park at Confederation Park Cenotaph in Burnaby
DESCRIPTION:Cancelled World Dance in the Park tonight (August 5th) due to predication of rain starting at 6 pm. See you next week\, our last Tuesday evening of summer dancing at Confederation Park Cenotaph (located at north end of the park on axis with the adjacent sports oval) from 7-9 pm. Our house band the pirates will be playing for us. It’s free. All ages welcome. Most dances will be taught. Please bring a friend along as everyone is welcome. 
URL:https://burnabyfolkdance.org/event/world-dance-in-the-park-at-confederation-park-cenotaph-in-burnaby/
LOCATION:Confederation Park\, 250 Willingdon Avenue\, Burnaby\, BC\, V5C 5J9\, Canada
CATEGORIES:Community Event,Outdoor dancing,Teaching
ORGANIZER;CN="Burnaby International Folk Dancers Club":MAILTO:bifd@burnabyfolkdance.org
END:VEVENT
BEGIN:VEVENT
DTSTART;TZID=America/Vancouver:20250806T124500
DTEND;TZID=America/Vancouver:20250806T150000
DTSTAMP:20260423T234128
CREATED:20250805T230602Z
LAST-MODIFIED:20250805T230602Z
UID:2990-1754484300-1754492400@burnabyfolkdance.org
SUMMARY:Burnaby(IFD) Balkan and International folk dance Wednesday Zoom group
DESCRIPTION:Come join us for this FREE weekly Balkan and International folk dance Wednesday Zoom group.  We are open to all who are interested in joining us!  Weekly Wednesday dance sessions from 1:00 pm – 3:00 pm (Pacific Time). Chat time is a 12:45 pm. \nOur monthly parties are the last Wednesday of every month from 1:00 pm – 3:00 pm (Pacific Time). All party dances are led by one of our team members and there is no teaching. \nPlease feel free to stay logged in after the dance program for our friendly meet and greet social time. \nTo join our Zoom session\, click the link below: \nhttps://zoom.us/j/99504932576\nID: 995 0493 2576\nPasscode: Bifd  (Upper case ‘B’ followed by lower case ‘ifd \nHappy dancing! For more information and to receive weekly emails with our programs and announcements contact us at bifd@burnabyfolkdance.org.
URL:https://burnabyfolkdance.org/event/burnabyifd-balkan-and-international-folk-dance-wednesday-zoom-group-13/
LOCATION:Online
CATEGORIES:online weekly dancing,Teaching
ORGANIZER;CN="Burnaby International Folk Dancers Club":MAILTO:bifd@burnabyfolkdance.org
END:VEVENT
BEGIN:VEVENT
DTSTART;TZID=America/Vancouver:20250812T190000
DTEND;TZID=America/Vancouver:20250812T210000
DTSTAMP:20260423T234128
CREATED:20250812T154405Z
LAST-MODIFIED:20250812T154405Z
UID:2998-1755025200-1755032400@burnabyfolkdance.org
SUMMARY:Last evening of World Dance in the Park at Confederation Park
DESCRIPTION:Last evening of World Dance in the Park at Confederation Park at Cenotaph (located at north end of the park on axis with the adjacent sports oval) from 7-9 pm. We’re excited to have our house band\, the Pirates playing for us. We will do some warm-up dances and band starts playing at 7:00 pm. It’s free and all ages welcome. Most dances will be taught. Please bring a friend along as everyone is welcome. 
URL:https://burnabyfolkdance.org/event/last-evening-of-world-dance-in-the-park-at-confederation-park/
LOCATION:Confederation Park\, 250 Willingdon Avenue\, Burnaby\, BC\, V5C 5J9\, Canada
CATEGORIES:Community Event,Outdoor dancing,Teaching
ORGANIZER;CN="Burnaby International Folk Dancers Club":MAILTO:bifd@burnabyfolkdance.org
END:VEVENT
BEGIN:VEVENT
DTSTART;TZID=America/Vancouver:20250813T124500
DTEND;TZID=America/Vancouver:20250813T150000
DTSTAMP:20260423T234128
CREATED:20250812T154621Z
LAST-MODIFIED:20250812T154621Z
UID:3000-1755089100-1755097200@burnabyfolkdance.org
SUMMARY:Burnaby(IFD) Balkan and International folk dance Wednesday Zoom group
DESCRIPTION:Come join us for this FREE weekly Balkan and International folk dance Wednesday Zoom group.  We are open to all who are interested in joining us!  Weekly Wednesday dance sessions from 1:00 pm – 3:00 pm (Pacific Time). Chat time is a 12:45 pm. \nOur monthly parties are the last Wednesday of every month from 1:00 pm – 3:00 pm (Pacific Time). All party dances are led by one of our team members and there is no teaching. \nPlease feel free to stay logged in after the dance program for our friendly meet and greet social time. \nTo join our Zoom session\, click the link below: \nhttps://zoom.us/j/99504932576\nID: 995 0493 2576\nPasscode: Bifd  (Upper case ‘B’ followed by lower case ‘ifd \nHappy dancing! For more information and to receive weekly emails with our programs and announcements contact us at bifd@burnabyfolkdance.org.
URL:https://burnabyfolkdance.org/event/burnabyifd-balkan-and-international-folk-dance-wednesday-zoom-group-14/
LOCATION:Online
CATEGORIES:online weekly dancing,Teaching
ORGANIZER;CN="Burnaby International Folk Dancers Club":MAILTO:bifd@burnabyfolkdance.org
END:VEVENT
BEGIN:VEVENT
DTSTART;TZID=America/Vancouver:20250820T124500
DTEND;TZID=America/Vancouver:20250820T150000
DTSTAMP:20260423T234128
CREATED:20250812T154741Z
LAST-MODIFIED:20250812T154741Z
UID:3002-1755693900-1755702000@burnabyfolkdance.org
SUMMARY:Burnaby(IFD) Balkan and International folk dance Wednesday Zoom group
DESCRIPTION:Come join us for this FREE weekly Balkan and International folk dance Wednesday Zoom group.  We are open to all who are interested in joining us!  Weekly Wednesday dance sessions from 1:00 pm – 3:00 pm (Pacific Time). Chat time is a 12:45 pm. \nOur monthly parties are the last Wednesday of every month from 1:00 pm – 3:00 pm (Pacific Time). All party dances are led by one of our team members and there is no teaching. \nPlease feel free to stay logged in after the dance program for our friendly meet and greet social time. \nTo join our Zoom session\, click the link below: \nhttps://zoom.us/j/99504932576\nID: 995 0493 2576\nPasscode: Bifd  (Upper case ‘B’ followed by lower case ‘ifd \nHappy dancing! For more information and to receive weekly emails with our programs and announcements contact us at bifd@burnabyfolkdance.org.
URL:https://burnabyfolkdance.org/event/burnabyifd-balkan-and-international-folk-dance-wednesday-zoom-group-15/
LOCATION:Online
CATEGORIES:online weekly dancing,Teaching
ORGANIZER;CN="Burnaby International Folk Dancers Club":MAILTO:bifd@burnabyfolkdance.org
END:VEVENT
END:VCALENDAR