BEGIN:VCALENDAR
VERSION:2.0
PRODID:-//Burnaby International Folk Dancers - ECPv6.15.20//NONSGML v1.0//EN
CALSCALE:GREGORIAN
METHOD:PUBLISH
X-WR-CALNAME:Burnaby International Folk Dancers
X-ORIGINAL-URL:https://burnabyfolkdance.org
X-WR-CALDESC:Events for Burnaby International Folk Dancers
REFRESH-INTERVAL;VALUE=DURATION:PT1H
X-Robots-Tag:noindex
X-PUBLISHED-TTL:PT1H
BEGIN:VTIMEZONE
TZID:America/Vancouver
BEGIN:DAYLIGHT
TZOFFSETFROM:-0800
TZOFFSETTO:-0700
TZNAME:PDT
DTSTART:20230312T100000
END:DAYLIGHT
BEGIN:STANDARD
TZOFFSETFROM:-0700
TZOFFSETTO:-0800
TZNAME:PST
DTSTART:20231105T090000
END:STANDARD
BEGIN:DAYLIGHT
TZOFFSETFROM:-0800
TZOFFSETTO:-0700
TZNAME:PDT
DTSTART:20240310T100000
END:DAYLIGHT
BEGIN:STANDARD
TZOFFSETFROM:-0700
TZOFFSETTO:-0800
TZNAME:PST
DTSTART:20241103T090000
END:STANDARD
BEGIN:DAYLIGHT
TZOFFSETFROM:-0800
TZOFFSETTO:-0700
TZNAME:PDT
DTSTART:20250309T100000
END:DAYLIGHT
BEGIN:STANDARD
TZOFFSETFROM:-0700
TZOFFSETTO:-0800
TZNAME:PST
DTSTART:20251102T090000
END:STANDARD
END:VTIMEZONE
BEGIN:VEVENT
DTSTART;TZID=America/Vancouver:20240806T190000
DTEND;TZID=America/Vancouver:20240806T210000
DTSTAMP:20260424T192740
CREATED:20240806T164211Z
LAST-MODIFIED:20240806T170013Z
UID:2549-1722970800-1722978000@burnabyfolkdance.org
SUMMARY:Stanley Park dancing Tuesday evenings until August 20th
DESCRIPTION:Stanley Park dancing on Tuesday evenings until August 20th from 7:00 pm – 9:00 pm (weather permitting).  Join us at Ceperley Park blacktop area/basketball court in Stanley Park. There are several parking areas in the park\, but the one closest to Ceperley Park is just up the small hill from Ceperley Park\, where the blacktop area/basketball court area is.  \nParking is $4.25/hour. We encourage everyone to carpool\, bike\, or walk if possible. \nFeel free to invite your friends to join us. Everyone is welcome and the more the merrier!
URL:https://burnabyfolkdance.org/event/stanley-park-dancing-tuesday-evenings-until-august-20th-2/
LOCATION:Ceperley Park\, 8701 Stanley Park Drive\, Vancouver\, British Columbia
CATEGORIES:Outdoor dancing,Teaching
ORGANIZER;CN="Burnaby International Folk Dancers Club":MAILTO:bifd@burnabyfolkdance.org
END:VEVENT
END:VCALENDAR