BEGIN:VCALENDAR
VERSION:2.0
PRODID:-//Burnaby International Folk Dancers - ECPv6.15.20//NONSGML v1.0//EN
CALSCALE:GREGORIAN
METHOD:PUBLISH
X-WR-CALNAME:Burnaby International Folk Dancers
X-ORIGINAL-URL:https://burnabyfolkdance.org
X-WR-CALDESC:Events for Burnaby International Folk Dancers
REFRESH-INTERVAL;VALUE=DURATION:PT1H
X-Robots-Tag:noindex
X-PUBLISHED-TTL:PT1H
BEGIN:VTIMEZONE
TZID:America/Vancouver
BEGIN:DAYLIGHT
TZOFFSETFROM:-0800
TZOFFSETTO:-0700
TZNAME:PDT
DTSTART:20240310T100000
END:DAYLIGHT
BEGIN:STANDARD
TZOFFSETFROM:-0700
TZOFFSETTO:-0800
TZNAME:PST
DTSTART:20241103T090000
END:STANDARD
BEGIN:DAYLIGHT
TZOFFSETFROM:-0800
TZOFFSETTO:-0700
TZNAME:PDT
DTSTART:20250309T100000
END:DAYLIGHT
BEGIN:STANDARD
TZOFFSETFROM:-0700
TZOFFSETTO:-0800
TZNAME:PST
DTSTART:20251102T090000
END:STANDARD
BEGIN:DAYLIGHT
TZOFFSETFROM:-0800
TZOFFSETTO:-0700
TZNAME:PDT
DTSTART:20260308T100000
END:DAYLIGHT
BEGIN:STANDARD
TZOFFSETFROM:-0700
TZOFFSETTO:-0800
TZNAME:PST
DTSTART:20261101T090000
END:STANDARD
END:VTIMEZONE
BEGIN:VEVENT
DTSTART;TZID=America/Vancouver:20250304T184500
DTEND;TZID=America/Vancouver:20250304T210000
DTSTAMP:20260424T085410
CREATED:20250225T041211Z
LAST-MODIFIED:20250301T170219Z
UID:2760-1741113900-1741122000@burnabyfolkdance.org
SUMMARY:Nada Putnik and Mihajlo Hajduk dance workshops teaching dances from Serbia and other parts of the Balkans
DESCRIPTION:Burnaby International Folk Dancers is presenting two dance workshop evenings with Nada Putnik and Mihajlo Hajduk. They will be teaching dances from Serbia and other parts of the Balkans for the next two Tuesday evenings (March 4th & 11th). Everyone is invited and encouraged to join us at Charles Rummel Community Hall in Burnaby.  \nNo dance partner or costume required. Drop-in is $7.  Bring a friend as first timers are free. \nDate: Tuesdays\, March 4th and March 11th\, 2025\nTime: 7:00 pm – 9:00 pm (Doors open at 6:45 pm)\nLocation: Charles Rummel Hall\, 3630 Lozells Avenue\, Burnaby BC \nHappy dancing! For more information and to receive our reminder emails and announcements contact us at bifd@burnabyfolkdance.org. \n\n \n 
URL:https://burnabyfolkdance.org/event/dance-workshop-with-nada-putnik-and-mihajlo-hajduk/
LOCATION:Charles Rummel Community Centre\, 3630 Lozells Ave\, Burnaby\, BC\, V5A 2Y8\, Canada
CATEGORIES:Dance Workshop,Teaching,Weekly Dancing
ORGANIZER;CN="Burnaby International Folk Dancers Club":MAILTO:bifd@burnabyfolkdance.org
END:VEVENT
END:VCALENDAR