BEGIN:VCALENDAR
VERSION:2.0
PRODID:-//Burnaby International Folk Dancers - ECPv6.15.20//NONSGML v1.0//EN
CALSCALE:GREGORIAN
METHOD:PUBLISH
X-WR-CALNAME:Burnaby International Folk Dancers
X-ORIGINAL-URL:https://burnabyfolkdance.org
X-WR-CALDESC:Events for Burnaby International Folk Dancers
REFRESH-INTERVAL;VALUE=DURATION:PT1H
X-Robots-Tag:noindex
X-PUBLISHED-TTL:PT1H
BEGIN:VTIMEZONE
TZID:America/Vancouver
BEGIN:DAYLIGHT
TZOFFSETFROM:-0800
TZOFFSETTO:-0700
TZNAME:PDT
DTSTART:20240310T100000
END:DAYLIGHT
BEGIN:STANDARD
TZOFFSETFROM:-0700
TZOFFSETTO:-0800
TZNAME:PST
DTSTART:20241103T090000
END:STANDARD
BEGIN:DAYLIGHT
TZOFFSETFROM:-0800
TZOFFSETTO:-0700
TZNAME:PDT
DTSTART:20250309T100000
END:DAYLIGHT
BEGIN:STANDARD
TZOFFSETFROM:-0700
TZOFFSETTO:-0800
TZNAME:PST
DTSTART:20251102T090000
END:STANDARD
BEGIN:DAYLIGHT
TZOFFSETFROM:-0800
TZOFFSETTO:-0700
TZNAME:PDT
DTSTART:20260308T100000
END:DAYLIGHT
BEGIN:STANDARD
TZOFFSETFROM:-0700
TZOFFSETTO:-0800
TZNAME:PST
DTSTART:20261101T090000
END:STANDARD
END:VTIMEZONE
BEGIN:VEVENT
DTSTART;TZID=America/Vancouver:20250708T190000
DTEND;TZID=America/Vancouver:20250708T210000
DTSTAMP:20260424T023824
CREATED:20250702T041406Z
LAST-MODIFIED:20250702T041406Z
UID:2920-1752001200-1752008400@burnabyfolkdance.org
SUMMARY:Summer Dancing in the Park
DESCRIPTION:Summer dancing will be at Ceperley Park in Stanley Park (blacktop/basketball court) from 7-9 pm for 4 nights (June 17\, 24\, July 8\, 15) and Confederation Park at the Cenotaph from 7-9 pm for 4 nights (July 22\, 29\, August 5\, 12). It’s free. All ages welcome. Most dances will be taught. Please bring a friend along as everyone is welcome.  \n \nHappy dancing! For more information and to receive our reminder emails and announcements contact us at bifd@burnabyfolkdance.org.
URL:https://burnabyfolkdance.org/event/summer-dancing-in-the-park/
LOCATION:Ceperley Park\, 8701 Stanley Park Drive\, Vancouver\, British Columbia
CATEGORIES:Outdoor dancing,Teaching
ORGANIZER;CN="Burnaby International Folk Dancers Club":MAILTO:bifd@burnabyfolkdance.org
END:VEVENT
END:VCALENDAR