BEGIN:VCALENDAR
VERSION:2.0
PRODID:-//Burnaby International Folk Dancers - ECPv6.15.20//NONSGML v1.0//EN
CALSCALE:GREGORIAN
METHOD:PUBLISH
X-ORIGINAL-URL:https://burnabyfolkdance.org
X-WR-CALDESC:Events for Burnaby International Folk Dancers
REFRESH-INTERVAL;VALUE=DURATION:PT1H
X-Robots-Tag:noindex
X-PUBLISHED-TTL:PT1H
BEGIN:VTIMEZONE
TZID:America/Vancouver
BEGIN:DAYLIGHT
TZOFFSETFROM:-0800
TZOFFSETTO:-0700
TZNAME:PDT
DTSTART:20220313T100000
END:DAYLIGHT
BEGIN:STANDARD
TZOFFSETFROM:-0700
TZOFFSETTO:-0800
TZNAME:PST
DTSTART:20221106T090000
END:STANDARD
BEGIN:DAYLIGHT
TZOFFSETFROM:-0800
TZOFFSETTO:-0700
TZNAME:PDT
DTSTART:20230312T100000
END:DAYLIGHT
BEGIN:STANDARD
TZOFFSETFROM:-0700
TZOFFSETTO:-0800
TZNAME:PST
DTSTART:20231105T090000
END:STANDARD
BEGIN:DAYLIGHT
TZOFFSETFROM:-0800
TZOFFSETTO:-0700
TZNAME:PDT
DTSTART:20240310T100000
END:DAYLIGHT
BEGIN:STANDARD
TZOFFSETFROM:-0700
TZOFFSETTO:-0800
TZNAME:PST
DTSTART:20241103T090000
END:STANDARD
END:VTIMEZONE
BEGIN:VEVENT
DTSTART;TZID=America/Vancouver:20230801T190000
DTEND;TZID=America/Vancouver:20230801T210000
DTSTAMP:20260425T140218
CREATED:20230801T045655Z
LAST-MODIFIED:20230801T045717Z
UID:2131-1690916400-1690923600@burnabyfolkdance.org
SUMMARY:Dancing in Stanley Park
DESCRIPTION:Folk dancing in \nCeperley Park in Stanley Park\nTuesday evenings 7:00 pm – 9:00 pm weather permitting \nfrom June 20th to August 15th  \nWe meet in Ceperley Park which is just up from the 2nd Beach and the swimming pool.  We dance where the basketball court is located. \nEveryone is welcome !
URL:https://burnabyfolkdance.org/event/2131/
LOCATION:Ceperley Park\, 8701 Stanley Park Drive\, Vancouver\, British Columbia
CATEGORIES:Outdoor dancing,Weekly Dancing
ORGANIZER;CN="Burnaby International Folk Dancers Club":MAILTO:bifd@burnabyfolkdance.org
END:VEVENT
BEGIN:VEVENT
DTSTART;TZID=America/Vancouver:20230802T130000
DTEND;TZID=America/Vancouver:20230802T150000
DTSTAMP:20260425T140218
CREATED:20230801T045913Z
LAST-MODIFIED:20230801T045913Z
UID:2134-1690981200-1690988400@burnabyfolkdance.org
SUMMARY:Wednesday afternoon dancing online
DESCRIPTION:Come join us for this FREE weekly Balkan and International folk dance Zoom session.  We are open to all who are interested in joining us!  Weekly Wednesday afternoon dance sessions 1:00 pm – 3:00 pm (Pacific Time). Chat time is a 12:45 pm. Please feel free to stay logged in after the dance program for our friendly meet and greet social time. \nWe look forward to seeing many of you at our Wednesday afternoon (1:00 – 3:00 pm\, Pacific time) Zoom group!  \nMonthly parties: The last Wednesday of every month is our party from 1:00 pm – 3:00 pm (Pacific Time).  All party dances are led by one of our team members.  Please invite your folk dance friends who prefer Zoom dancing when there is no teaching just someone leading the dances. \nTo join our Zoom session\, click the link below: \nhttps://zoom.us/j/99504932576\nID: 995 0493 2576\nPasscode: Bifd  (Upper case ‘B’ followed by lower case ‘ifd \nFor more information and to receive weekly emails with our programs and announcements contact us at bifd@burnabyfolkdance.org.
URL:https://burnabyfolkdance.org/event/wednesday-afternoon-dancing-online-7/
LOCATION:Online
CATEGORIES:online weekly dancing,Weekly Dancing
ORGANIZER;CN="Burnaby International Folk Dancers Club":MAILTO:bifd@burnabyfolkdance.org
END:VEVENT
END:VCALENDAR