BEGIN:VCALENDAR
VERSION:2.0
PRODID:-//Burnaby International Folk Dancers - ECPv6.15.20//NONSGML v1.0//EN
CALSCALE:GREGORIAN
METHOD:PUBLISH
X-WR-CALNAME:Burnaby International Folk Dancers
X-ORIGINAL-URL:https://burnabyfolkdance.org
X-WR-CALDESC:Events for Burnaby International Folk Dancers
REFRESH-INTERVAL;VALUE=DURATION:PT1H
X-Robots-Tag:noindex
X-PUBLISHED-TTL:PT1H
BEGIN:VTIMEZONE
TZID:America/Vancouver
BEGIN:DAYLIGHT
TZOFFSETFROM:-0800
TZOFFSETTO:-0700
TZNAME:PDT
DTSTART:20220313T100000
END:DAYLIGHT
BEGIN:STANDARD
TZOFFSETFROM:-0700
TZOFFSETTO:-0800
TZNAME:PST
DTSTART:20221106T090000
END:STANDARD
BEGIN:DAYLIGHT
TZOFFSETFROM:-0800
TZOFFSETTO:-0700
TZNAME:PDT
DTSTART:20230312T100000
END:DAYLIGHT
BEGIN:STANDARD
TZOFFSETFROM:-0700
TZOFFSETTO:-0800
TZNAME:PST
DTSTART:20231105T090000
END:STANDARD
BEGIN:DAYLIGHT
TZOFFSETFROM:-0800
TZOFFSETTO:-0700
TZNAME:PDT
DTSTART:20240310T100000
END:DAYLIGHT
BEGIN:STANDARD
TZOFFSETFROM:-0700
TZOFFSETTO:-0800
TZNAME:PST
DTSTART:20241103T090000
END:STANDARD
END:VTIMEZONE
BEGIN:VEVENT
DTSTART;TZID=America/Vancouver:20230919T184500
DTEND;TZID=America/Vancouver:20230919T211500
DTSTAMP:20260425T123220
CREATED:20230905T154506Z
LAST-MODIFIED:20230905T155053Z
UID:2154-1695149100-1695158100@burnabyfolkdance.org
SUMMARY:Tuesday evening dancing
DESCRIPTION:Come dance with us! Weekly folk dancing on Tuesday evenings from 6:45 pm – 9:15 pm at Charles Rummel Centre in Burnaby. Doors open at 6:45 to set up and get ready for the warm-up dances starting at 7:00 pm and we dance until 9:00 pm. Drop-in is $7.  First time is FREE. No partner or costume required. \nCOVID-19 protocol \nThere are no restrictions starting in September. We do require everyone to follow these guidelines.    \n\nAll participants must sign in.\nVaccination recommended but not required. Rapid testing is not required.\nMasks\, holding hands and social distancing are optional.\nWe encourage everyone to wash hands or sanitize frequently.  (Sanitizer will be available at the club)\nIf you feel unwell\, please stay home.\n\nFor more information and to receive our reminder emails and announcements contact us at burnabyfolkdancer.org.
URL:https://burnabyfolkdance.org/event/tuesday-evening-dancing-4/
LOCATION:Charles Rummel Community Centre\, 3630 Lozells Ave\, Burnaby\, BC\, V5A 2Y8\, Canada
CATEGORIES:Weekly Dancing
ORGANIZER;CN="Burnaby International Folk Dancers Club":MAILTO:bifd@burnabyfolkdance.org
END:VEVENT
END:VCALENDAR