BEGIN:VCALENDAR
VERSION:2.0
PRODID:-//Burnaby International Folk Dancers - ECPv6.15.20//NONSGML v1.0//EN
CALSCALE:GREGORIAN
METHOD:PUBLISH
X-ORIGINAL-URL:https://burnabyfolkdance.org
X-WR-CALDESC:Events for Burnaby International Folk Dancers
REFRESH-INTERVAL;VALUE=DURATION:PT1H
X-Robots-Tag:noindex
X-PUBLISHED-TTL:PT1H
BEGIN:VTIMEZONE
TZID:America/Vancouver
BEGIN:DAYLIGHT
TZOFFSETFROM:-0800
TZOFFSETTO:-0700
TZNAME:PDT
DTSTART:20220313T100000
END:DAYLIGHT
BEGIN:STANDARD
TZOFFSETFROM:-0700
TZOFFSETTO:-0800
TZNAME:PST
DTSTART:20221106T090000
END:STANDARD
BEGIN:DAYLIGHT
TZOFFSETFROM:-0800
TZOFFSETTO:-0700
TZNAME:PDT
DTSTART:20230312T100000
END:DAYLIGHT
BEGIN:STANDARD
TZOFFSETFROM:-0700
TZOFFSETTO:-0800
TZNAME:PST
DTSTART:20231105T090000
END:STANDARD
BEGIN:DAYLIGHT
TZOFFSETFROM:-0800
TZOFFSETTO:-0700
TZNAME:PDT
DTSTART:20240310T100000
END:DAYLIGHT
BEGIN:STANDARD
TZOFFSETFROM:-0700
TZOFFSETTO:-0800
TZNAME:PST
DTSTART:20241103T090000
END:STANDARD
END:VTIMEZONE
BEGIN:VEVENT
DTSTART;TZID=America/Vancouver:20231003T190000
DTEND;TZID=America/Vancouver:20231003T210000
DTSTAMP:20260425T111237
CREATED:20231003T001059Z
LAST-MODIFIED:20231003T003021Z
UID:2168-1696359600-1696366800@burnabyfolkdance.org
SUMMARY:AGM and dancing in-person
DESCRIPTION:On October 3rd we are having our AGM starting at 7:00 pm and afterwards we will dance until 9:00 pm. The dancing will be a lot of fun as one of our dancers and leader of The Pirates will be teaching one or two contra dances. \nThere are no COVID-19 restrictions. We require everyone to follow these guidelines.    \n\nAll participants must sign in.\nVaccination recommended but not required. Rapid testing is not required.\nMasks\, holding hands and social distancing are optional.\nWe encourage everyone to wash hands or sanitize frequently.  (Sanitizer will be available at the club)\nIf you feel unwell\, please stay home.\n\nHappy dancing and we look forward to seeing you on Tuesday evening\, October 3rd! \nFor more information and to receive weekly emails with our programs and announcements contact us at bifd@burnabyfolkdance.org.  \n 
URL:https://burnabyfolkdance.org/event/agm-and-dancing-in-person/
LOCATION:Charles Rummel Community Centre\, 3630 Lozells Ave\, Burnaby\, BC\, V5A 2Y8\, Canada
CATEGORIES:Weekly Dancing
ORGANIZER;CN="Burnaby International Folk Dancers Club":MAILTO:bifd@burnabyfolkdance.org
END:VEVENT
BEGIN:VEVENT
DTSTART;TZID=America/Vancouver:20231010T184500
DTEND;TZID=America/Vancouver:20231010T211500
DTSTAMP:20260425T111237
CREATED:20231010T192518Z
LAST-MODIFIED:20231010T192858Z
UID:2180-1696963500-1696972500@burnabyfolkdance.org
SUMMARY:Tuesday evening dancing
DESCRIPTION:Come dance with us! Weekly folk dancing on Tuesday evenings from 6:45 pm – 9:15 pm at Charles Rummel Centre in Burnaby. Doors open at 6:45 to set up and get ready for the warm-up dances starting at 7:00 pm and we dance until 9:00 pm. Drop-in is $7.  First time is FREE. No partner or costume required.  \nCOVID-19 protocol \nThere are no restrictions starting in September. We do require everyone to follow these guidelines.    \n\nAll participants must sign in.\nVaccination recommended but not required. Rapid testing is not required.\nMasks\, holding hands and social distancing are optional.\nWe encourage everyone to wash hands or sanitize frequently.  (Sanitizer will be available at the club)\nIf you feel unwell\, please stay home.\n\nFor more information and to receive our reminder emails and announcements contact us at bifd@burnabyfolkdance.org
URL:https://burnabyfolkdance.org/event/tuesday-evening-dancing-5/
LOCATION:Charles Rummel Community Centre\, 3630 Lozells Ave\, Burnaby\, BC\, V5A 2Y8\, Canada
CATEGORIES:Weekly Dancing
ORGANIZER;CN="Burnaby International Folk Dancers Club":MAILTO:bifd@burnabyfolkdance.org
END:VEVENT
BEGIN:VEVENT
DTSTART;TZID=America/Vancouver:20231017T184500
DTEND;TZID=America/Vancouver:20231017T211500
DTSTAMP:20260425T111237
CREATED:20231017T225959Z
LAST-MODIFIED:20231017T230423Z
UID:2187-1697568300-1697577300@burnabyfolkdance.org
SUMMARY:Tuesday evening dancing
DESCRIPTION:Come dance with us! Weekly dancing on Tuesday evenings from 6:45 pm – 9:15 pm at Charles Rummel Centre in Burnaby. Doors open at 6:45 to set up and get ready for the warm-up dances starting at 7:00 pm until 9:00 pm. Drop-in is $7.  First time is FREE. No partner or costume required.  \nCOVID-19 protocol \nThere are no restrictions starting in September. We do require everyone to follow these guidelines.    \n\nAll participants must sign in.\nVaccination recommended but not required. Rapid testing is not required.\nMasks\, holding hands and social distancing are optional.\nWe encourage everyone to wash hands or sanitize frequently.  (Sanitizer will be available at the club)\nIf you feel unwell\, please stay home.\n\nFor more information and to receive our reminder emails and announcements contact us at bifd@burnabyfolkdance.org
URL:https://burnabyfolkdance.org/event/tuesday-evening-dancing-6/
LOCATION:Charles Rummel Community Centre\, 3630 Lozells Ave\, Burnaby\, BC\, V5A 2Y8\, Canada
CATEGORIES:Weekly Dancing
ORGANIZER;CN="Burnaby International Folk Dancers Club":MAILTO:bifd@burnabyfolkdance.org
END:VEVENT
BEGIN:VEVENT
DTSTART;TZID=America/Vancouver:20231024T184500
DTEND;TZID=America/Vancouver:20231024T211500
DTSTAMP:20260425T111237
CREATED:20231024T034119Z
LAST-MODIFIED:20231024T034119Z
UID:2199-1698173100-1698182100@burnabyfolkdance.org
SUMMARY:Tuesday evening dancing in Burnaby
DESCRIPTION:Come dance with us! Weekly dancing on Tuesday evenings from 6:45 pm – 9:15 pm at Charles Rummel Centre in Burnaby. Doors open at 6:45 to set up and get ready for the warm-up dances starting at 7:00 pm until 9:00 pm. Drop-in is $7.  First time is FREE. No partner or costume required.  \nCOVID-19 protocol \nThere are no restrictions starting in September. We do require everyone to follow these guidelines.    \n\nAll participants must sign in.\nVaccination recommended but not required. Rapid testing is not required.\nMasks\, holding hands and social distancing are optional.\nWe encourage everyone to wash hands or sanitize frequently.  (Sanitizer will be available at the club)\nIf you feel unwell\, please stay home.\n\nFor more information and to receive our reminder emails and announcements contact us at bifd@burnabyfolkdance.org.
URL:https://burnabyfolkdance.org/event/tuesday-evening-dancing-in-burnaby/
LOCATION:Charles Rummel Community Centre\, 3630 Lozells Ave\, Burnaby\, BC\, V5A 2Y8\, Canada
CATEGORIES:Weekly Dancing
ORGANIZER;CN="Burnaby International Folk Dancers Club":MAILTO:bifd@burnabyfolkdance.org
END:VEVENT
BEGIN:VEVENT
DTSTART;TZID=America/Vancouver:20231031T184500
DTEND;TZID=America/Vancouver:20231031T211500
DTSTAMP:20260425T111237
CREATED:20231031T041331Z
LAST-MODIFIED:20231031T041331Z
UID:2209-1698777900-1698786900@burnabyfolkdance.org
SUMMARY:Tuesday evening Halloween party
DESCRIPTION:Come dance with us on Halloween and wear a spooky costume. Please bring a friend and finger food to share. Doors open at 6:45 to set up and we dance from 7:00 pm until 9:00 pm. Drop-in is $7.  First time is FREE. No partner or costume required.  \nCOVID-19 protocol \nThere are no restrictions starting in September. We do require everyone to follow these guidelines.    \n\nAll participants must sign in.\nVaccination recommended but not required. Rapid testing is not required.\nMasks\, holding hands and social distancing are optional.\nWe encourage everyone to wash hands or sanitize frequently.  (Sanitizer will be available at the club)\nIf you feel unwell\, please stay home.\n\nFor more information and to receive our reminder emails and announcements contact us at bifd@burnabyfolkdance.org.
URL:https://burnabyfolkdance.org/event/tuesday-evening-halloween-party/
LOCATION:Charles Rummel Community Centre\, 3630 Lozells Ave\, Burnaby\, BC\, V5A 2Y8\, Canada
CATEGORIES:Dance Party,Weekly Dancing
ORGANIZER;CN="Burnaby International Folk Dancers Club":MAILTO:bifd@burnabyfolkdance.org
END:VEVENT
END:VCALENDAR