BEGIN:VCALENDAR
VERSION:2.0
PRODID:-//Burnaby International Folk Dancers - ECPv6.15.20//NONSGML v1.0//EN
CALSCALE:GREGORIAN
METHOD:PUBLISH
X-WR-CALNAME:Burnaby International Folk Dancers
X-ORIGINAL-URL:https://burnabyfolkdance.org
X-WR-CALDESC:Events for Burnaby International Folk Dancers
REFRESH-INTERVAL;VALUE=DURATION:PT1H
X-Robots-Tag:noindex
X-PUBLISHED-TTL:PT1H
BEGIN:VTIMEZONE
TZID:America/Vancouver
BEGIN:DAYLIGHT
TZOFFSETFROM:-0800
TZOFFSETTO:-0700
TZNAME:PDT
DTSTART:20220313T100000
END:DAYLIGHT
BEGIN:STANDARD
TZOFFSETFROM:-0700
TZOFFSETTO:-0800
TZNAME:PST
DTSTART:20221106T090000
END:STANDARD
BEGIN:DAYLIGHT
TZOFFSETFROM:-0800
TZOFFSETTO:-0700
TZNAME:PDT
DTSTART:20230312T100000
END:DAYLIGHT
BEGIN:STANDARD
TZOFFSETFROM:-0700
TZOFFSETTO:-0800
TZNAME:PST
DTSTART:20231105T090000
END:STANDARD
BEGIN:DAYLIGHT
TZOFFSETFROM:-0800
TZOFFSETTO:-0700
TZNAME:PDT
DTSTART:20240310T100000
END:DAYLIGHT
BEGIN:STANDARD
TZOFFSETFROM:-0700
TZOFFSETTO:-0800
TZNAME:PST
DTSTART:20241103T090000
END:STANDARD
END:VTIMEZONE
BEGIN:VEVENT
DTSTART;TZID=America/Vancouver:20231107T190000
DTEND;TZID=America/Vancouver:20231107T210000
DTSTAMP:20260425T094925
CREATED:20231108T004811Z
LAST-MODIFIED:20231108T004811Z
UID:2217-1699383600-1699390800@burnabyfolkdance.org
SUMMARY:Come dance with us Tuesday evenings
DESCRIPTION:Come dance with us! Weekly dancing on Tuesday evenings from 6:45 pm – 9:15 pm at Charles Rummel Centre in Burnaby. Doors open at 6:45 to set up and get ready for the warm-up dances starting at 7:00 pm until 9:00 pm. Drop-in is $7.  First time is FREE. No partner or costume required.  \nCOVID-19 protocol \nThere are no restrictions starting in September. We do require everyone to follow these guidelines.    \n\nAll participants must sign in.\nVaccination recommended but not required. Rapid testing is not required.\nMasks\, holding hands and social distancing are optional.\nWe encourage everyone to wash hands or sanitize frequently.  (Sanitizer will be available at the club)\nIf you feel unwell\, please stay home.\n\nFor more information and to receive our reminder emails and announcements contact us at bifd@burnabyfolkdance.org.
URL:https://burnabyfolkdance.org/event/come-dance-with-us-tuesday-evenings/
LOCATION:Charles Rummel Community Centre\, 3630 Lozells Ave\, Burnaby\, BC\, V5A 2Y8\, Canada
CATEGORIES:Weekly Dancing
ORGANIZER;CN="Burnaby International Folk Dancers Club":MAILTO:bifd@burnabyfolkdance.org
END:VEVENT
BEGIN:VEVENT
DTSTART;TZID=America/Vancouver:20231128T184500
DTEND;TZID=America/Vancouver:20231128T211500
DTSTAMP:20260425T094925
CREATED:20231108T060003Z
LAST-MODIFIED:20231128T051629Z
UID:2219-1701197100-1701206100@burnabyfolkdance.org
SUMMARY:Dance parties for the last two weeks of 2023
DESCRIPTION:Come dance with us. Only two weeks left before our Christmas break. We resume dancing on January 9\, 2024. \nThis coming Tuesday on November 28 we’re having a dance party with all your favourite requests. Our big holiday party on December 5th\, the Pirates are playing for us. For this Tuesday’s party\, we won’t bring treats to share\, but will save that for the following week’s holiday party. \nWe dance at Charles Rummel Centre in Burnaby. Doors open at 6:45 pm and dance till 9:00 pm. Drop-in $7. \nEveryone’s welcome to join us. The more\, the merrier! \nFor more information https://burnabyfolkdance.org or email us at bifd@burnabyfolkdance.org.
URL:https://burnabyfolkdance.org/event/2219/
LOCATION:Charles Rummel Community Centre\, 3630 Lozells Ave\, Burnaby\, BC\, V5A 2Y8\, Canada
CATEGORIES:Weekly Dancing
ORGANIZER;CN="Burnaby International Folk Dancers Club":MAILTO:bifd@burnabyfolkdance.org
END:VEVENT
END:VCALENDAR