BEGIN:VCALENDAR
VERSION:2.0
PRODID:-//Burnaby International Folk Dancers - ECPv6.15.20//NONSGML v1.0//EN
CALSCALE:GREGORIAN
METHOD:PUBLISH
X-ORIGINAL-URL:https://burnabyfolkdance.org
X-WR-CALDESC:Events for Burnaby International Folk Dancers
REFRESH-INTERVAL;VALUE=DURATION:PT1H
X-Robots-Tag:noindex
X-PUBLISHED-TTL:PT1H
BEGIN:VTIMEZONE
TZID:America/Vancouver
BEGIN:DAYLIGHT
TZOFFSETFROM:-0800
TZOFFSETTO:-0700
TZNAME:PDT
DTSTART:20240310T100000
END:DAYLIGHT
BEGIN:STANDARD
TZOFFSETFROM:-0700
TZOFFSETTO:-0800
TZNAME:PST
DTSTART:20241103T090000
END:STANDARD
BEGIN:DAYLIGHT
TZOFFSETFROM:-0800
TZOFFSETTO:-0700
TZNAME:PDT
DTSTART:20250309T100000
END:DAYLIGHT
BEGIN:STANDARD
TZOFFSETFROM:-0700
TZOFFSETTO:-0800
TZNAME:PST
DTSTART:20251102T090000
END:STANDARD
BEGIN:DAYLIGHT
TZOFFSETFROM:-0800
TZOFFSETTO:-0700
TZNAME:PDT
DTSTART:20260308T100000
END:DAYLIGHT
BEGIN:STANDARD
TZOFFSETFROM:-0700
TZOFFSETTO:-0800
TZNAME:PST
DTSTART:20261101T090000
END:STANDARD
END:VTIMEZONE
BEGIN:VEVENT
DTSTART;TZID=America/Vancouver:20250107T184500
DTEND;TZID=America/Vancouver:20250107T210000
DTSTAMP:20260424T131603
CREATED:20250106T045728Z
LAST-MODIFIED:20250106T045728Z
UID:2702-1736275500-1736283600@burnabyfolkdance.org
SUMMARY:New Year dancing party
DESCRIPTION:Happy New Year to you all! We look forward to seeing you all again on Tuesday as Burnaby (IFD) dancing starts up again this Tuesday\, January 7\, 2025. Tuesday dancing at Charles Rummel resumes with resume on January 7th. Our first evening together is going to be a party\, so please bring a finger food to share with everyone and feel free to bring a friend as the first night is always free for newcomers. Drop-in is $7. Doors open at 6:45 pm and dancing starts at 7:00 pm.  \nHappy dancing! For more information and to receive weekly emails with our programs and announcements contact us at bifd@burnabyfolkdance.org.
URL:https://burnabyfolkdance.org/event/new-year-dancing-party/
LOCATION:Charles Rummel Community Centre\, 3630 Lozells Ave\, Burnaby\, BC\, V5A 2Y8\, Canada
CATEGORIES:Dance Party,Teaching,Weekly Dancing
ORGANIZER;CN="Burnaby International Folk Dancers Club":MAILTO:bifd@burnabyfolkdance.org
END:VEVENT
BEGIN:VEVENT
DTSTART;TZID=America/Vancouver:20250114T184500
DTEND;TZID=America/Vancouver:20250114T210000
DTSTAMP:20260424T131603
CREATED:20250114T013427Z
LAST-MODIFIED:20250114T014430Z
UID:2711-1736880300-1736888400@burnabyfolkdance.org
SUMMARY:Come dance with us Tuesday evenings!
DESCRIPTION:Come dance with us on Tuesday evenings at Charles Rummel Centre in Burnaby from 7:00 pm – 9:00 pm. Doors open at 6:45 to get ready for the warm-up dances starting at 7:00. Drop-in is $7. First time is FREE. No partner or costume required.\nHappy dancing! For more information and to receive our reminder emails and announcements contact us at bifd@burnabyfolkdance.org.
URL:https://burnabyfolkdance.org/event/come-dance-with-us-tuesday-evenings-13/
LOCATION:Charles Rummel Community Centre\, 3630 Lozells Ave\, Burnaby\, BC\, V5A 2Y8\, Canada
CATEGORIES:Teaching,Weekly Dancing
ORGANIZER;CN="Burnaby International Folk Dancers Club":MAILTO:bifd@burnabyfolkdance.org
END:VEVENT
BEGIN:VEVENT
DTSTART;TZID=America/Vancouver:20250121T184500
DTEND;TZID=America/Vancouver:20250121T210000
DTSTAMP:20260424T131603
CREATED:20250114T013617Z
LAST-MODIFIED:20250114T014543Z
UID:2713-1737485100-1737493200@burnabyfolkdance.org
SUMMARY:Come dance with us Tuesday evenings!
DESCRIPTION:Come dance with us on Tuesday evenings at Charles Rummel Centre in Burnaby from 7:00 pm – 9:00 pm. Doors open at 6:45 to get ready for the warm-up dances starting at 7:00. Drop-in is $7. First time is FREE. No partner or costume required.\nHappy dancing! For more information and to receive our reminder emails and announcements contact us at bifd@burnabyfolkdance.org.
URL:https://burnabyfolkdance.org/event/come-dance-with-us-tuesday-evenings-14/
LOCATION:Charles Rummel Community Centre\, 3630 Lozells Ave\, Burnaby\, BC\, V5A 2Y8\, Canada
CATEGORIES:Teaching,Weekly Dancing
ORGANIZER;CN="Burnaby International Folk Dancers Club":MAILTO:bifd@burnabyfolkdance.org
END:VEVENT
BEGIN:VEVENT
DTSTART;TZID=America/Vancouver:20250128T184500
DTEND;TZID=America/Vancouver:20250128T210000
DTSTAMP:20260424T131603
CREATED:20250114T013743Z
LAST-MODIFIED:20250114T014707Z
UID:2715-1738089900-1738098000@burnabyfolkdance.org
SUMMARY:Come dance with us Tuesday evenings!
DESCRIPTION:Come dance with us on Tuesday evenings at Charles Rummel Centre in Burnaby from 7:00 pm – 9:00 pm. Doors open at 6:45 to get ready for the warm-up dances starting at 7:00. Drop-in is $7. First time is FREE. No partner or costume required.\nHappy dancing! For more information and to receive our reminder emails and announcements contact us at bifd@burnabyfolkdance.org.
URL:https://burnabyfolkdance.org/event/come-dance-with-us-tuesday-evenings-15/
LOCATION:Charles Rummel Community Centre\, 3630 Lozells Ave\, Burnaby\, BC\, V5A 2Y8\, Canada
CATEGORIES:Teaching,Weekly Dancing
ORGANIZER;CN="Burnaby International Folk Dancers Club":MAILTO:bifd@burnabyfolkdance.org
END:VEVENT
END:VCALENDAR