BEGIN:VCALENDAR
VERSION:2.0
PRODID:-//Burnaby International Folk Dancers - ECPv6.15.20//NONSGML v1.0//EN
CALSCALE:GREGORIAN
METHOD:PUBLISH
X-WR-CALNAME:Burnaby International Folk Dancers
X-ORIGINAL-URL:https://burnabyfolkdance.org
X-WR-CALDESC:Events for Burnaby International Folk Dancers
REFRESH-INTERVAL;VALUE=DURATION:PT1H
X-Robots-Tag:noindex
X-PUBLISHED-TTL:PT1H
BEGIN:VTIMEZONE
TZID:America/Vancouver
BEGIN:DAYLIGHT
TZOFFSETFROM:-0800
TZOFFSETTO:-0700
TZNAME:PDT
DTSTART:20240310T100000
END:DAYLIGHT
BEGIN:STANDARD
TZOFFSETFROM:-0700
TZOFFSETTO:-0800
TZNAME:PST
DTSTART:20241103T090000
END:STANDARD
BEGIN:DAYLIGHT
TZOFFSETFROM:-0800
TZOFFSETTO:-0700
TZNAME:PDT
DTSTART:20250309T100000
END:DAYLIGHT
BEGIN:STANDARD
TZOFFSETFROM:-0700
TZOFFSETTO:-0800
TZNAME:PST
DTSTART:20251102T090000
END:STANDARD
BEGIN:DAYLIGHT
TZOFFSETFROM:-0800
TZOFFSETTO:-0700
TZNAME:PDT
DTSTART:20260308T100000
END:DAYLIGHT
BEGIN:STANDARD
TZOFFSETFROM:-0700
TZOFFSETTO:-0800
TZNAME:PST
DTSTART:20261101T090000
END:STANDARD
END:VTIMEZONE
BEGIN:VEVENT
DTSTART;TZID=America/Vancouver:20250909T184500
DTEND;TZID=America/Vancouver:20250909T210000
DTSTAMP:20260424T005701
CREATED:20250812T160942Z
LAST-MODIFIED:20250812T161025Z
UID:3017-1757443500-1757451600@burnabyfolkdance.org
SUMMARY:Folk dancing new season 2025/2026
DESCRIPTION:Folk dancing 2025/2026 season starts on September 9th at Charles Rummel Centre in Burnaby. We dance Tuesday evenings from 7:00 pm – 9:00 pm. Doors open at 6:45 to get ready for the warm-up dances starting at 7:00. Drop-in is $7. First time is FREE. No Partner or costume required. Please bring your own water bottle.  \nHappy dancing! For more information and to receive our reminder emails and announcements contact us at bifd@burnabyfolkdance.org.
URL:https://burnabyfolkdance.org/event/folk/
LOCATION:Charles Rummel Community Centre\, 3630 Lozells Ave\, Burnaby\, BC\, V5A 2Y8\, Canada
CATEGORIES:Teaching,Weekly Dancing
ORGANIZER;CN="Burnaby International Folk Dancers Club":MAILTO:bifd@burnabyfolkdance.org
END:VEVENT
BEGIN:VEVENT
DTSTART;TZID=America/Vancouver:20250916T184500
DTEND;TZID=America/Vancouver:20250916T210000
DTSTAMP:20260424T005701
CREATED:20250812T161207Z
LAST-MODIFIED:20250812T161207Z
UID:3020-1758048300-1758056400@burnabyfolkdance.org
SUMMARY:Come dance with us!
DESCRIPTION:Come dance with us Tuesday evenings at Charles Rummel Centre in Burnaby from 7:00 pm – 9:00 pm. Doors open at 6:45 to get ready for the warm-up dances starting at 7:00. Drop-in is $7. First time is FREE. No partner or costume required. \nHappy dancing! For more information and to receive our reminder emails and announcements contact us at bifd@burnabyfolkdance.org.
URL:https://burnabyfolkdance.org/event/come-dance-with-us-3/
LOCATION:Charles Rummel Community Centre\, 3630 Lozells Ave\, Burnaby\, BC\, V5A 2Y8\, Canada
CATEGORIES:Teaching,Weekly Dancing
ORGANIZER;CN="Burnaby International Folk Dancers Club":MAILTO:bifd@burnabyfolkdance.org
END:VEVENT
BEGIN:VEVENT
DTSTART;TZID=America/Vancouver:20250923T080000
DTEND;TZID=America/Vancouver:20250923T170000
DTSTAMP:20260424T005701
CREATED:20250812T161326Z
LAST-MODIFIED:20250812T161326Z
UID:3022-1758614400-1758646800@burnabyfolkdance.org
SUMMARY:Come dance with us!
DESCRIPTION:Come dance with us Tuesday evenings at Charles Rummel Centre in Burnaby from 7:00 pm – 9:00 pm. Doors open at 6:45 to get ready for the warm-up dances starting at 7:00. Drop-in is $7. First time is FREE. No partner or costume required. Please bring your own water bottle.  \nHappy dancing! For more information and to receive our reminder emails and announcements contact us at bifd@burnabyfolkdance.org.
URL:https://burnabyfolkdance.org/event/come-dance-with-us-4/
LOCATION:Charles Rummel Community Centre\, 3630 Lozells Ave\, Burnaby\, BC\, V5A 2Y8\, Canada
CATEGORIES:Teaching,Weekly Dancing
ORGANIZER;CN="Burnaby International Folk Dancers Club":MAILTO:bifd@burnabyfolkdance.org
END:VEVENT
BEGIN:VEVENT
DTSTART;TZID=America/Vancouver:20250930T184500
DTEND;TZID=America/Vancouver:20250930T210000
DTSTAMP:20260424T005701
CREATED:20250812T161441Z
LAST-MODIFIED:20250812T161441Z
UID:3024-1759257900-1759266000@burnabyfolkdance.org
SUMMARY:Come dance with us!
DESCRIPTION:Come dance with us Tuesday evenings at Charles Rummel Centre in Burnaby from 7:00 pm – 9:00 pm. Doors open at 6:45 to get ready for the warm-up dances starting at 7:00. Drop-in is $7. First time is FREE. No partner or costume required. Please bring your own water bottle. \nHappy dancing! For more information and to receive our reminder emails and announcements contact us at bifd@burnabyfolkdance.org.
URL:https://burnabyfolkdance.org/event/come-dance-with-us-5/
LOCATION:Charles Rummel Community Centre\, 3630 Lozells Ave\, Burnaby\, BC\, V5A 2Y8\, Canada
CATEGORIES:Teaching,Weekly Dancing
ORGANIZER;CN="Burnaby International Folk Dancers Club":MAILTO:bifd@burnabyfolkdance.org
END:VEVENT
END:VCALENDAR