BEGIN:VCALENDAR
VERSION:2.0
PRODID:-//Burnaby International Folk Dancers - ECPv6.15.20//NONSGML v1.0//EN
CALSCALE:GREGORIAN
METHOD:PUBLISH
X-WR-CALNAME:Burnaby International Folk Dancers
X-ORIGINAL-URL:https://burnabyfolkdance.org
X-WR-CALDESC:Events for Burnaby International Folk Dancers
REFRESH-INTERVAL;VALUE=DURATION:PT1H
X-Robots-Tag:noindex
X-PUBLISHED-TTL:PT1H
BEGIN:VTIMEZONE
TZID:America/Vancouver
BEGIN:DAYLIGHT
TZOFFSETFROM:-0800
TZOFFSETTO:-0700
TZNAME:PDT
DTSTART:20230312T100000
END:DAYLIGHT
BEGIN:STANDARD
TZOFFSETFROM:-0700
TZOFFSETTO:-0800
TZNAME:PST
DTSTART:20231105T090000
END:STANDARD
BEGIN:DAYLIGHT
TZOFFSETFROM:-0800
TZOFFSETTO:-0700
TZNAME:PDT
DTSTART:20240310T100000
END:DAYLIGHT
BEGIN:STANDARD
TZOFFSETFROM:-0700
TZOFFSETTO:-0800
TZNAME:PST
DTSTART:20241103T090000
END:STANDARD
BEGIN:DAYLIGHT
TZOFFSETFROM:-0800
TZOFFSETTO:-0700
TZNAME:PDT
DTSTART:20250309T100000
END:DAYLIGHT
BEGIN:STANDARD
TZOFFSETFROM:-0700
TZOFFSETTO:-0800
TZNAME:PST
DTSTART:20251102T090000
END:STANDARD
END:VTIMEZONE
BEGIN:VEVENT
DTSTART;TZID=America/Vancouver:20240109T184500
DTEND;TZID=America/Vancouver:20240109T211500
DTSTAMP:20260425T083731
CREATED:20240102T043929Z
LAST-MODIFIED:20240102T043929Z
UID:2256-1704825900-1704834900@burnabyfolkdance.org
SUMMARY:Come dance with us Tuesday evenings
DESCRIPTION:Come dance with us! Weekly dancing on Tuesday evenings from 6:45 pm – 9:15 pm at Charles Rummel Centre in Burnaby. Doors open at 6:45 to set up and get ready for the warm-up dances starting at 7:00 pm until 9:00 pm. Drop-in is $7.  First time is FREE. No partner or costume required.  \nCOVID-19 protocol \nThere are no restrictions. We do require everyone to follow these guidelines.    \n\nAll participants must sign in.\nVaccination recommended but not required. Rapid testing is not required.\nMasks\, holding hands and social distancing are optional.\nWe encourage everyone to wash hands or sanitize frequently.  (Sanitizer will be available at the club)\nIf you feel unwell\, please stay home.\n\nFor more information and to receive our reminder emails and announcements contact us at bifd@burnabyfolkdance.org.
URL:https://burnabyfolkdance.org/event/come-dance-with-us-tuesday-evenings-2/
LOCATION:Charles Rummel Community Centre\, 3630 Lozells Ave\, Burnaby\, BC\, V5A 2Y8\, Canada
CATEGORIES:Weekly Dancing
ORGANIZER;CN="Burnaby International Folk Dancers Club":MAILTO:bifd@burnabyfolkdance.org
END:VEVENT
END:VCALENDAR