BEGIN:VCALENDAR
VERSION:2.0
PRODID:-//Burnaby International Folk Dancers - ECPv6.15.20//NONSGML v1.0//EN
CALSCALE:GREGORIAN
METHOD:PUBLISH
X-WR-CALNAME:Burnaby International Folk Dancers
X-ORIGINAL-URL:https://burnabyfolkdance.org
X-WR-CALDESC:Events for Burnaby International Folk Dancers
REFRESH-INTERVAL;VALUE=DURATION:PT1H
X-Robots-Tag:noindex
X-PUBLISHED-TTL:PT1H
BEGIN:VTIMEZONE
TZID:America/Vancouver
BEGIN:DAYLIGHT
TZOFFSETFROM:-0800
TZOFFSETTO:-0700
TZNAME:PDT
DTSTART:20230312T100000
END:DAYLIGHT
BEGIN:STANDARD
TZOFFSETFROM:-0700
TZOFFSETTO:-0800
TZNAME:PST
DTSTART:20231105T090000
END:STANDARD
BEGIN:DAYLIGHT
TZOFFSETFROM:-0800
TZOFFSETTO:-0700
TZNAME:PDT
DTSTART:20240310T100000
END:DAYLIGHT
BEGIN:STANDARD
TZOFFSETFROM:-0700
TZOFFSETTO:-0800
TZNAME:PST
DTSTART:20241103T090000
END:STANDARD
BEGIN:DAYLIGHT
TZOFFSETFROM:-0800
TZOFFSETTO:-0700
TZNAME:PDT
DTSTART:20250309T100000
END:DAYLIGHT
BEGIN:STANDARD
TZOFFSETFROM:-0700
TZOFFSETTO:-0800
TZNAME:PST
DTSTART:20251102T090000
END:STANDARD
END:VTIMEZONE
BEGIN:VEVENT
DTSTART;TZID=America/Vancouver:20240409T184500
DTEND;TZID=America/Vancouver:20240409T211500
DTSTAMP:20260425T042928
CREATED:20240409T033703Z
LAST-MODIFIED:20240409T033703Z
UID:2391-1712688300-1712697300@burnabyfolkdance.org
SUMMARY:Come dance with us on Tuesday evenings and Lyrids Folk Dance Festival
DESCRIPTION:Come dance with us on Tuesday evenings at Charles Rummel Centre in Burnaby. Doors open at 6:45 pm to set up and get ready for the warm-up dances starting at 7:00 pm until 9:00 pm. Drop-in is $7.  First time is FREE. No partner or costume required.  \nOur tenth Lyrids Folk Dance Festival will happen April 19-21\, 2024 at Pitt Meadows Heritage Hall an hour drive east of Vancouver\, BC\, Canada. Our guest teachers are Cristian Florescu & Sonia Dion presenting Romanian dances and Tom Bozigian & Sheree King presenting Armenian dances. Saturday evening will have live music with Zakuska from Seattle\, WA and on Friday evening we’ll dance your favourite dances. \nNote that any registration that includes a lunch or dinner must be made by April 10th. But you can still come at the last minute – for a teaching session or a party on Friday or Saturday nights. For more info and to register https://lyridsfolkdancefestival.org/ \nLYRIDS SHOP: Check your closet! We are taking donations for selling at the shop – any ethnic or ethnic-style clothing\, cool souvenirs etc. We would be grateful.  There will be a bin to receive donations at Tuesday dancing. \nConsignment: if you wish to sell any special costumes by consignment please also bring them on hangers with a written description and the price you wish to receive. The shop will display and sell them while retaining a 15% commission. Downloadable forms are on the Lyrids website: \nConsignment forms: https://lyridsfolkdancefestival.org/wp-content/uploads/2018/01/2018-Shop-Consignment-forms.pdf  \nPrice tag forms: https://docs.google.com/document/d/1GOcQp-ZMtKtBvxW-kDo_tl4cpK1cm6T9/edit?usp=sharing&ouid=113482593893502845435&rtpof=true&sd=true
URL:https://burnabyfolkdance.org/event/come-dance-with-us-on-tuesday-evenings-and-lyrids-folk-dance-festival/
LOCATION:Charles Rummel Community Centre\, 3630 Lozells Ave\, Burnaby\, BC\, V5A 2Y8\, Canada
CATEGORIES:Festival,Weekly Dancing
ORGANIZER;CN="Burnaby International Folk Dancers Club":MAILTO:bifd@burnabyfolkdance.org
END:VEVENT
END:VCALENDAR