BEGIN:VCALENDAR
VERSION:2.0
PRODID:-//Burnaby International Folk Dancers - ECPv6.15.20//NONSGML v1.0//EN
CALSCALE:GREGORIAN
METHOD:PUBLISH
X-ORIGINAL-URL:https://burnabyfolkdance.org
X-WR-CALDESC:Events for Burnaby International Folk Dancers
REFRESH-INTERVAL;VALUE=DURATION:PT1H
X-Robots-Tag:noindex
X-PUBLISHED-TTL:PT1H
BEGIN:VTIMEZONE
TZID:America/Vancouver
BEGIN:DAYLIGHT
TZOFFSETFROM:-0800
TZOFFSETTO:-0700
TZNAME:PDT
DTSTART:20240310T100000
END:DAYLIGHT
BEGIN:STANDARD
TZOFFSETFROM:-0700
TZOFFSETTO:-0800
TZNAME:PST
DTSTART:20241103T090000
END:STANDARD
BEGIN:DAYLIGHT
TZOFFSETFROM:-0800
TZOFFSETTO:-0700
TZNAME:PDT
DTSTART:20250309T100000
END:DAYLIGHT
BEGIN:STANDARD
TZOFFSETFROM:-0700
TZOFFSETTO:-0800
TZNAME:PST
DTSTART:20251102T090000
END:STANDARD
BEGIN:DAYLIGHT
TZOFFSETFROM:-0800
TZOFFSETTO:-0700
TZNAME:PDT
DTSTART:20260308T100000
END:DAYLIGHT
BEGIN:STANDARD
TZOFFSETFROM:-0700
TZOFFSETTO:-0800
TZNAME:PST
DTSTART:20261101T090000
END:STANDARD
END:VTIMEZONE
BEGIN:VEVENT
DTSTART;TZID=America/Vancouver:20250318T184500
DTEND;TZID=America/Vancouver:20250318T211500
DTSTAMP:20260424T114716
CREATED:20250317T235147Z
LAST-MODIFIED:20250318T001022Z
UID:2780-1742323500-1742332500@burnabyfolkdance.org
SUMMARY:CANCELLED March 18th folk dancing
DESCRIPTION:Dancing is cancelled tomorrow night\, March 18th at Charles Rummel Centre in Burnaby from 6:45 pm – 9:15 pm. On March 25th\, we are having our end of the month St. Patrick’s party. Wear something green and bring a snack to share.  \nPlease join us for Wednesday dancing on Zoom from 1:00 pm – 3:00 pm (Pacific Time) for our weekly Balkan and International folk dancing. Tune in at 12:45 pm for chat time. Everyone is welcome!  \nTo join our Zoom session\, click on the link below \nhttps://zoom.us/j/99504932576 \nID: 995 0493 2576 \nPasscode: Bifd (Upper case B followed by lower case ifd) \nHappy dancing! For more information and to receive our reminder emails and announcements contact us at bifd@burnabyfolkdance.org.
URL:https://burnabyfolkdance.org/event/cancelled-march-18th-tuesday-evening-dancing/
LOCATION:BC
CATEGORIES:Dance Party,Weekly Dancing
ORGANIZER;CN="Burnaby International Folk Dancers Club":MAILTO:bifd@burnabyfolkdance.org
END:VEVENT
END:VCALENDAR