BEGIN:VCALENDAR
VERSION:2.0
PRODID:-//Burnaby International Folk Dancers - ECPv6.15.20//NONSGML v1.0//EN
CALSCALE:GREGORIAN
METHOD:PUBLISH
X-WR-CALNAME:Burnaby International Folk Dancers
X-ORIGINAL-URL:https://burnabyfolkdance.org
X-WR-CALDESC:Events for Burnaby International Folk Dancers
REFRESH-INTERVAL;VALUE=DURATION:PT1H
X-Robots-Tag:noindex
X-PUBLISHED-TTL:PT1H
BEGIN:VTIMEZONE
TZID:America/Vancouver
BEGIN:DAYLIGHT
TZOFFSETFROM:-0800
TZOFFSETTO:-0700
TZNAME:PDT
DTSTART:20240310T100000
END:DAYLIGHT
BEGIN:STANDARD
TZOFFSETFROM:-0700
TZOFFSETTO:-0800
TZNAME:PST
DTSTART:20241103T090000
END:STANDARD
BEGIN:DAYLIGHT
TZOFFSETFROM:-0800
TZOFFSETTO:-0700
TZNAME:PDT
DTSTART:20250309T100000
END:DAYLIGHT
BEGIN:STANDARD
TZOFFSETFROM:-0700
TZOFFSETTO:-0800
TZNAME:PST
DTSTART:20251102T090000
END:STANDARD
BEGIN:DAYLIGHT
TZOFFSETFROM:-0800
TZOFFSETTO:-0700
TZNAME:PDT
DTSTART:20260308T100000
END:DAYLIGHT
BEGIN:STANDARD
TZOFFSETFROM:-0700
TZOFFSETTO:-0800
TZNAME:PST
DTSTART:20261101T090000
END:STANDARD
END:VTIMEZONE
BEGIN:VEVENT
DTSTART;TZID=America/Vancouver:20251014T184500
DTEND;TZID=America/Vancouver:20251014T211500
DTSTAMP:20260424T005744
CREATED:20251013T234913Z
LAST-MODIFIED:20251013T234934Z
UID:3050-1760467500-1760476500@burnabyfolkdance.org
SUMMARY:Come dance with us Tuesday evenings!
DESCRIPTION:Come dance with us Tuesday evenings at Charles Rummel Centre in Burnaby from 7:00 pm – 9:00 pm. Everyone is welcome to come and have fun learning folk dances set to ethnic music from cultures around the world. We offer both engaging and interactive\, family-friendly dances that are enjoyable\, accessible and fun for all ages and levels. Doors open at 6:45 to get ready for the warm-up dances starting at 7:00. Drop-in is $7. First time is FREE. No partner or costume required. Please bring your own water bottle. \nHappy dancing! For more information and to receive our reminder emails and announcements contact us at bifd@burnabyfolkdance.org. 
URL:https://burnabyfolkdance.org/event/come/
LOCATION:Charles Rummel Community Centre\, 3630 Lozells Ave\, Burnaby\, BC\, V5A 2Y8\, Canada
CATEGORIES:Audience participation,Teaching,Weekly Dancing
ORGANIZER;CN="Burnaby International Folk Dancers Club":MAILTO:bifd@burnabyfolkdance.org
END:VEVENT
END:VCALENDAR