BEGIN:VCALENDAR
VERSION:2.0
PRODID:-//Burnaby International Folk Dancers - ECPv6.15.20//NONSGML v1.0//EN
CALSCALE:GREGORIAN
METHOD:PUBLISH
X-WR-CALNAME:Burnaby International Folk Dancers
X-ORIGINAL-URL:https://burnabyfolkdance.org
X-WR-CALDESC:Events for Burnaby International Folk Dancers
REFRESH-INTERVAL;VALUE=DURATION:PT1H
X-Robots-Tag:noindex
X-PUBLISHED-TTL:PT1H
BEGIN:VTIMEZONE
TZID:America/Vancouver
BEGIN:DAYLIGHT
TZOFFSETFROM:-0800
TZOFFSETTO:-0700
TZNAME:PDT
DTSTART:20170312T100000
END:DAYLIGHT
BEGIN:STANDARD
TZOFFSETFROM:-0700
TZOFFSETTO:-0800
TZNAME:PST
DTSTART:20171105T090000
END:STANDARD
BEGIN:DAYLIGHT
TZOFFSETFROM:-0800
TZOFFSETTO:-0700
TZNAME:PDT
DTSTART:20180311T100000
END:DAYLIGHT
BEGIN:STANDARD
TZOFFSETFROM:-0700
TZOFFSETTO:-0800
TZNAME:PST
DTSTART:20181104T090000
END:STANDARD
BEGIN:DAYLIGHT
TZOFFSETFROM:-0800
TZOFFSETTO:-0700
TZNAME:PDT
DTSTART:20190310T100000
END:DAYLIGHT
BEGIN:STANDARD
TZOFFSETFROM:-0700
TZOFFSETTO:-0800
TZNAME:PST
DTSTART:20191103T090000
END:STANDARD
BEGIN:DAYLIGHT
TZOFFSETFROM:-0800
TZOFFSETTO:-0700
TZNAME:PDT
DTSTART:20200308T100000
END:DAYLIGHT
BEGIN:STANDARD
TZOFFSETFROM:-0700
TZOFFSETTO:-0800
TZNAME:PST
DTSTART:20201101T090000
END:STANDARD
END:VTIMEZONE
BEGIN:VTIMEZONE
TZID:UTC
BEGIN:STANDARD
TZOFFSETFROM:+0000
TZOFFSETTO:+0000
TZNAME:UTC
DTSTART:20170101T000000
END:STANDARD
END:VTIMEZONE
BEGIN:VEVENT
DTSTART;TZID=America/Vancouver:20190226T183000
DTEND;TZID=America/Vancouver:20190226T213000
DTSTAMP:20260424T175414
CREATED:20180704T031734Z
LAST-MODIFIED:20180809T222312Z
UID:853-1551205800-1551216600@burnabyfolkdance.org
SUMMARY:Weekly Dancing 2019-02-26
DESCRIPTION:Join us in learning folk dances from around the world. Beginners are welcome. First night is Free! No partner or costume required. The evening begins at 6:30pm with the Basic Steps program which introduces dancers to common folk dance steps\, as well as a few of the dances that are on the dance program that evening.\nRegular programming starts at 7pm.
URL:https://burnabyfolkdance.org/event/weekly-dancing-2019-02-26/
LOCATION:Charles Rummel Community Centre\, 3630 Lozells Ave\, Burnaby\, BC\, V5A 2Y8\, Canada
CATEGORIES:Weekly Dancing
ORGANIZER;CN="Jane Kupfer":MAILTO:bifd@burnabyfolkdance.org
END:VEVENT
BEGIN:VEVENT
DTSTART;TZID=America/Vancouver:20190219T183000
DTEND;TZID=America/Vancouver:20190219T213000
DTSTAMP:20260424T175414
CREATED:20180704T031734Z
LAST-MODIFIED:20180809T222338Z
UID:852-1550601000-1550611800@burnabyfolkdance.org
SUMMARY:Weekly Dancing 2019-02-19
DESCRIPTION:Join us in learning folk dances from around the world. Beginners are welcome. First night is Free! No partner or costume required. The evening begins at 6:30pm with the Basic Steps program which introduces dancers to common folk dance steps\, as well as a few of the dances that are on the dance program that evening.\nRegular programming starts at 7pm.
URL:https://burnabyfolkdance.org/event/weekly-dancing-2019-02-19/
LOCATION:Charles Rummel Community Centre\, 3630 Lozells Ave\, Burnaby\, BC\, V5A 2Y8\, Canada
CATEGORIES:Weekly Dancing
ORGANIZER;CN="Jane Kupfer":MAILTO:bifd@burnabyfolkdance.org
END:VEVENT
BEGIN:VEVENT
DTSTART;TZID=America/Vancouver:20190212T183000
DTEND;TZID=America/Vancouver:20190212T220000
DTSTAMP:20260424T175414
CREATED:20180704T031733Z
LAST-MODIFIED:20180809T222404Z
UID:851-1549996200-1550008800@burnabyfolkdance.org
SUMMARY:Weekly Dancing 2019-02-12
DESCRIPTION:Join us in learning folk dances from around the world. Beginners are welcome. First night is Free! No partner or costume required. The evening begins at 6:30pm with the Basic Steps program which introduces dancers to common folk dance steps\, as well as a few of the dances that are on the dance program that evening.\nRegular programming starts at 7pm.
URL:https://burnabyfolkdance.org/event/weekly-dancing-2019-02-12/
LOCATION:Charles Rummel Community Centre\, 3630 Lozells Ave\, Burnaby\, BC\, V5A 2Y8\, Canada
CATEGORIES:Weekly Dancing
ORGANIZER;CN="Jane Kupfer":MAILTO:bifd@burnabyfolkdance.org
END:VEVENT
BEGIN:VEVENT
DTSTART;TZID=America/Vancouver:20190205T183000
DTEND;TZID=America/Vancouver:20190205T213000
DTSTAMP:20260424T175414
CREATED:20180704T031733Z
LAST-MODIFIED:20180809T222435Z
UID:850-1549391400-1549402200@burnabyfolkdance.org
SUMMARY:Weekly Dancing 2019-02-05
DESCRIPTION:Join us in learning folk dances from around the world. Beginners are welcome. First night is Free! No partner or costume required. The evening begins at 6:30pm with the Basic Steps program which introduces dancers to common folk dance steps\, as well as a few of the dances that are on the dance program that evening.\nRegular programming starts at 7pm.
URL:https://burnabyfolkdance.org/event/weekly-dancing-2019-02-05/
LOCATION:Charles Rummel Community Centre\, 3630 Lozells Ave\, Burnaby\, BC\, V5A 2Y8\, Canada
CATEGORIES:Weekly Dancing
ORGANIZER;CN="Jane Kupfer":MAILTO:bifd@burnabyfolkdance.org
END:VEVENT
BEGIN:VEVENT
DTSTART;TZID=America/Vancouver:20190129T183000
DTEND;TZID=America/Vancouver:20190129T213000
DTSTAMP:20260424T175414
CREATED:20180704T031732Z
LAST-MODIFIED:20180809T222459Z
UID:849-1548786600-1548797400@burnabyfolkdance.org
SUMMARY:Weekly Dancing 2019-01-29
DESCRIPTION:Join us in learning folk dances from around the world. Beginners are welcome. First night is Free! No partner or costume required. The evening begins at 6:30pm with the Basic Steps program which introduces dancers to common folk dance steps\, as well as a few of the dances that are on the dance program that evening.\nRegular programming starts at 7pm.
URL:https://burnabyfolkdance.org/event/weekly-dancing-2019-01-29/
LOCATION:Charles Rummel Community Centre\, 3630 Lozells Ave\, Burnaby\, BC\, V5A 2Y8\, Canada
CATEGORIES:Weekly Dancing
ORGANIZER;CN="Jane Kupfer":MAILTO:bifd@burnabyfolkdance.org
END:VEVENT
BEGIN:VEVENT
DTSTART;TZID=America/Vancouver:20190122T183000
DTEND;TZID=America/Vancouver:20190122T213000
DTSTAMP:20260424T175414
CREATED:20180704T031732Z
LAST-MODIFIED:20180809T222527Z
UID:848-1548181800-1548192600@burnabyfolkdance.org
SUMMARY:Weekly Dancing 2019-01-22
DESCRIPTION:Join us in learning folk dances from around the world. Beginners are welcome. First night is Free! No partner or costume required. The evening begins at 6:30pm with the Basic Steps program which introduces dancers to common folk dance steps\, as well as a few of the dances that are on the dance program that evening.\nRegular programming starts at 7pm.
URL:https://burnabyfolkdance.org/event/weekly-dancing-2019-01-22/
LOCATION:Charles Rummel Community Centre\, 3630 Lozells Ave\, Burnaby\, BC\, V5A 2Y8\, Canada
CATEGORIES:Weekly Dancing
ORGANIZER;CN="Jane Kupfer":MAILTO:bifd@burnabyfolkdance.org
END:VEVENT
BEGIN:VEVENT
DTSTART;TZID=America/Vancouver:20190115T183000
DTEND;TZID=America/Vancouver:20190115T213000
DTSTAMP:20260424T175414
CREATED:20180704T031732Z
LAST-MODIFIED:20180809T222556Z
UID:847-1547577000-1547587800@burnabyfolkdance.org
SUMMARY:Weekly Dancing 2019-01-15
DESCRIPTION:Join us in learning folk dances from around the world. Beginners are welcome. First night is Free! No partner or costume required. The evening begins at 6:30pm with the Basic Steps program which introduces dancers to common folk dance steps\, as well as a few of the dances that are on the dance program that evening.\nRegular programming starts at 7pm.
URL:https://burnabyfolkdance.org/event/weekly-dancing-2019-01-15/
LOCATION:Charles Rummel Community Centre\, 3630 Lozells Ave\, Burnaby\, BC\, V5A 2Y8\, Canada
CATEGORIES:Weekly Dancing
ORGANIZER;CN="Jane Kupfer":MAILTO:bifd@burnabyfolkdance.org
END:VEVENT
BEGIN:VEVENT
DTSTART;TZID=America/Vancouver:20190108T183000
DTEND;TZID=America/Vancouver:20190108T213000
DTSTAMP:20260424T175414
CREATED:20180704T031731Z
LAST-MODIFIED:20180809T222622Z
UID:846-1546972200-1546983000@burnabyfolkdance.org
SUMMARY:Weekly Dancing 2019-01-08
DESCRIPTION:Join us in learning folk dances from around the world. Beginners are welcome. First night is Free! No partner or costume required. The evening begins at 6:30pm with the Basic Steps program which introduces dancers to common folk dance steps\, as well as a few of the dances that are on the dance program that evening.\nRegular programming starts at 7pm.
URL:https://burnabyfolkdance.org/event/weekly-dancing-2019-01-08/
LOCATION:Charles Rummel Community Centre\, 3630 Lozells Ave\, Burnaby\, BC\, V5A 2Y8\, Canada
CATEGORIES:Weekly Dancing
ORGANIZER;CN="Jane Kupfer":MAILTO:bifd@burnabyfolkdance.org
END:VEVENT
BEGIN:VEVENT
DTSTART;TZID=America/Vancouver:20181204T183000
DTEND;TZID=America/Vancouver:20181204T220000
DTSTAMP:20260424T175414
CREATED:20180704T031730Z
LAST-MODIFIED:20181108T041742Z
UID:845-1543948200-1543960800@burnabyfolkdance.org
SUMMARY:Winter Dance Party 2018-12-04
DESCRIPTION:Last dance session before the winter break. Bring finger-food to share and wear an ethnic costume if you like. We dance to a prepared playlist created from your requests! The evening begins at 6:30pm with the Basic Steps program which introduces dancers to common folk dance steps\, as well as a few of the dances that are on the dance program that evening.\nParty starts at 7pm.
URL:https://burnabyfolkdance.org/event/winter-dance-party-2018-12-04/
LOCATION:Charles Rummel Community Centre\, 3630 Lozells Ave\, Burnaby\, BC\, V5A 2Y8\, Canada
CATEGORIES:Dance Party,Weekly Dancing
ORGANIZER;CN="Jane Kupfer":MAILTO:bifd@burnabyfolkdance.org
END:VEVENT
BEGIN:VEVENT
DTSTART;TZID=America/Vancouver:20181127T183000
DTEND;TZID=America/Vancouver:20181127T213000
DTSTAMP:20260424T175414
CREATED:20180704T031730Z
LAST-MODIFIED:20180809T222754Z
UID:843-1543343400-1543354200@burnabyfolkdance.org
SUMMARY:Weekly Dancing 2018-11-27
DESCRIPTION:Join us in learning folk dances from around the world. Beginners are welcome. First night is Free! No partner or costume required. The evening begins at 6:30pm with the Basic Steps program which introduces dancers to common folk dance steps\, as well as a few of the dances that are on the dance program that evening.\nRegular programming starts at 7pm.
URL:https://burnabyfolkdance.org/event/weekly-dancing-2018-11-27/
LOCATION:Charles Rummel Community Centre\, 3630 Lozells Ave\, Burnaby\, BC\, V5A 2Y8\, Canada
CATEGORIES:Weekly Dancing
ORGANIZER;CN="Jane Kupfer":MAILTO:bifd@burnabyfolkdance.org
END:VEVENT
BEGIN:VEVENT
DTSTART;TZID=America/Vancouver:20181120T183000
DTEND;TZID=America/Vancouver:20181120T213000
DTSTAMP:20260424T175414
CREATED:20180704T031730Z
LAST-MODIFIED:20180809T222822Z
UID:842-1542738600-1542749400@burnabyfolkdance.org
SUMMARY:Weekly Dancing 2018-11-20
DESCRIPTION:Join us in learning folk dances from around the world. Beginners are welcome. First night is Free! No partner or costume required. The evening begins at 6:30pm with the Basic Steps program which introduces dancers to common folk dance steps\, as well as a few of the dances that are on the dance program that evening.\nRegular programming starts at 7pm.
URL:https://burnabyfolkdance.org/event/weekly-dancing-2018-11-20/
LOCATION:Charles Rummel Community Centre\, 3630 Lozells Ave\, Burnaby\, BC\, V5A 2Y8\, Canada
CATEGORIES:Weekly Dancing
ORGANIZER;CN="Jane Kupfer":MAILTO:bifd@burnabyfolkdance.org
END:VEVENT
BEGIN:VEVENT
DTSTART;TZID=America/Vancouver:20181113T183000
DTEND;TZID=America/Vancouver:20181113T213000
DTSTAMP:20260424T175414
CREATED:20180704T031728Z
LAST-MODIFIED:20180809T222846Z
UID:841-1542133800-1542144600@burnabyfolkdance.org
SUMMARY:Weekly Dancing 2018-11-13
DESCRIPTION:Join us in learning folk dances from around the world. Beginners are welcome. First night is Free! No partner or costume required. The evening begins at 6:30pm with the Basic Steps program which introduces dancers to common folk dance steps\, as well as a few of the dances that are on the dance program that evening.\nRegular programming starts at 7pm.
URL:https://burnabyfolkdance.org/event/weekly-dancing-2018-11-13/
LOCATION:Charles Rummel Community Centre\, 3630 Lozells Ave\, Burnaby\, BC\, V5A 2Y8\, Canada
CATEGORIES:Weekly Dancing
ORGANIZER;CN="Jane Kupfer":MAILTO:bifd@burnabyfolkdance.org
END:VEVENT
BEGIN:VEVENT
DTSTART;TZID=America/Vancouver:20181106T183000
DTEND;TZID=America/Vancouver:20181106T213000
DTSTAMP:20260424T175414
CREATED:20180704T031728Z
LAST-MODIFIED:20180809T222910Z
UID:840-1541529000-1541539800@burnabyfolkdance.org
SUMMARY:Weekly Dancing 2018-11-06
DESCRIPTION:Join us in learning folk dances from around the world. Beginners are welcome. First night is Free! No partner or costume required. The evening begins at 6:30pm with the Basic Steps program which introduces dancers to common folk dance steps\, as well as a few of the dances that are on the dance program that evening.\nRegular programming starts at 7pm.
URL:https://burnabyfolkdance.org/event/weekly-dancing-2018-11-06/
LOCATION:Charles Rummel Community Centre\, 3630 Lozells Ave\, Burnaby\, BC\, V5A 2Y8\, Canada
CATEGORIES:Weekly Dancing
ORGANIZER;CN="Jane Kupfer":MAILTO:bifd@burnabyfolkdance.org
END:VEVENT
BEGIN:VEVENT
DTSTART;TZID=America/Vancouver:20181030T183000
DTEND;TZID=America/Vancouver:20181030T220000
DTSTAMP:20260424T175414
CREATED:20180704T031728Z
LAST-MODIFIED:20181003T182711Z
UID:839-1540924200-1540936800@burnabyfolkdance.org
SUMMARY:Halloween Party 2018-10-30
DESCRIPTION:Join us in learning folk dances from around the world. Beginners are welcome. First night is Free! No partner or costume required. The evening begins at 6:30pm with the Basic Steps program which introduces dancers to common folk dance steps\, as well as a few of the dances that are on the dance program that evening.\nRegular programming 7 to 10pm. This is a Halloween party! If you like\, wear a silly/scary costume and/or bring a treat to share. Don’t want to\, that’s okay! Come dancing anyway.
URL:https://burnabyfolkdance.org/event/weekly-dancing-2018-10-30/
LOCATION:Charles Rummel Community Centre\, 3630 Lozells Ave\, Burnaby\, BC\, V5A 2Y8\, Canada
CATEGORIES:Dance Party,Weekly Dancing
ORGANIZER;CN="Jane Kupfer":MAILTO:bifd@burnabyfolkdance.org
END:VEVENT
BEGIN:VEVENT
DTSTART;TZID=America/Vancouver:20181023T183000
DTEND;TZID=America/Vancouver:20181023T213000
DTSTAMP:20260424T175414
CREATED:20180704T031727Z
LAST-MODIFIED:20180809T223007Z
UID:838-1540319400-1540330200@burnabyfolkdance.org
SUMMARY:Weekly Dancing 2018-10-23
DESCRIPTION:Join us in learning folk dances from around the world. Beginners are welcome. First night is Free! No partner or costume required. The evening begins at 6:30pm with the Basic Steps program which introduces dancers to common folk dance steps\, as well as a few of the dances that are on the dance program that evening.\nRegular programming starts at 7pm.
URL:https://burnabyfolkdance.org/event/weekly-dancing-2018-10-23/
LOCATION:Charles Rummel Community Centre\, 3630 Lozells Ave\, Burnaby\, BC\, V5A 2Y8\, Canada
CATEGORIES:Weekly Dancing
ORGANIZER;CN="Jane Kupfer":MAILTO:bifd@burnabyfolkdance.org
END:VEVENT
BEGIN:VEVENT
DTSTART;TZID=America/Vancouver:20181016T183000
DTEND;TZID=America/Vancouver:20181016T213000
DTSTAMP:20260424T175414
CREATED:20180704T031727Z
LAST-MODIFIED:20180809T223043Z
UID:837-1539714600-1539725400@burnabyfolkdance.org
SUMMARY:Weekly Dancing 2018-10-16
DESCRIPTION:Join us in learning folk dances from around the world. Beginners are welcome. First night is Free! No partner or costume required. The evening begins at 6:30pm with the Basic Steps program which introduces dancers to common folk dance steps\, as well as a few of the dances that are on the dance program that evening.\nRegular programming starts at 7pm.
URL:https://burnabyfolkdance.org/event/weekly-dancing-2018-10-16/
LOCATION:Charles Rummel Community Centre\, 3630 Lozells Ave\, Burnaby\, BC\, V5A 2Y8\, Canada
CATEGORIES:Weekly Dancing
ORGANIZER;CN="Jane Kupfer":MAILTO:bifd@burnabyfolkdance.org
END:VEVENT
BEGIN:VEVENT
DTSTART;TZID=America/Vancouver:20181009T183000
DTEND;TZID=America/Vancouver:20181009T213000
DTSTAMP:20260424T175414
CREATED:20180704T031724Z
LAST-MODIFIED:20180809T223111Z
UID:836-1539109800-1539120600@burnabyfolkdance.org
SUMMARY:Weekly Dancing 2018-10-09
DESCRIPTION:Join us in learning folk dances from around the world. Beginners are welcome. First night is Free! No partner or costume required. The evening begins at 6:30pm with the Basic Steps program which introduces dancers to common folk dance steps\, as well as a few of the dances that are on the dance program that evening.\nRegular programming starts at 7pm.
URL:https://burnabyfolkdance.org/event/weekly-dancing-2018-10-09/
LOCATION:Charles Rummel Community Centre\, 3630 Lozells Ave\, Burnaby\, BC\, V5A 2Y8\, Canada
CATEGORIES:Weekly Dancing
ORGANIZER;CN="Jane Kupfer":MAILTO:bifd@burnabyfolkdance.org
END:VEVENT
BEGIN:VEVENT
DTSTART;TZID=America/Vancouver:20181002T183000
DTEND;TZID=America/Vancouver:20181002T213000
DTSTAMP:20260424T175414
CREATED:20180704T031724Z
LAST-MODIFIED:20180809T223214Z
UID:835-1538505000-1538515800@burnabyfolkdance.org
SUMMARY:Weekly Dancing 2018-10-02
DESCRIPTION:Join us in learning folk dances from around the world. Beginners are welcome. First night is Free! No partner or costume required. The evening begins at 6:30pm with the Basic Steps program which introduces dancers to common folk dance steps\, as well as a few of the dances that are on the dance program that evening.\nRegular programming starts at 7pm.
URL:https://burnabyfolkdance.org/event/weekly-dancing-2018-10-02/
LOCATION:Charles Rummel Community Centre\, 3630 Lozells Ave\, Burnaby\, BC\, V5A 2Y8\, Canada
CATEGORIES:Weekly Dancing
ORGANIZER;CN="Jane Kupfer":MAILTO:bifd@burnabyfolkdance.org
END:VEVENT
BEGIN:VEVENT
DTSTART;TZID=America/Vancouver:20180925T183000
DTEND;TZID=America/Vancouver:20180925T220000
DTSTAMP:20260424T175414
CREATED:20180704T031723Z
LAST-MODIFIED:20180905T042854Z
UID:834-1537900200-1537912800@burnabyfolkdance.org
SUMMARY:Roberto Bagnoli Workshop 2018-09-25
DESCRIPTION:Join us in learning folk dances from around the world. Beginners are welcome. No partner or costume required. The evening begins at 6:30pm with the Basic Steps program which introduces dancers to common folk dance steps and basic dances. \nWarm-up Dances start at 7pm. \n7:15pm: We welcome Roberto Bagnoli from Italy to teach a selection of folk dances.
URL:https://burnabyfolkdance.org/event/weekly-dancing-2018-09-25/
LOCATION:Charles Rummel Community Centre\, 3630 Lozells Ave\, Burnaby\, BC\, V5A 2Y8\, Canada
CATEGORIES:Dance Workshop,Weekly Dancing
ORGANIZER;CN="Jane Kupfer":MAILTO:bifd@burnabyfolkdance.org
END:VEVENT
BEGIN:VEVENT
DTSTART;TZID=America/Vancouver:20180918T183000
DTEND;TZID=America/Vancouver:20180918T213000
DTSTAMP:20260424T175414
CREATED:20180704T031723Z
LAST-MODIFIED:20180829T030033Z
UID:833-1537295400-1537306200@burnabyfolkdance.org
SUMMARY:Open House Dancing 2018-09-18
DESCRIPTION:FREE – Find out what folk dancing is! Join us in learning folk dances from around the world starting at 7:30pm. Beginners are welcome. No partner or costume required.\n6:45pm: Special meeting to make some necessary changes to the constitution.\n7:30pm: Open House dancing
URL:https://burnabyfolkdance.org/event/weekly-dancing-2018-09-18/
LOCATION:Charles Rummel Community Centre\, 3630 Lozells Ave\, Burnaby\, BC\, V5A 2Y8\, Canada
CATEGORIES:General Meeting,Weekly Dancing
ORGANIZER;CN="Jane Kupfer":MAILTO:bifd@burnabyfolkdance.org
END:VEVENT
BEGIN:VEVENT
DTSTART;TZID=America/Vancouver:20180911T183000
DTEND;TZID=America/Vancouver:20180911T213000
DTSTAMP:20260424T175414
CREATED:20180704T031723Z
LAST-MODIFIED:20180829T030244Z
UID:832-1536690600-1536701400@burnabyfolkdance.org
SUMMARY:Weekly Dancing 2018-09-11
DESCRIPTION:Join us in learning folk dances from around the world. Beginners are welcome. First night is Free! No partner or costume required. The evening begins at 6:30pm with the Basic Steps program which introduces dancers to common folk dance steps\, as well as a few of the dances that are on the dance program that evening.\nRegular programming\, which this week is led by Andi Kapplin\, starts at 7pm.
URL:https://burnabyfolkdance.org/event/weekly-dancing-2018-09-11/
LOCATION:Charles Rummel Community Centre\, 3630 Lozells Ave\, Burnaby\, BC\, V5A 2Y8\, Canada
CATEGORIES:Weekly Dancing
ORGANIZER;CN="Jane Kupfer":MAILTO:bifd@burnabyfolkdance.org
END:VEVENT
BEGIN:VEVENT
DTSTART;TZID=America/Vancouver:20180619T193000
DTEND;TZID=America/Vancouver:20180619T213000
DTSTAMP:20260424T175414
CREATED:20180529T115447Z
LAST-MODIFIED:20180809T223706Z
UID:801-1529436600-1529443800@burnabyfolkdance.org
SUMMARY:2018 Vancouver International Folk Dancers - dancing in the Stanley Park
DESCRIPTION:Learn new dances and try the old ones on Tuesday evenings starting June 19 to August 21. Presented by the Vancouver International Folk Dancers.
URL:https://burnabyfolkdance.org/event/2018-vancouver-international-folk-dancers-dancing-in-the-stanely-park/
LOCATION:Ceperley Meadow\, 8701 Stanley Park Dr\, Vancouver\, BC\, V6G 3E2\, Canada
CATEGORIES:Weekly Dancing
ORGANIZER;CN="Vancouver International Folk Dancers":MAILTO:susanpinkham@gmail.com
END:VEVENT
BEGIN:VEVENT
DTSTART;TZID=UTC:20180605T190000
DTEND;TZID=UTC:20180605T220000
DTSTAMP:20260424T175414
CREATED:20170704T132519Z
LAST-MODIFIED:20180704T031035Z
UID:209-1528225200-1528236000@burnabyfolkdance.org
SUMMARY:Season End Party 2018-06-05
DESCRIPTION:Final dance session of the season! Bring finger-food to share and wear an ethnic costume if you like. We dance to a prepared playlist created from your requests!
URL:https://burnabyfolkdance.org/event/season-end-party-2018-06-05/
LOCATION:Charles Rummel Community Centre\, 3630 Lozells Ave\, Burnaby\, BC\, V5A 2Y8\, Canada
CATEGORIES:Dance Party,Weekly Dancing
ORGANIZER;CN="Jane Kupfer":MAILTO:bifd@burnabyfolkdance.org
END:VEVENT
BEGIN:VEVENT
DTSTART;TZID=America/Vancouver:20180605T183000
DTEND;TZID=America/Vancouver:20180605T190000
DTSTAMP:20260424T175414
CREATED:20170901T130813Z
LAST-MODIFIED:20170901T131009Z
UID:705-1528223400-1528225200@burnabyfolkdance.org
SUMMARY:Basic Steps 2018-06-05
DESCRIPTION:The evening begins with the Basic Steps program which introduces dancers to common folk dance steps\, as well as a few of the dances that are on the dance program that evening. There is no additional cost.
URL:https://burnabyfolkdance.org/event/basic-steps-2018-06-05-3/
LOCATION:Charles Rummel Community Centre\, 3630 Lozells Ave\, Burnaby\, BC\, V5A 2Y8\, Canada
CATEGORIES:Weekly Dancing
ORGANIZER;CN="Jane Kupfer":MAILTO:bifd@burnabyfolkdance.org
END:VEVENT
BEGIN:VEVENT
DTSTART;TZID=UTC:20180529T190000
DTEND;TZID=UTC:20180529T213000
DTSTAMP:20260424T175414
CREATED:20170704T132518Z
LAST-MODIFIED:20180529T112949Z
UID:208-1527620400-1527629400@burnabyfolkdance.org
SUMMARY:Weekly Dancing 2018-05-29
DESCRIPTION:Join us in learning folk dances from around the world. Beginners are welcome. First night is Free! No partner or costume required. Basic Steps class at 6:30 – 7:00pm.\nHouse band\, the Pirates will be playing for part of the evening.
URL:https://burnabyfolkdance.org/event/weekly-dancing-2018-05-29/
LOCATION:Charles Rummel Community Centre\, 3630 Lozells Ave\, Burnaby\, BC\, V5A 2Y8\, Canada
CATEGORIES:Weekly Dancing
ORGANIZER;CN="Jane Kupfer":MAILTO:bifd@burnabyfolkdance.org
END:VEVENT
BEGIN:VEVENT
DTSTART;TZID=America/Vancouver:20180529T183000
DTEND;TZID=America/Vancouver:20180529T190000
DTSTAMP:20260424T175414
CREATED:20170901T130813Z
LAST-MODIFIED:20170901T131009Z
UID:704-1527618600-1527620400@burnabyfolkdance.org
SUMMARY:Basic Steps 2018-05-29
DESCRIPTION:The evening begins with the Basic Steps program which introduces dancers to common folk dance steps\, as well as a few of the dances that are on the dance program that evening. There is no additional cost.
URL:https://burnabyfolkdance.org/event/basic-steps-2018-05-29-3/
LOCATION:Charles Rummel Community Centre\, 3630 Lozells Ave\, Burnaby\, BC\, V5A 2Y8\, Canada
CATEGORIES:Weekly Dancing
ORGANIZER;CN="Jane Kupfer":MAILTO:bifd@burnabyfolkdance.org
END:VEVENT
BEGIN:VEVENT
DTSTART;TZID=UTC:20180522T190000
DTEND;TZID=UTC:20180522T213000
DTSTAMP:20260424T175414
CREATED:20170704T132518Z
LAST-MODIFIED:20170704T133533Z
UID:207-1527015600-1527024600@burnabyfolkdance.org
SUMMARY:Weekly Dancing 2018-05-22
DESCRIPTION:Join us in learning folk dances from around the world. Beginners are welcome. First night is Free! No partner or costume required.
URL:https://burnabyfolkdance.org/event/weekly-dancing-2018-05-22/
LOCATION:Charles Rummel Community Centre\, 3630 Lozells Ave\, Burnaby\, BC\, V5A 2Y8\, Canada
CATEGORIES:Weekly Dancing
ORGANIZER;CN="Jane Kupfer":MAILTO:bifd@burnabyfolkdance.org
END:VEVENT
BEGIN:VEVENT
DTSTART;TZID=America/Vancouver:20180522T183000
DTEND;TZID=America/Vancouver:20180522T190000
DTSTAMP:20260424T175414
CREATED:20170901T130813Z
LAST-MODIFIED:20170901T131009Z
UID:703-1527013800-1527015600@burnabyfolkdance.org
SUMMARY:Basic Steps 2018-05-22
DESCRIPTION:The evening begins with the Basic Steps program which introduces dancers to common folk dance steps\, as well as a few of the dances that are on the dance program that evening. There is no additional cost.
URL:https://burnabyfolkdance.org/event/basic-steps-2018-05-22-4/
LOCATION:Charles Rummel Community Centre\, 3630 Lozells Ave\, Burnaby\, BC\, V5A 2Y8\, Canada
CATEGORIES:Weekly Dancing
ORGANIZER;CN="Jane Kupfer":MAILTO:bifd@burnabyfolkdance.org
END:VEVENT
BEGIN:VEVENT
DTSTART;TZID=UTC:20180515T190000
DTEND;TZID=UTC:20180515T213000
DTSTAMP:20260424T175414
CREATED:20170704T132518Z
LAST-MODIFIED:20170704T134826Z
UID:206-1526410800-1526419800@burnabyfolkdance.org
SUMMARY:Weekly Dancing 2018-05-15
DESCRIPTION:Join us in learning folk dances from around the world. Beginners are welcome. First night is Free! No partner or costume required.
URL:https://burnabyfolkdance.org/event/weekly-dancing-2018-05-15/
LOCATION:Charles Rummel Community Centre\, 3630 Lozells Ave\, Burnaby\, BC\, V5A 2Y8\, Canada
CATEGORIES:Weekly Dancing
ORGANIZER;CN="Jane Kupfer":MAILTO:bifd@burnabyfolkdance.org
END:VEVENT
BEGIN:VEVENT
DTSTART;TZID=America/Vancouver:20180515T183000
DTEND;TZID=America/Vancouver:20180515T190000
DTSTAMP:20260424T175414
CREATED:20170901T130812Z
LAST-MODIFIED:20170901T131009Z
UID:702-1526409000-1526410800@burnabyfolkdance.org
SUMMARY:Basic Steps 2018-05-15
DESCRIPTION:The evening begins with the Basic Steps program which introduces dancers to common folk dance steps\, as well as a few of the dances that are on the dance program that evening. There is no additional cost.
URL:https://burnabyfolkdance.org/event/basic-steps-2018-05-15-4/
LOCATION:Charles Rummel Community Centre\, 3630 Lozells Ave\, Burnaby\, BC\, V5A 2Y8\, Canada
CATEGORIES:Weekly Dancing
ORGANIZER;CN="Jane Kupfer":MAILTO:bifd@burnabyfolkdance.org
END:VEVENT
END:VCALENDAR