BEGIN:VCALENDAR
VERSION:2.0
PRODID:-//Burnaby International Folk Dancers - ECPv6.15.20//NONSGML v1.0//EN
CALSCALE:GREGORIAN
METHOD:PUBLISH
X-WR-CALNAME:Burnaby International Folk Dancers
X-ORIGINAL-URL:https://burnabyfolkdance.org
X-WR-CALDESC:Events for Burnaby International Folk Dancers
REFRESH-INTERVAL;VALUE=DURATION:PT1H
X-Robots-Tag:noindex
X-PUBLISHED-TTL:PT1H
BEGIN:VTIMEZONE
TZID:America/Vancouver
BEGIN:DAYLIGHT
TZOFFSETFROM:-0800
TZOFFSETTO:-0700
TZNAME:PDT
DTSTART:20240310T100000
END:DAYLIGHT
BEGIN:STANDARD
TZOFFSETFROM:-0700
TZOFFSETTO:-0800
TZNAME:PST
DTSTART:20241103T090000
END:STANDARD
BEGIN:DAYLIGHT
TZOFFSETFROM:-0800
TZOFFSETTO:-0700
TZNAME:PDT
DTSTART:20250309T100000
END:DAYLIGHT
BEGIN:STANDARD
TZOFFSETFROM:-0700
TZOFFSETTO:-0800
TZNAME:PST
DTSTART:20251102T090000
END:STANDARD
BEGIN:DAYLIGHT
TZOFFSETFROM:-0800
TZOFFSETTO:-0700
TZNAME:PDT
DTSTART:20260308T100000
END:DAYLIGHT
BEGIN:STANDARD
TZOFFSETFROM:-0700
TZOFFSETTO:-0800
TZNAME:PST
DTSTART:20261101T090000
END:STANDARD
BEGIN:DAYLIGHT
TZOFFSETFROM:-0800
TZOFFSETTO:-0700
TZNAME:PDT
DTSTART:20270314T100000
END:DAYLIGHT
BEGIN:STANDARD
TZOFFSETFROM:-0700
TZOFFSETTO:-0800
TZNAME:PST
DTSTART:20271107T090000
END:STANDARD
END:VTIMEZONE
BEGIN:VEVENT
DTSTART;TZID=America/Vancouver:20251125T184500
DTEND;TZID=America/Vancouver:20251125T210000
DTSTAMP:20260424T070714
CREATED:20251124T235826Z
LAST-MODIFIED:20251125T001509Z
UID:3094-1764096300-1764104400@burnabyfolkdance.org
SUMMARY:Tuesday evening month-end party
DESCRIPTION:We are having a month-end party this week on Tuesday evening at Charles Rummel Centre in Burnaby. Everyone’s welcome to join us as we have a fun dance program for you all to enjoy. Bring a treat to share.  \n\nArrive early to say hi to everyone\, as doors open at 6:45 pm and dancing starts at 7:00 pm. First time is free and drop in is $7.  \nFor more information and to receive weekly emails with our programs and announcements contact us at bifd@burnabyfolkdance.org. Our website: https://burnabyfolkdance.org. 
URL:https://burnabyfolkdance.org/event/end-of-the-month-dance-party-tuesday-evening/
LOCATION:Charles Rummel Community Centre\, 3630 Lozells Ave\, Burnaby\, BC\, V5A 2Y8\, Canada
CATEGORIES:Audience participation,Dance Party,Weekly Dancing
ORGANIZER;CN="Burnaby International Folk Dancers Club":MAILTO:bifd@burnabyfolkdance.org
END:VEVENT
BEGIN:VEVENT
DTSTART;TZID=America/Vancouver:20251202T184500
DTEND;TZID=America/Vancouver:20251202T213000
DTSTAMP:20260424T070714
CREATED:20251201T181956Z
LAST-MODIFIED:20251201T181956Z
UID:3107-1764701100-1764711000@burnabyfolkdance.org
SUMMARY:Year-end Holiday dance party Tuesday evening
DESCRIPTION:Come dance with us on Tuesday evenings at Charles Rummel Centre in Burnaby. On December 2nd\, will be our year-end Holiday party with house band\, The Pirates playing for us and we are extending the evening by half an hour to 9:30. In the spirit of festivities\, we’re encouraging festive wear and costumes\, and please bring a treat to share with everyone. Doors open at 6:45 to get ready for the warm-up dances starting at 7:00. Drop-in is $7. First time is FREE.
URL:https://burnabyfolkdance.org/event/year-end-holiday-dance-party-tuesday-evening/
LOCATION:Charles Rummel Community Centre\, 3630 Lozells Ave\, Burnaby\, BC\, V5A 2Y8\, Canada
CATEGORIES:Audience participation,Dance Party,Weekly Dancing
ORGANIZER;CN="Burnaby International Folk Dancers Club":MAILTO:bifd@burnabyfolkdance.org
END:VEVENT
BEGIN:VEVENT
DTSTART;TZID=America/Vancouver:20260106T184500
DTEND;TZID=America/Vancouver:20260106T210000
DTSTAMP:20260424T070714
CREATED:20260106T000902Z
LAST-MODIFIED:20260106T000902Z
UID:3151-1767725100-1767733200@burnabyfolkdance.org
SUMMARY:Come dance with us Tuesday evening to bring in the New Year!
DESCRIPTION:Happy New Year! We are having a party to start the New Year. Please bring a snack to share. \nWe dance at Charles Rummel Centre in Burnaby from 7:00 pm – 9:00 pm. Everyone is welcome to come and have fun learning folk dances from around the world. We offer both engaging and interactive\, family-friendly dances that are enjoyable\, accessible and fun for all ages and levels. \nDoors open at 6:45 to get ready for the warm-up dances starting at 7:00. You can attend on a weekly or drop-in basis. $7.00 per session\, but your first time is free. No partner or costume required. Please bring a water bottle. \nHappy dancing! For more information and to receive our reminder emails and announcements contact us at bifd@burnabyfolkdance.org. Our website: https://burnabyfolkdance.org.  \n\n 
URL:https://burnabyfolkdance.org/event/come-dance-with-us-tuesday-evening-to-bring-in-the-new-year/
LOCATION:Charles Rummel Community Centre\, 3630 Lozells Ave\, Burnaby\, BC\, V5A 2Y8\, Canada
CATEGORIES:Audience participation,Dance Party,Teaching,Weekly Dancing
END:VEVENT
BEGIN:VEVENT
DTSTART;TZID=America/Vancouver:20260113T184500
DTEND;TZID=America/Vancouver:20260113T210000
DTSTAMP:20260424T070714
CREATED:20260113T034901Z
LAST-MODIFIED:20260113T035213Z
UID:3167-1768329900-1768338000@burnabyfolkdance.org
SUMMARY:Come dance with us Tuesday evenings! All are welcome!
DESCRIPTION:Come dance with us Tuesday evenings and come early to meet everyone before our warm-up dancing starts at 7:00 pm. Learn dances from the Balkans and many other countries. New dances taught regularly. Beginners and all levels are welcome\, no partner needed. You can attend on a drop-in basis or make a weekly commitment. $7.00 per session and the first time is free. Bring a water bottle to keep hydrated. \nHappy dancing! For more information and to receive our reminder emails and announcements contact us at bifd@burnabyfolkdance.org. 
URL:https://burnabyfolkdance.org/event/come-dance-with-us-tuesday-evenings-all-are-welcome/
LOCATION:Charles Rummel Community Centre\, 3630 Lozells Ave\, Burnaby\, BC\, V5A 2Y8\, Canada
CATEGORIES:Audience participation,Teaching,Weekly Dancing
ORGANIZER;CN="Burnaby International Folk Dancers Club":MAILTO:bifd@burnabyfolkdance.org
END:VEVENT
BEGIN:VEVENT
DTSTART;TZID=America/Vancouver:20260120T184500
DTEND;TZID=America/Vancouver:20260120T210000
DTSTAMP:20260424T070714
CREATED:20260120T051532Z
LAST-MODIFIED:20260120T051532Z
UID:3174-1768934700-1768942800@burnabyfolkdance.org
SUMMARY:Come dance with us Tuesday evenings! All are welcome!
DESCRIPTION:Come dance with us Tuesday evenings and come early to meet everyone before our warm-up dancing starts at 7:00 pm. Learn dances from the Balkans and many other countries. New dances taught regularly. Beginners and all levels are welcome\, no partner needed. You can attend on a drop-in basis or make a weekly commitment. $7.00 per session and the first time is free. Bring a water bottle to keep hydrated. \nHappy dancing! For more information and to receive our reminder emails and announcements contact us at bifd@burnabyfolkdance.org. 
URL:https://burnabyfolkdance.org/event/come-dance-with-us-tuesday-evenings-all-are-welcome-2/
LOCATION:Charles Rummel Community Centre\, 3630 Lozells Ave\, Burnaby\, BC\, V5A 2Y8\, Canada
CATEGORIES:Audience participation,Teaching,Weekly Dancing
ORGANIZER;CN="Burnaby International Folk Dancers Club":MAILTO:bifd@burnabyfolkdance.org
END:VEVENT
BEGIN:VEVENT
DTSTART;TZID=America/Vancouver:20260127T184500
DTEND;TZID=America/Vancouver:20260127T210000
DTSTAMP:20260424T070714
CREATED:20260127T194021Z
LAST-MODIFIED:20260127T195050Z
UID:3182-1769539500-1769547600@burnabyfolkdance.org
SUMMARY:Tuesday evening month-end party! All are welcome!
DESCRIPTION:Our month-end party is this Tuesday\, January 27th at Charles Rummel Centre in Burnaby. Everyone’s welcome to join us as we have a fun dance program for you all to enjoy. Bring a treat to share. Arrive early to say hi to everyone\, as doors open at 6:45 pm and we dance from 7:00 pm – 9:00 pm. \nWe learn dances from the Balkans and many other countries. New dances taught regularly. Beginners and all levels are welcome\, no partner needed. Wear comfortable clothing and non-marking shoes and bring a water bottle to keep hydrated. \nCome on a drop-in basis or make a weekly commitment. $7.00 per session. First time is free. Come check out our friendly club.  \n\nFor more information and to receive weekly emails with our programs and announcements contact us at bifd@burnabyfolkdance.org. Our website: https://burnabyfolkdance.org. 
URL:https://burnabyfolkdance.org/event/tuesday-evening-month-end-party-all/
LOCATION:Charles Rummel Community Centre\, 3630 Lozells Ave\, Burnaby\, BC\, V5A 2Y8\, Canada
CATEGORIES:Audience participation,Dance Party,Weekly Dancing
ORGANIZER;CN="Burnaby International Folk Dancers Club":MAILTO:bifd@burnabyfolkdance.org
END:VEVENT
BEGIN:VEVENT
DTSTART;TZID=America/Vancouver:20260203T184500
DTEND;TZID=America/Vancouver:20260203T210000
DTSTAMP:20260424T070714
CREATED:20260202T011927Z
LAST-MODIFIED:20260202T012132Z
UID:3197-1770144300-1770152400@burnabyfolkdance.org
SUMMARY:Come dance with us Tuesday evenings! All are welcome!
DESCRIPTION:Come dance with us Tuesday evenings and come early to meet everyone before our warm-up dancing starts at 7:00 pm. Learn dances from the Balkans and many other countries. New dances taught regularly. Beginners and all levels are welcome\, no partner needed. You can attend on a drop-in basis or make a weekly commitment. $7.00 per session and the first time is free. Bring a water bottle to keep hydrated. \nHappy dancing! For more information and to receive our reminder emails and announcements contact us at bifd@burnabyfolkdance.org. 
URL:https://burnabyfolkdance.org/event/come-dance-with-us-tuesday-evenings-all-are-welcome-3/
LOCATION:Charles Rummel Community Centre\, 3630 Lozells Ave\, Burnaby\, BC\, V5A 2Y8\, Canada
CATEGORIES:Audience participation,Teaching,Weekly Dancing
ORGANIZER;CN="Burnaby International Folk Dancers Club":MAILTO:bifd@burnabyfolkdance.org
END:VEVENT
BEGIN:VEVENT
DTSTART;TZID=America/Vancouver:20260210T184500
DTEND;TZID=America/Vancouver:20260210T210000
DTSTAMP:20260424T070714
CREATED:20260202T012046Z
LAST-MODIFIED:20260202T012046Z
UID:3199-1770749100-1770757200@burnabyfolkdance.org
SUMMARY:Come dance with us Tuesday evenings! All are welcome!
DESCRIPTION:Come dance with us Tuesday evenings and come early to meet everyone before our warm-up dancing starts at 7:00 pm. Learn dances from the Balkans and many other countries. New dances taught regularly. Beginners and all levels are welcome\, no partner needed. You can attend on a drop-in basis or make a weekly commitment. $7.00 per session and the first time is free. Bring a water bottle to keep hydrated. \nHappy dancing! For more information and to receive our reminder emails and announcements contact us at bifd@burnabyfolkdance.org. 
URL:https://burnabyfolkdance.org/event/come-dance-with-us-tuesday-evenings-all-are-welcome-4/
LOCATION:Charles Rummel Community Centre\, 3630 Lozells Ave\, Burnaby\, BC\, V5A 2Y8\, Canada
CATEGORIES:Audience participation,Teaching,Weekly Dancing
ORGANIZER;CN="Burnaby International Folk Dancers Club":MAILTO:bifd@burnabyfolkdance.org
END:VEVENT
BEGIN:VEVENT
DTSTART;TZID=America/Vancouver:20260217T184500
DTEND;TZID=America/Vancouver:20260217T210000
DTSTAMP:20260424T070714
CREATED:20260202T012244Z
LAST-MODIFIED:20260202T012244Z
UID:3201-1771353900-1771362000@burnabyfolkdance.org
SUMMARY:Come dance with us Tuesday evenings! All are welcome!
DESCRIPTION:Come dance with us Tuesday evenings and come early to meet everyone before our warm-up dancing starts at 7:00 pm. Learn dances from the Balkans and many other countries. New dances taught regularly. Beginners and all levels are welcome\, no partner needed. You can attend on a drop-in basis or make a weekly commitment. $7.00 per session and the first time is free. Bring a water bottle to keep hydrated. \nHappy dancing! For more information and to receive our reminder emails and announcements contact us at bifd@burnabyfolkdance.org. 
URL:https://burnabyfolkdance.org/event/come-dance-with-us-tuesday-evenings-all-are-welcome-5/
LOCATION:Charles Rummel Community Centre\, 3630 Lozells Ave\, Burnaby\, BC\, V5A 2Y8\, Canada
CATEGORIES:Audience participation,Teaching,Weekly Dancing
ORGANIZER;CN="Burnaby International Folk Dancers Club":MAILTO:bifd@burnabyfolkdance.org
END:VEVENT
BEGIN:VEVENT
DTSTART;TZID=America/Vancouver:20260224T184500
DTEND;TZID=America/Vancouver:20260224T210000
DTSTAMP:20260424T070714
CREATED:20260202T012400Z
LAST-MODIFIED:20260202T012400Z
UID:3203-1771958700-1771966800@burnabyfolkdance.org
SUMMARY:Come dance with us Tuesday evenings! All are welcome!
DESCRIPTION:Come dance with us Tuesday evenings and come early to meet everyone before our warm-up dancing starts at 7:00 pm. Learn dances from the Balkans and many other countries. New dances taught regularly. Beginners and all levels are welcome\, no partner needed. You can attend on a drop-in basis or make a weekly commitment. $7.00 per session and the first time is free. Bring a water bottle to keep hydrated. \nHappy dancing! For more information and to receive our reminder emails and announcements contact us at bifd@burnabyfolkdance.org. 
URL:https://burnabyfolkdance.org/event/come-dance-with-us-tuesday-evenings-all-are-welcome-6/
LOCATION:Charles Rummel Community Centre\, 3630 Lozells Ave\, Burnaby\, BC\, V5A 2Y8\, Canada
CATEGORIES:Audience participation,Teaching,Weekly Dancing
ORGANIZER;CN="Burnaby International Folk Dancers Club":MAILTO:bifd@burnabyfolkdance.org
END:VEVENT
BEGIN:VEVENT
DTSTART;TZID=America/Vancouver:20260303T184500
DTEND;TZID=America/Vancouver:20260303T210000
DTSTAMP:20260424T070714
CREATED:20260303T194938Z
LAST-MODIFIED:20260303T195001Z
UID:3217-1772563500-1772571600@burnabyfolkdance.org
SUMMARY:Come dance with us on Tuesday evenings! All are welcome!
DESCRIPTION:Come dance with us Tuesday evenings and come early to meet everyone before our warm-up dancing starts at 7:00 pm. Learn dances from the Balkans and many other countries. New dances taught regularly. Beginners and all levels are welcome\, no partner needed. You can attend on a drop-in basis or make a weekly commitment. $7.00 per session and the first time is free. Bring a water bottle to keep hydrated. Come check out our friendly club.  \nHappy dancing! For more information and to receive our reminder emails and announcements contact us at bifd@burnabyfolkdance.org. 
URL:https://burnabyfolkdance.org/event/come-2/
LOCATION:Charles Rummel Community Centre\, 3630 Lozells Ave\, Burnaby\, BC\, V5A 2Y8\, Canada
CATEGORIES:Audience participation,Teaching,Weekly Dancing
ORGANIZER;CN="Burnaby International Folk Dancers Club":MAILTO:bifd@burnabyfolkdance.org
END:VEVENT
BEGIN:VEVENT
DTSTART;TZID=America/Vancouver:20260310T184500
DTEND;TZID=America/Vancouver:20260310T210000
DTSTAMP:20260424T070714
CREATED:20260310T025156Z
LAST-MODIFIED:20260310T025156Z
UID:3229-1773168300-1773176400@burnabyfolkdance.org
SUMMARY:Come dance with us Tuesday evenings! All are welcome!
DESCRIPTION:Come dance with us Tuesday evenings and come early to meet everyone before our warm-up dancing starts at 7:00 pm. Learn dances from the Balkans and many other countries. New dances taught regularly. Beginners and all levels are welcome\, no partner needed. You can attend on a drop-in basis or make a weekly commitment. $7.00 per session and the first time is free. Bring a water bottle to keep hydrated. Come check out our friendly club.  \nHappy dancing! For more information and to receive our reminder emails and announcements contact us at bifd@burnabyfolkdance.org. 
URL:https://burnabyfolkdance.org/event/come-dance-with-us-tuesday-evenings-all-are-welcome-7/
LOCATION:Charles Rummel Community Centre\, 3630 Lozells Ave\, Burnaby\, BC\, V5A 2Y8\, Canada
CATEGORIES:Teaching,Weekly Dancing
ORGANIZER;CN="Burnaby International Folk Dancers Club":MAILTO:bifd@burnabyfolkdance.org
END:VEVENT
BEGIN:VEVENT
DTSTART;TZID=America/Vancouver:20260317T184500
DTEND;TZID=America/Vancouver:20260317T210000
DTSTAMP:20260424T070714
CREATED:20260317T024943Z
LAST-MODIFIED:20260317T024943Z
UID:3234-1773773100-1773781200@burnabyfolkdance.org
SUMMARY:Come dance with us Tuesday evenings! All are welcome!
DESCRIPTION:Come dance with us Tuesday evenings and come early to meet everyone before our warm-up dancing starts at 7:00 pm. Learn dances from the Balkans and many other countries. New dances taught regularly. Beginners and all levels are welcome\, no partner needed. You can attend on a drop-in basis or make a weekly commitment. $7.00 per session and the first time is free. Bring a water bottle to keep hydrated. Come check out our friendly club.  \nHappy dancing! For more information and to receive our reminder emails and announcements contact us at bifd@burnabyfolkdance.org. 
URL:https://burnabyfolkdance.org/event/come-dance-with-us-tuesday-evenings-all-are-welcome-8/
LOCATION:BC
CATEGORIES:Audience participation,Teaching,Weekly Dancing
ORGANIZER;CN="Burnaby International Folk Dancers Club":MAILTO:bifd@burnabyfolkdance.org
END:VEVENT
BEGIN:VEVENT
DTSTART;TZID=America/Vancouver:20260324T184500
DTEND;TZID=America/Vancouver:20260324T210000
DTSTAMP:20260424T070714
CREATED:20260323T210406Z
LAST-MODIFIED:20260323T210406Z
UID:3246-1774377900-1774386000@burnabyfolkdance.org
SUMMARY:Come dance with us on Tuesday evenings! All are welcome!
DESCRIPTION:Come dance with us Tuesday evenings and come early to meet everyone before our warm-up dancing starts at 7:00 pm. Learn dances from the Balkans and many other countries. New dances taught regularly. Beginners and all levels are welcome\, no partner needed. You can attend on a drop-in basis or make a weekly commitment. $7.00 per session and the first time is free. Bring a water bottle to keep hydrated. Come check out our friendly club.  \nHappy dancing! For more information and to receive our reminder emails and announcements contact us at bifd@burnabyfolkdance.org. 
URL:https://burnabyfolkdance.org/event/come-dance-with-us-on-tuesday-evenings-all-are-welcome/
LOCATION:Charles Rummel Community Centre\, 3630 Lozells Ave\, Burnaby\, BC\, V5A 2Y8\, Canada
CATEGORIES:Audience participation,Teaching,Weekly Dancing
ORGANIZER;CN="Burnaby International Folk Dancers Club":MAILTO:bifd@burnabyfolkdance.org
END:VEVENT
BEGIN:VEVENT
DTSTART;TZID=America/Vancouver:20260331T180000
DTEND;TZID=America/Vancouver:20260331T210000
DTSTAMP:20260424T070714
CREATED:20260323T211137Z
LAST-MODIFIED:20260323T211137Z
UID:3251-1774980000-1774990800@burnabyfolkdance.org
SUMMARY:Tuesday evening month-end dance party! All are welcome!
DESCRIPTION:Our month-end party is this Tuesday\, March 31st at Charles Rummel Centre in Burnaby. Everyone’s welcome to join us as we have a fun dance program for you all to enjoy. Bring a treat to share. Arrive early to say hi to everyone\, as doors open at 6:45 pm and we dance from 7:00 pm – 9:00 pm. \nWe learn dances from the Balkans and many other countries. New dances taught regularly. Beginners and all levels are welcome\, no partner needed. Wear comfortable clothing and non-marking shoes and bring a water bottle to keep hydrated. \nCome on a drop-in basis or make a weekly commitment. $7.00 per session. First time is free. Come check out our friendly club.  \n\nFor more information and to receive weekly emails with our programs and announcements contact us at bifd@burnabyfolkdance.org. Our website: https://burnabyfolkdance.org. 
URL:https://burnabyfolkdance.org/event/tuesday-evening-month-end-dance-party-all-are-welcome/
LOCATION:Charles Rummel Community Centre\, 3630 Lozells Ave\, Burnaby\, BC\, V5A 2Y8\, Canada
CATEGORIES:Audience participation,Dance Party,Weekly Dancing
ORGANIZER;CN="Burnaby International Folk Dancers Club":MAILTO:bifd@burnabyfolkdance.org
END:VEVENT
BEGIN:VEVENT
DTSTART;TZID=America/Vancouver:20260407T184500
DTEND;TZID=America/Vancouver:20260407T210000
DTSTAMP:20260424T070714
CREATED:20260323T211628Z
LAST-MODIFIED:20260323T211628Z
UID:3256-1775587500-1775595600@burnabyfolkdance.org
SUMMARY:Come dance with us Tuesday evening! All are welcome!
DESCRIPTION:Come dance with us Tuesday evenings and come early to meet everyone before our warm-up dancing starts at 7:00 pm. Learn dances from the Balkans and many other countries. New dances taught regularly. Beginners and all levels are welcome\, no partner needed. You can attend on a drop-in basis or make a weekly commitment. $7.00 per session and the first time is free. Bring a water bottle to keep hydrated. Come check out our friendly club.  \nHappy dancing! For more information and to receive our reminder emails and announcements contact us at bifd@burnabyfolkdance.org. 
URL:https://burnabyfolkdance.org/event/come-dance-with-us-tuesday-evening-all-are-welcome/
LOCATION:Charles Rummel Community Centre\, 3630 Lozells Ave\, Burnaby\, BC\, V5A 2Y8\, Canada
CATEGORIES:Audience participation,Teaching,Weekly Dancing
ORGANIZER;CN="Burnaby International Folk Dancers Club":MAILTO:bifd@burnabyfolkdance.org
END:VEVENT
BEGIN:VEVENT
DTSTART;TZID=America/Vancouver:20260414T184500
DTEND;TZID=America/Vancouver:20260414T210000
DTSTAMP:20260424T070714
CREATED:20260323T212134Z
LAST-MODIFIED:20260323T212134Z
UID:3261-1776192300-1776200400@burnabyfolkdance.org
SUMMARY:Come dance with us Tuesday evenings! All are welcome!
DESCRIPTION:Come dance with us Tuesday evenings and come early to meet everyone before our warm-up dancing starts at 7:00 pm. Learn dances from the Balkans and many other countries. New dances taught regularly. Beginners and all levels are welcome\, no partner needed. You can attend on a drop-in basis or make a weekly commitment. $7.00 per session and the first time is free. Bring a water bottle to keep hydrated. Come check out our friendly club.  \nHappy dancing! For more information and to receive our reminder emails and announcements contact us at bifd@burnabyfolkdance.org. 
URL:https://burnabyfolkdance.org/event/come-dance-with-us-tuesday-evenings-all-are-welcome-9/
LOCATION:Charles Rummel Community Centre\, 3630 Lozells Ave\, Burnaby\, BC\, V5A 2Y8\, Canada
CATEGORIES:Audience participation,Teaching,Weekly Dancing
ORGANIZER;CN="Burnaby International Folk Dancers Club":MAILTO:bifd@burnabyfolkdance.org
END:VEVENT
BEGIN:VEVENT
DTSTART;TZID=America/Vancouver:20260421T184500
DTEND;TZID=America/Vancouver:20260421T210000
DTSTAMP:20260424T070714
CREATED:20260127T040114Z
LAST-MODIFIED:20260420T195557Z
UID:3178-1776797100-1776805200@burnabyfolkdance.org
SUMMARY:Tineke & Maurits van Geel workshop
DESCRIPTION:Come dance with us Tuesday evenings and come early to meet everyone before our warm-up dancing starts at 7:00 pm.  Learn dances from the Balkans and many other countries. New dances taught regularly.  Beginners and all levels are welcome!  \nThis week we are having a final farewell workshop with the featured teachers at Lyrids Festival\, Maurits and Tineke van Geel. They will teach International and Armenian dances.  First time is Free and drop in is $7.00.   \n \n  \n 
URL:https://burnabyfolkdance.org/event/tineke-maurits-van-geel-workshop/
LOCATION:Charles Rummel Community Centre\, 3630 Lozells Ave\, Burnaby\, BC\, V5A 2Y8\, Canada
CATEGORIES:Audience participation,Dance Workshop,Teaching,Weekly Dancing
ORGANIZER;CN="Burnaby International Folk Dancers Club":MAILTO:bifd@burnabyfolkdance.org
END:VEVENT
END:VCALENDAR