BEGIN:VCALENDAR
VERSION:2.0
PRODID:-//Burnaby International Folk Dancers - ECPv6.15.20//NONSGML v1.0//EN
CALSCALE:GREGORIAN
METHOD:PUBLISH
X-ORIGINAL-URL:https://burnabyfolkdance.org
X-WR-CALDESC:Events for Burnaby International Folk Dancers
REFRESH-INTERVAL;VALUE=DURATION:PT1H
X-Robots-Tag:noindex
X-PUBLISHED-TTL:PT1H
BEGIN:VTIMEZONE
TZID:America/Vancouver
BEGIN:DAYLIGHT
TZOFFSETFROM:-0800
TZOFFSETTO:-0700
TZNAME:PDT
DTSTART:20170312T100000
END:DAYLIGHT
BEGIN:STANDARD
TZOFFSETFROM:-0700
TZOFFSETTO:-0800
TZNAME:PST
DTSTART:20171105T090000
END:STANDARD
BEGIN:DAYLIGHT
TZOFFSETFROM:-0800
TZOFFSETTO:-0700
TZNAME:PDT
DTSTART:20180311T100000
END:DAYLIGHT
BEGIN:STANDARD
TZOFFSETFROM:-0700
TZOFFSETTO:-0800
TZNAME:PST
DTSTART:20181104T090000
END:STANDARD
BEGIN:DAYLIGHT
TZOFFSETFROM:-0800
TZOFFSETTO:-0700
TZNAME:PDT
DTSTART:20190310T100000
END:DAYLIGHT
BEGIN:STANDARD
TZOFFSETFROM:-0700
TZOFFSETTO:-0800
TZNAME:PST
DTSTART:20191103T090000
END:STANDARD
END:VTIMEZONE
BEGIN:VTIMEZONE
TZID:UTC
BEGIN:STANDARD
TZOFFSETFROM:+0000
TZOFFSETTO:+0000
TZNAME:UTC
DTSTART:20170101T000000
END:STANDARD
END:VTIMEZONE
BEGIN:VEVENT
DTSTART;TZID=America/Vancouver:20180911T183000
DTEND;TZID=America/Vancouver:20180911T213000
DTSTAMP:20260424T205314
CREATED:20180704T031723Z
LAST-MODIFIED:20180829T030244Z
UID:832-1536690600-1536701400@burnabyfolkdance.org
SUMMARY:Weekly Dancing 2018-09-11
DESCRIPTION:Join us in learning folk dances from around the world. Beginners are welcome. First night is Free! No partner or costume required. The evening begins at 6:30pm with the Basic Steps program which introduces dancers to common folk dance steps\, as well as a few of the dances that are on the dance program that evening.\nRegular programming\, which this week is led by Andi Kapplin\, starts at 7pm.
URL:https://burnabyfolkdance.org/event/weekly-dancing-2018-09-11/
LOCATION:Charles Rummel Community Centre\, 3630 Lozells Ave\, Burnaby\, BC\, V5A 2Y8\, Canada
CATEGORIES:Weekly Dancing
ORGANIZER;CN="Jane Kupfer":MAILTO:bifd@burnabyfolkdance.org
END:VEVENT
BEGIN:VEVENT
DTSTART;TZID=America/Vancouver:20180619T193000
DTEND;TZID=America/Vancouver:20180619T213000
DTSTAMP:20260424T205314
CREATED:20180529T115447Z
LAST-MODIFIED:20180809T223706Z
UID:801-1529436600-1529443800@burnabyfolkdance.org
SUMMARY:2018 Vancouver International Folk Dancers - dancing in the Stanley Park
DESCRIPTION:Learn new dances and try the old ones on Tuesday evenings starting June 19 to August 21. Presented by the Vancouver International Folk Dancers.
URL:https://burnabyfolkdance.org/event/2018-vancouver-international-folk-dancers-dancing-in-the-stanely-park/
LOCATION:Ceperley Meadow\, 8701 Stanley Park Dr\, Vancouver\, BC\, V6G 3E2\, Canada
CATEGORIES:Weekly Dancing
ORGANIZER;CN="Vancouver International Folk Dancers":MAILTO:susanpinkham@gmail.com
END:VEVENT
BEGIN:VEVENT
DTSTART;TZID=UTC:20180605T190000
DTEND;TZID=UTC:20180605T220000
DTSTAMP:20260424T205314
CREATED:20170704T132519Z
LAST-MODIFIED:20180704T031035Z
UID:209-1528225200-1528236000@burnabyfolkdance.org
SUMMARY:Season End Party 2018-06-05
DESCRIPTION:Final dance session of the season! Bring finger-food to share and wear an ethnic costume if you like. We dance to a prepared playlist created from your requests!
URL:https://burnabyfolkdance.org/event/season-end-party-2018-06-05/
LOCATION:Charles Rummel Community Centre\, 3630 Lozells Ave\, Burnaby\, BC\, V5A 2Y8\, Canada
CATEGORIES:Dance Party,Weekly Dancing
ORGANIZER;CN="Jane Kupfer":MAILTO:bifd@burnabyfolkdance.org
END:VEVENT
BEGIN:VEVENT
DTSTART;TZID=America/Vancouver:20180605T183000
DTEND;TZID=America/Vancouver:20180605T190000
DTSTAMP:20260424T205314
CREATED:20170901T130813Z
LAST-MODIFIED:20170901T131009Z
UID:705-1528223400-1528225200@burnabyfolkdance.org
SUMMARY:Basic Steps 2018-06-05
DESCRIPTION:The evening begins with the Basic Steps program which introduces dancers to common folk dance steps\, as well as a few of the dances that are on the dance program that evening. There is no additional cost.
URL:https://burnabyfolkdance.org/event/basic-steps-2018-06-05-3/
LOCATION:Charles Rummel Community Centre\, 3630 Lozells Ave\, Burnaby\, BC\, V5A 2Y8\, Canada
CATEGORIES:Weekly Dancing
ORGANIZER;CN="Jane Kupfer":MAILTO:bifd@burnabyfolkdance.org
END:VEVENT
BEGIN:VEVENT
DTSTART;TZID=UTC:20180529T190000
DTEND;TZID=UTC:20180529T213000
DTSTAMP:20260424T205314
CREATED:20170704T132518Z
LAST-MODIFIED:20180529T112949Z
UID:208-1527620400-1527629400@burnabyfolkdance.org
SUMMARY:Weekly Dancing 2018-05-29
DESCRIPTION:Join us in learning folk dances from around the world. Beginners are welcome. First night is Free! No partner or costume required. Basic Steps class at 6:30 – 7:00pm.\nHouse band\, the Pirates will be playing for part of the evening.
URL:https://burnabyfolkdance.org/event/weekly-dancing-2018-05-29/
LOCATION:Charles Rummel Community Centre\, 3630 Lozells Ave\, Burnaby\, BC\, V5A 2Y8\, Canada
CATEGORIES:Weekly Dancing
ORGANIZER;CN="Jane Kupfer":MAILTO:bifd@burnabyfolkdance.org
END:VEVENT
BEGIN:VEVENT
DTSTART;TZID=America/Vancouver:20180529T183000
DTEND;TZID=America/Vancouver:20180529T190000
DTSTAMP:20260424T205314
CREATED:20170901T130813Z
LAST-MODIFIED:20170901T131009Z
UID:704-1527618600-1527620400@burnabyfolkdance.org
SUMMARY:Basic Steps 2018-05-29
DESCRIPTION:The evening begins with the Basic Steps program which introduces dancers to common folk dance steps\, as well as a few of the dances that are on the dance program that evening. There is no additional cost.
URL:https://burnabyfolkdance.org/event/basic-steps-2018-05-29-3/
LOCATION:Charles Rummel Community Centre\, 3630 Lozells Ave\, Burnaby\, BC\, V5A 2Y8\, Canada
CATEGORIES:Weekly Dancing
ORGANIZER;CN="Jane Kupfer":MAILTO:bifd@burnabyfolkdance.org
END:VEVENT
BEGIN:VEVENT
DTSTART;TZID=UTC:20180522T190000
DTEND;TZID=UTC:20180522T213000
DTSTAMP:20260424T205314
CREATED:20170704T132518Z
LAST-MODIFIED:20170704T133533Z
UID:207-1527015600-1527024600@burnabyfolkdance.org
SUMMARY:Weekly Dancing 2018-05-22
DESCRIPTION:Join us in learning folk dances from around the world. Beginners are welcome. First night is Free! No partner or costume required.
URL:https://burnabyfolkdance.org/event/weekly-dancing-2018-05-22/
LOCATION:Charles Rummel Community Centre\, 3630 Lozells Ave\, Burnaby\, BC\, V5A 2Y8\, Canada
CATEGORIES:Weekly Dancing
ORGANIZER;CN="Jane Kupfer":MAILTO:bifd@burnabyfolkdance.org
END:VEVENT
BEGIN:VEVENT
DTSTART;TZID=America/Vancouver:20180522T183000
DTEND;TZID=America/Vancouver:20180522T190000
DTSTAMP:20260424T205314
CREATED:20170901T130813Z
LAST-MODIFIED:20170901T131009Z
UID:703-1527013800-1527015600@burnabyfolkdance.org
SUMMARY:Basic Steps 2018-05-22
DESCRIPTION:The evening begins with the Basic Steps program which introduces dancers to common folk dance steps\, as well as a few of the dances that are on the dance program that evening. There is no additional cost.
URL:https://burnabyfolkdance.org/event/basic-steps-2018-05-22-4/
LOCATION:Charles Rummel Community Centre\, 3630 Lozells Ave\, Burnaby\, BC\, V5A 2Y8\, Canada
CATEGORIES:Weekly Dancing
ORGANIZER;CN="Jane Kupfer":MAILTO:bifd@burnabyfolkdance.org
END:VEVENT
BEGIN:VEVENT
DTSTART;TZID=UTC:20180515T190000
DTEND;TZID=UTC:20180515T213000
DTSTAMP:20260424T205314
CREATED:20170704T132518Z
LAST-MODIFIED:20170704T134826Z
UID:206-1526410800-1526419800@burnabyfolkdance.org
SUMMARY:Weekly Dancing 2018-05-15
DESCRIPTION:Join us in learning folk dances from around the world. Beginners are welcome. First night is Free! No partner or costume required.
URL:https://burnabyfolkdance.org/event/weekly-dancing-2018-05-15/
LOCATION:Charles Rummel Community Centre\, 3630 Lozells Ave\, Burnaby\, BC\, V5A 2Y8\, Canada
CATEGORIES:Weekly Dancing
ORGANIZER;CN="Jane Kupfer":MAILTO:bifd@burnabyfolkdance.org
END:VEVENT
BEGIN:VEVENT
DTSTART;TZID=America/Vancouver:20180515T183000
DTEND;TZID=America/Vancouver:20180515T190000
DTSTAMP:20260424T205314
CREATED:20170901T130812Z
LAST-MODIFIED:20170901T131009Z
UID:702-1526409000-1526410800@burnabyfolkdance.org
SUMMARY:Basic Steps 2018-05-15
DESCRIPTION:The evening begins with the Basic Steps program which introduces dancers to common folk dance steps\, as well as a few of the dances that are on the dance program that evening. There is no additional cost.
URL:https://burnabyfolkdance.org/event/basic-steps-2018-05-15-4/
LOCATION:Charles Rummel Community Centre\, 3630 Lozells Ave\, Burnaby\, BC\, V5A 2Y8\, Canada
CATEGORIES:Weekly Dancing
ORGANIZER;CN="Jane Kupfer":MAILTO:bifd@burnabyfolkdance.org
END:VEVENT
BEGIN:VEVENT
DTSTART;TZID=UTC:20180508T190000
DTEND;TZID=UTC:20180508T213000
DTSTAMP:20260424T205314
CREATED:20170704T132518Z
LAST-MODIFIED:20170704T134803Z
UID:205-1525806000-1525815000@burnabyfolkdance.org
SUMMARY:Weekly Dancing 2018-05-08
DESCRIPTION:Join us in learning folk dances from around the world. Beginners are welcome. First night is Free! No partner or costume required.
URL:https://burnabyfolkdance.org/event/weekly-dancing-2018-05-08/
LOCATION:Charles Rummel Community Centre\, 3630 Lozells Ave\, Burnaby\, BC\, V5A 2Y8\, Canada
CATEGORIES:Weekly Dancing
ORGANIZER;CN="Jane Kupfer":MAILTO:bifd@burnabyfolkdance.org
END:VEVENT
BEGIN:VEVENT
DTSTART;TZID=America/Vancouver:20180508T183000
DTEND;TZID=America/Vancouver:20180508T190000
DTSTAMP:20260424T205314
CREATED:20170901T130812Z
LAST-MODIFIED:20170901T131009Z
UID:701-1525804200-1525806000@burnabyfolkdance.org
SUMMARY:Basic Steps 2018-05-08
DESCRIPTION:The evening begins with the Basic Steps program which introduces dancers to common folk dance steps\, as well as a few of the dances that are on the dance program that evening. There is no additional cost.
URL:https://burnabyfolkdance.org/event/basic-steps-2018-05-08-4/
LOCATION:Charles Rummel Community Centre\, 3630 Lozells Ave\, Burnaby\, BC\, V5A 2Y8\, Canada
CATEGORIES:Weekly Dancing
ORGANIZER;CN="Jane Kupfer":MAILTO:bifd@burnabyfolkdance.org
END:VEVENT
BEGIN:VEVENT
DTSTART;TZID=UTC:20180501T190000
DTEND;TZID=UTC:20180501T213000
DTSTAMP:20260424T205314
CREATED:20170704T132517Z
LAST-MODIFIED:20170704T134743Z
UID:204-1525201200-1525210200@burnabyfolkdance.org
SUMMARY:Weekly Dancing 2018-05-01
DESCRIPTION:Join us in learning folk dances from around the world. Beginners are welcome. First night is Free! No partner or costume required.
URL:https://burnabyfolkdance.org/event/weekly-dancing-2018-05-01/
LOCATION:Charles Rummel Community Centre\, 3630 Lozells Ave\, Burnaby\, BC\, V5A 2Y8\, Canada
CATEGORIES:Weekly Dancing
ORGANIZER;CN="Jane Kupfer":MAILTO:bifd@burnabyfolkdance.org
END:VEVENT
BEGIN:VEVENT
DTSTART;TZID=America/Vancouver:20180501T183000
DTEND;TZID=America/Vancouver:20180501T190000
DTSTAMP:20260424T205314
CREATED:20170901T130810Z
LAST-MODIFIED:20170901T131009Z
UID:700-1525199400-1525201200@burnabyfolkdance.org
SUMMARY:Basic Steps 2018-05-01
DESCRIPTION:The evening begins with the Basic Steps program which introduces dancers to common folk dance steps\, as well as a few of the dances that are on the dance program that evening. There is no additional cost.
URL:https://burnabyfolkdance.org/event/basic-steps-2018-05-01-3/
LOCATION:Charles Rummel Community Centre\, 3630 Lozells Ave\, Burnaby\, BC\, V5A 2Y8\, Canada
CATEGORIES:Weekly Dancing
ORGANIZER;CN="Jane Kupfer":MAILTO:bifd@burnabyfolkdance.org
END:VEVENT
BEGIN:VEVENT
DTSTART;TZID=UTC:20180424T190000
DTEND;TZID=UTC:20180424T220000
DTSTAMP:20260424T205314
CREATED:20170704T132516Z
LAST-MODIFIED:20180403T121626Z
UID:203-1524596400-1524607200@burnabyfolkdance.org
SUMMARY:Post-Lyrids Workshop 2018-04-24
DESCRIPTION:Post-Lyrids Folk Dance Festival Workshop. Cristian Florescu and Sonia Dion will review dances they taught at the Festival. Everyone welcome!
URL:https://burnabyfolkdance.org/event/weekly-dancing-2018-04-24/
LOCATION:Charles Rummel Community Centre\, 3630 Lozells Ave\, Burnaby\, BC\, V5A 2Y8\, Canada
CATEGORIES:Dance Workshop,Weekly Dancing
ORGANIZER;CN="Jane Kupfer":MAILTO:bifd@burnabyfolkdance.org
END:VEVENT
BEGIN:VEVENT
DTSTART;TZID=America/Vancouver:20180424T183000
DTEND;TZID=America/Vancouver:20180424T190000
DTSTAMP:20260424T205314
CREATED:20170901T130810Z
LAST-MODIFIED:20170901T131009Z
UID:699-1524594600-1524596400@burnabyfolkdance.org
SUMMARY:Basic Steps 2018-04-24
DESCRIPTION:The evening begins with the Basic Steps program which introduces dancers to common folk dance steps\, as well as a few of the dances that are on the dance program that evening. There is no additional cost.
URL:https://burnabyfolkdance.org/event/basic-steps-2018-04-24-3/
LOCATION:Charles Rummel Community Centre\, 3630 Lozells Ave\, Burnaby\, BC\, V5A 2Y8\, Canada
CATEGORIES:Weekly Dancing
ORGANIZER;CN="Jane Kupfer":MAILTO:bifd@burnabyfolkdance.org
END:VEVENT
BEGIN:VEVENT
DTSTART;TZID=UTC:20180417T190000
DTEND;TZID=UTC:20180417T213000
DTSTAMP:20260424T205314
CREATED:20170704T132516Z
LAST-MODIFIED:20170704T134717Z
UID:202-1523991600-1524000600@burnabyfolkdance.org
SUMMARY:Weekly Dancing 2018-04-17
DESCRIPTION:Join us in learning folk dances from around the world. Beginners are welcome. First night is Free! No partner or costume required.
URL:https://burnabyfolkdance.org/event/weekly-dancing-2018-04-17/
LOCATION:Charles Rummel Community Centre\, 3630 Lozells Ave\, Burnaby\, BC\, V5A 2Y8\, Canada
CATEGORIES:Weekly Dancing
ORGANIZER;CN="Jane Kupfer":MAILTO:bifd@burnabyfolkdance.org
END:VEVENT
BEGIN:VEVENT
DTSTART;TZID=America/Vancouver:20180417T183000
DTEND;TZID=America/Vancouver:20180417T190000
DTSTAMP:20260424T205314
CREATED:20170901T130809Z
LAST-MODIFIED:20170901T131009Z
UID:698-1523989800-1523991600@burnabyfolkdance.org
SUMMARY:Basic Steps 2018-04-17
DESCRIPTION:The evening begins with the Basic Steps program which introduces dancers to common folk dance steps\, as well as a few of the dances that are on the dance program that evening. There is no additional cost.
URL:https://burnabyfolkdance.org/event/basic-steps-2018-04-17-3/
LOCATION:Charles Rummel Community Centre\, 3630 Lozells Ave\, Burnaby\, BC\, V5A 2Y8\, Canada
CATEGORIES:Weekly Dancing
ORGANIZER;CN="Jane Kupfer":MAILTO:bifd@burnabyfolkdance.org
END:VEVENT
BEGIN:VEVENT
DTSTART;TZID=UTC:20180410T190000
DTEND;TZID=UTC:20180410T213000
DTSTAMP:20260424T205314
CREATED:20170704T132516Z
LAST-MODIFIED:20170704T134649Z
UID:201-1523386800-1523395800@burnabyfolkdance.org
SUMMARY:Weekly Dancing 2018-04-10
DESCRIPTION:Join us in learning folk dances from around the world. Beginners are welcome. First night is Free! No partner or costume required.
URL:https://burnabyfolkdance.org/event/weekly-dancing-2018-04-10/
LOCATION:Charles Rummel Community Centre\, 3630 Lozells Ave\, Burnaby\, BC\, V5A 2Y8\, Canada
CATEGORIES:Weekly Dancing
ORGANIZER;CN="Jane Kupfer":MAILTO:bifd@burnabyfolkdance.org
END:VEVENT
BEGIN:VEVENT
DTSTART;TZID=America/Vancouver:20180410T183000
DTEND;TZID=America/Vancouver:20180410T190000
DTSTAMP:20260424T205314
CREATED:20170901T130809Z
LAST-MODIFIED:20170901T131009Z
UID:697-1523385000-1523386800@burnabyfolkdance.org
SUMMARY:Basic Steps 2018-04-10
DESCRIPTION:The evening begins with the Basic Steps program which introduces dancers to common folk dance steps\, as well as a few of the dances that are on the dance program that evening. There is no additional cost.
URL:https://burnabyfolkdance.org/event/basic-steps-2018-04-10-3/
LOCATION:Charles Rummel Community Centre\, 3630 Lozells Ave\, Burnaby\, BC\, V5A 2Y8\, Canada
CATEGORIES:Weekly Dancing
ORGANIZER;CN="Jane Kupfer":MAILTO:bifd@burnabyfolkdance.org
END:VEVENT
BEGIN:VEVENT
DTSTART;TZID=UTC:20180403T190000
DTEND;TZID=UTC:20180403T213000
DTSTAMP:20260424T205314
CREATED:20170704T132516Z
LAST-MODIFIED:20170704T134631Z
UID:200-1522782000-1522791000@burnabyfolkdance.org
SUMMARY:Weekly Dancing 2018-04-03
DESCRIPTION:Join us in learning folk dances from around the world. Beginners are welcome. First night is Free! No partner or costume required.
URL:https://burnabyfolkdance.org/event/weekly-dancing-2018-04-03/
LOCATION:Charles Rummel Community Centre\, 3630 Lozells Ave\, Burnaby\, BC\, V5A 2Y8\, Canada
CATEGORIES:Weekly Dancing
ORGANIZER;CN="Jane Kupfer":MAILTO:bifd@burnabyfolkdance.org
END:VEVENT
BEGIN:VEVENT
DTSTART;TZID=America/Vancouver:20180403T183000
DTEND;TZID=America/Vancouver:20180403T190000
DTSTAMP:20260424T205314
CREATED:20170901T130809Z
LAST-MODIFIED:20170901T131008Z
UID:696-1522780200-1522782000@burnabyfolkdance.org
SUMMARY:Basic Steps 2018-04-03
DESCRIPTION:The evening begins with the Basic Steps program which introduces dancers to common folk dance steps\, as well as a few of the dances that are on the dance program that evening. There is no additional cost.
URL:https://burnabyfolkdance.org/event/basic-steps-2018-04-03-3/
LOCATION:Charles Rummel Community Centre\, 3630 Lozells Ave\, Burnaby\, BC\, V5A 2Y8\, Canada
CATEGORIES:Weekly Dancing
ORGANIZER;CN="Jane Kupfer":MAILTO:bifd@burnabyfolkdance.org
END:VEVENT
BEGIN:VEVENT
DTSTART;TZID=UTC:20180327T190000
DTEND;TZID=UTC:20180327T213000
DTSTAMP:20260424T205314
CREATED:20170704T132515Z
LAST-MODIFIED:20170704T134608Z
UID:199-1522177200-1522186200@burnabyfolkdance.org
SUMMARY:Weekly Dancing 2018-03-27
DESCRIPTION:Join us in learning folk dances from around the world. Beginners are welcome. First night is Free! No partner or costume required.
URL:https://burnabyfolkdance.org/event/weekly-dancing-2018-03-27/
LOCATION:Charles Rummel Community Centre\, 3630 Lozells Ave\, Burnaby\, BC\, V5A 2Y8\, Canada
CATEGORIES:Weekly Dancing
ORGANIZER;CN="Jane Kupfer":MAILTO:bifd@burnabyfolkdance.org
END:VEVENT
BEGIN:VEVENT
DTSTART;TZID=America/Vancouver:20180327T183000
DTEND;TZID=America/Vancouver:20180327T190000
DTSTAMP:20260424T205314
CREATED:20170901T130807Z
LAST-MODIFIED:20170901T131008Z
UID:695-1522175400-1522177200@burnabyfolkdance.org
SUMMARY:Basic Steps 2018-03-27
DESCRIPTION:The evening begins with the Basic Steps program which introduces dancers to common folk dance steps\, as well as a few of the dances that are on the dance program that evening. There is no additional cost.
URL:https://burnabyfolkdance.org/event/basic-steps-2018-03-27-3/
LOCATION:Charles Rummel Community Centre\, 3630 Lozells Ave\, Burnaby\, BC\, V5A 2Y8\, Canada
CATEGORIES:Weekly Dancing
ORGANIZER;CN="Jane Kupfer":MAILTO:bifd@burnabyfolkdance.org
END:VEVENT
BEGIN:VEVENT
DTSTART;TZID=UTC:20180320T190000
DTEND;TZID=UTC:20180320T213000
DTSTAMP:20260424T205314
CREATED:20170704T132514Z
LAST-MODIFIED:20170704T134547Z
UID:198-1521572400-1521581400@burnabyfolkdance.org
SUMMARY:Weekly Dancing 2018-03-20
DESCRIPTION:Join us in learning folk dances from around the world. Beginners are welcome. First night is Free! No partner or costume required.
URL:https://burnabyfolkdance.org/event/weekly-dancing-2018-03-20/
LOCATION:Charles Rummel Community Centre\, 3630 Lozells Ave\, Burnaby\, BC\, V5A 2Y8\, Canada
CATEGORIES:Weekly Dancing
ORGANIZER;CN="Jane Kupfer":MAILTO:bifd@burnabyfolkdance.org
END:VEVENT
BEGIN:VEVENT
DTSTART;TZID=America/Vancouver:20180320T183000
DTEND;TZID=America/Vancouver:20180320T190000
DTSTAMP:20260424T205314
CREATED:20170901T130807Z
LAST-MODIFIED:20170901T131008Z
UID:694-1521570600-1521572400@burnabyfolkdance.org
SUMMARY:Basic Steps 2018-03-20
DESCRIPTION:The evening begins with the Basic Steps program which introduces dancers to common folk dance steps\, as well as a few of the dances that are on the dance program that evening. There is no additional cost.
URL:https://burnabyfolkdance.org/event/basic-steps-2018-03-20-3/
LOCATION:Charles Rummel Community Centre\, 3630 Lozells Ave\, Burnaby\, BC\, V5A 2Y8\, Canada
CATEGORIES:Weekly Dancing
ORGANIZER;CN="Jane Kupfer":MAILTO:bifd@burnabyfolkdance.org
END:VEVENT
BEGIN:VEVENT
DTSTART;TZID=UTC:20180313T190000
DTEND;TZID=UTC:20180313T213000
DTSTAMP:20260424T205314
CREATED:20170704T132514Z
LAST-MODIFIED:20170704T134517Z
UID:197-1520967600-1520976600@burnabyfolkdance.org
SUMMARY:Weekly Dancing 2018-03-13
DESCRIPTION:Join us in learning folk dances from around the world. Beginners are welcome. First night is Free! No partner or costume required.
URL:https://burnabyfolkdance.org/event/weekly-dancing-2018-03-13/
LOCATION:Charles Rummel Community Centre\, 3630 Lozells Ave\, Burnaby\, BC\, V5A 2Y8\, Canada
CATEGORIES:Weekly Dancing
ORGANIZER;CN="Jane Kupfer":MAILTO:bifd@burnabyfolkdance.org
END:VEVENT
BEGIN:VEVENT
DTSTART;TZID=America/Vancouver:20180313T183000
DTEND;TZID=America/Vancouver:20180313T190000
DTSTAMP:20260424T205314
CREATED:20170901T130806Z
LAST-MODIFIED:20170901T131008Z
UID:693-1520965800-1520967600@burnabyfolkdance.org
SUMMARY:Basic Steps 2018-03-13
DESCRIPTION:The evening begins with the Basic Steps program which introduces dancers to common folk dance steps\, as well as a few of the dances that are on the dance program that evening. There is no additional cost.
URL:https://burnabyfolkdance.org/event/basic-steps-2018-03-13-3/
LOCATION:Charles Rummel Community Centre\, 3630 Lozells Ave\, Burnaby\, BC\, V5A 2Y8\, Canada
CATEGORIES:Weekly Dancing
ORGANIZER;CN="Jane Kupfer":MAILTO:bifd@burnabyfolkdance.org
END:VEVENT
BEGIN:VEVENT
DTSTART;TZID=UTC:20180306T190000
DTEND;TZID=UTC:20180306T213000
DTSTAMP:20260424T205314
CREATED:20170704T132514Z
LAST-MODIFIED:20170704T134455Z
UID:196-1520362800-1520371800@burnabyfolkdance.org
SUMMARY:Weekly Dancing 2018-03-06
DESCRIPTION:Join us in learning folk dances from around the world. Beginners are welcome. First night is Free! No partner or costume required.
URL:https://burnabyfolkdance.org/event/weekly-dancing-2018-03-06/
LOCATION:Charles Rummel Community Centre\, 3630 Lozells Ave\, Burnaby\, BC\, V5A 2Y8\, Canada
CATEGORIES:Weekly Dancing
ORGANIZER;CN="Jane Kupfer":MAILTO:bifd@burnabyfolkdance.org
END:VEVENT
BEGIN:VEVENT
DTSTART;TZID=America/Vancouver:20180306T183000
DTEND;TZID=America/Vancouver:20180306T190000
DTSTAMP:20260424T205314
CREATED:20170901T130806Z
LAST-MODIFIED:20170901T131008Z
UID:692-1520361000-1520362800@burnabyfolkdance.org
SUMMARY:Basic Steps 2018-03-06
DESCRIPTION:The evening begins with the Basic Steps program which introduces dancers to common folk dance steps\, as well as a few of the dances that are on the dance program that evening. There is no additional cost.
URL:https://burnabyfolkdance.org/event/basic-steps-2018-03-06-3/
LOCATION:Charles Rummel Community Centre\, 3630 Lozells Ave\, Burnaby\, BC\, V5A 2Y8\, Canada
CATEGORIES:Weekly Dancing
ORGANIZER;CN="Jane Kupfer":MAILTO:bifd@burnabyfolkdance.org
END:VEVENT
END:VCALENDAR