BEGIN:VCALENDAR
VERSION:2.0
PRODID:-//Burnaby International Folk Dancers - ECPv6.15.20//NONSGML v1.0//EN
CALSCALE:GREGORIAN
METHOD:PUBLISH
X-WR-CALNAME:Burnaby International Folk Dancers
X-ORIGINAL-URL:https://burnabyfolkdance.org
X-WR-CALDESC:Events for Burnaby International Folk Dancers
REFRESH-INTERVAL;VALUE=DURATION:PT1H
X-Robots-Tag:noindex
X-PUBLISHED-TTL:PT1H
BEGIN:VTIMEZONE
TZID:UTC
BEGIN:STANDARD
TZOFFSETFROM:+0000
TZOFFSETTO:+0000
TZNAME:UTC
DTSTART:20160101T000000
END:STANDARD
END:VTIMEZONE
BEGIN:VTIMEZONE
TZID:America/Vancouver
BEGIN:DAYLIGHT
TZOFFSETFROM:-0800
TZOFFSETTO:-0700
TZNAME:PDT
DTSTART:20160313T100000
END:DAYLIGHT
BEGIN:STANDARD
TZOFFSETFROM:-0700
TZOFFSETTO:-0800
TZNAME:PST
DTSTART:20161106T090000
END:STANDARD
BEGIN:DAYLIGHT
TZOFFSETFROM:-0800
TZOFFSETTO:-0700
TZNAME:PDT
DTSTART:20170312T100000
END:DAYLIGHT
BEGIN:STANDARD
TZOFFSETFROM:-0700
TZOFFSETTO:-0800
TZNAME:PST
DTSTART:20171105T090000
END:STANDARD
BEGIN:DAYLIGHT
TZOFFSETFROM:-0800
TZOFFSETTO:-0700
TZNAME:PDT
DTSTART:20180311T100000
END:DAYLIGHT
BEGIN:STANDARD
TZOFFSETFROM:-0700
TZOFFSETTO:-0800
TZNAME:PST
DTSTART:20181104T090000
END:STANDARD
END:VTIMEZONE
BEGIN:VEVENT
DTSTART;TZID=UTC:20171121T190000
DTEND;TZID=UTC:20171121T213000
DTSTAMP:20260425T042923
CREATED:20170704T132509Z
LAST-MODIFIED:20170704T134006Z
UID:185-1511290800-1511299800@burnabyfolkdance.org
SUMMARY:Weekly Dancing 2017-11-21
DESCRIPTION:Join us in learning folk dances from around the world. Beginners are welcome. First night is Free! No partner or costume required.
URL:https://burnabyfolkdance.org/event/weekly-dancing-2017-11-21/
LOCATION:Charles Rummel Community Centre\, 3630 Lozells Ave\, Burnaby\, BC\, V5A 2Y8\, Canada
CATEGORIES:Weekly Dancing
ORGANIZER;CN="Jane Kupfer":MAILTO:bifd@burnabyfolkdance.org
END:VEVENT
BEGIN:VEVENT
DTSTART;TZID=America/Vancouver:20171121T183000
DTEND;TZID=America/Vancouver:20171121T190000
DTSTAMP:20260425T042923
CREATED:20170901T130801Z
LAST-MODIFIED:20170901T131007Z
UID:681-1511289000-1511290800@burnabyfolkdance.org
SUMMARY:Basic Steps 2017-11-21
DESCRIPTION:The evening begins with the Basic Steps program which introduces dancers to common folk dance steps\, as well as a few of the dances that are on the dance program that evening. There is no additional cost.
URL:https://burnabyfolkdance.org/event/basic-steps-2017-11-21-3/
LOCATION:Charles Rummel Community Centre\, 3630 Lozells Ave\, Burnaby\, BC\, V5A 2Y8\, Canada
CATEGORIES:Weekly Dancing
ORGANIZER;CN="Jane Kupfer":MAILTO:bifd@burnabyfolkdance.org
END:VEVENT
BEGIN:VEVENT
DTSTART;TZID=UTC:20171114T190000
DTEND;TZID=UTC:20171114T213000
DTSTAMP:20260425T042923
CREATED:20170704T132506Z
LAST-MODIFIED:20170704T133940Z
UID:184-1510686000-1510695000@burnabyfolkdance.org
SUMMARY:Weekly Dancing 2017-11-14
DESCRIPTION:Join us in learning folk dances from around the world. Beginners are welcome. First night is Free! No partner or costume required.
URL:https://burnabyfolkdance.org/event/weekly-dancing-2017-11-14/
LOCATION:Charles Rummel Community Centre\, 3630 Lozells Ave\, Burnaby\, BC\, V5A 2Y8\, Canada
CATEGORIES:Weekly Dancing
ORGANIZER;CN="Jane Kupfer":MAILTO:bifd@burnabyfolkdance.org
END:VEVENT
BEGIN:VEVENT
DTSTART;TZID=America/Vancouver:20171114T183000
DTEND;TZID=America/Vancouver:20171114T190000
DTSTAMP:20260425T042923
CREATED:20170901T130759Z
LAST-MODIFIED:20170901T131007Z
UID:680-1510684200-1510686000@burnabyfolkdance.org
SUMMARY:Basic Steps 2017-11-14
DESCRIPTION:The evening begins with the Basic Steps program which introduces dancers to common folk dance steps\, as well as a few of the dances that are on the dance program that evening. There is no additional cost.
URL:https://burnabyfolkdance.org/event/basic-steps-2017-11-14-3/
LOCATION:Charles Rummel Community Centre\, 3630 Lozells Ave\, Burnaby\, BC\, V5A 2Y8\, Canada
CATEGORIES:Weekly Dancing
ORGANIZER;CN="Jane Kupfer":MAILTO:bifd@burnabyfolkdance.org
END:VEVENT
BEGIN:VEVENT
DTSTART;TZID=UTC:20171107T190000
DTEND;TZID=UTC:20171107T213000
DTSTAMP:20260425T042923
CREATED:20170704T132506Z
LAST-MODIFIED:20170704T133915Z
UID:183-1510081200-1510090200@burnabyfolkdance.org
SUMMARY:Weekly Dancing 2017-11-07
DESCRIPTION:Join us in learning folk dances from around the world. Beginners are welcome. First night is Free! No partner or costume required.
URL:https://burnabyfolkdance.org/event/weekly-dancing-2017-11-07/
LOCATION:Charles Rummel Community Centre\, 3630 Lozells Ave\, Burnaby\, BC\, V5A 2Y8\, Canada
CATEGORIES:Weekly Dancing
ORGANIZER;CN="Jane Kupfer":MAILTO:bifd@burnabyfolkdance.org
END:VEVENT
BEGIN:VEVENT
DTSTART;TZID=America/Vancouver:20171107T183000
DTEND;TZID=America/Vancouver:20171107T190000
DTSTAMP:20260425T042923
CREATED:20170901T130759Z
LAST-MODIFIED:20170901T131007Z
UID:679-1510079400-1510081200@burnabyfolkdance.org
SUMMARY:Basic Steps 2017-11-07
DESCRIPTION:The evening begins with the Basic Steps program which introduces dancers to common folk dance steps\, as well as a few of the dances that are on the dance program that evening. There is no additional cost.
URL:https://burnabyfolkdance.org/event/basic-steps-2017-11-07-3/
LOCATION:Charles Rummel Community Centre\, 3630 Lozells Ave\, Burnaby\, BC\, V5A 2Y8\, Canada
CATEGORIES:Weekly Dancing
ORGANIZER;CN="Jane Kupfer":MAILTO:bifd@burnabyfolkdance.org
END:VEVENT
BEGIN:VEVENT
DTSTART;TZID=UTC:20171031T190000
DTEND;TZID=UTC:20171031T220000
DTSTAMP:20260425T042923
CREATED:20170704T132506Z
LAST-MODIFIED:20170831T134001Z
UID:182-1509476400-1509487200@burnabyfolkdance.org
SUMMARY:Halloween Party 2017-10-31
DESCRIPTION:Join us for Halloween. Bring finger food to share and wear an ethnic or Halloween costume if you like. We dance to a prepared playlist created from your requests. 
URL:https://burnabyfolkdance.org/event/weekly-dancing-2017-10-31/
LOCATION:Charles Rummel Community Centre\, 3630 Lozells Ave\, Burnaby\, BC\, V5A 2Y8\, Canada
CATEGORIES:Weekly Dancing
ORGANIZER;CN="Jane Kupfer":MAILTO:bifd@burnabyfolkdance.org
END:VEVENT
BEGIN:VEVENT
DTSTART;TZID=America/Vancouver:20171031T183000
DTEND;TZID=America/Vancouver:20171031T190000
DTSTAMP:20260425T042923
CREATED:20170901T130758Z
LAST-MODIFIED:20170901T131007Z
UID:678-1509474600-1509476400@burnabyfolkdance.org
SUMMARY:Basic Steps 2017-10-31
DESCRIPTION:The evening begins with the Basic Steps program which introduces dancers to common folk dance steps\, as well as a few of the dances that are on the dance program that evening. There is no additional cost.
URL:https://burnabyfolkdance.org/event/basic-steps-2017-10-31-3/
LOCATION:Charles Rummel Community Centre\, 3630 Lozells Ave\, Burnaby\, BC\, V5A 2Y8\, Canada
CATEGORIES:Weekly Dancing
ORGANIZER;CN="Jane Kupfer":MAILTO:bifd@burnabyfolkdance.org
END:VEVENT
BEGIN:VEVENT
DTSTART;TZID=UTC:20171024T190000
DTEND;TZID=UTC:20171024T213000
DTSTAMP:20260425T042923
CREATED:20170704T132505Z
LAST-MODIFIED:20170704T133832Z
UID:181-1508871600-1508880600@burnabyfolkdance.org
SUMMARY:Weekly Dancing 2017-10-24
DESCRIPTION:Join us in learning folk dances from around the world. Beginners are welcome. First night is Free! No partner or costume required.
URL:https://burnabyfolkdance.org/event/weekly-dancing-2017-10-24/
LOCATION:Charles Rummel Community Centre\, 3630 Lozells Ave\, Burnaby\, BC\, V5A 2Y8\, Canada
CATEGORIES:Weekly Dancing
ORGANIZER;CN="Jane Kupfer":MAILTO:bifd@burnabyfolkdance.org
END:VEVENT
BEGIN:VEVENT
DTSTART;TZID=America/Vancouver:20171024T183000
DTEND;TZID=America/Vancouver:20171024T190000
DTSTAMP:20260425T042923
CREATED:20170901T130758Z
LAST-MODIFIED:20170901T131006Z
UID:677-1508869800-1508871600@burnabyfolkdance.org
SUMMARY:Basic Steps 2017-10-24
DESCRIPTION:The evening begins with the Basic Steps program which introduces dancers to common folk dance steps\, as well as a few of the dances that are on the dance program that evening. There is no additional cost.
URL:https://burnabyfolkdance.org/event/basic-steps-2017-10-24-3/
LOCATION:Charles Rummel Community Centre\, 3630 Lozells Ave\, Burnaby\, BC\, V5A 2Y8\, Canada
CATEGORIES:Weekly Dancing
ORGANIZER;CN="Jane Kupfer":MAILTO:bifd@burnabyfolkdance.org
END:VEVENT
BEGIN:VEVENT
DTSTART;TZID=UTC:20171017T190000
DTEND;TZID=UTC:20171017T213000
DTSTAMP:20260425T042923
CREATED:20170704T132505Z
LAST-MODIFIED:20170704T133805Z
UID:180-1508266800-1508275800@burnabyfolkdance.org
SUMMARY:Weekly Dancing 2017-10-17
DESCRIPTION:Join us in learning folk dances from around the world. Beginners are welcome. First night is Free! No partner or costume required.
URL:https://burnabyfolkdance.org/event/weekly-dancing-2017-10-17/
LOCATION:Charles Rummel Community Centre\, 3630 Lozells Ave\, Burnaby\, BC\, V5A 2Y8\, Canada
CATEGORIES:Weekly Dancing
ORGANIZER;CN="Jane Kupfer":MAILTO:bifd@burnabyfolkdance.org
END:VEVENT
BEGIN:VEVENT
DTSTART;TZID=America/Vancouver:20171017T183000
DTEND;TZID=America/Vancouver:20171017T190000
DTSTAMP:20260425T042923
CREATED:20170901T130758Z
LAST-MODIFIED:20170901T131006Z
UID:676-1508265000-1508266800@burnabyfolkdance.org
SUMMARY:Basic Steps 2017-10-17
DESCRIPTION:The evening begins with the Basic Steps program which introduces dancers to common folk dance steps\, as well as a few of the dances that are on the dance program that evening. There is no additional cost.
URL:https://burnabyfolkdance.org/event/basic-steps-2017-10-17-3/
LOCATION:Charles Rummel Community Centre\, 3630 Lozells Ave\, Burnaby\, BC\, V5A 2Y8\, Canada
CATEGORIES:Weekly Dancing
ORGANIZER;CN="Jane Kupfer":MAILTO:bifd@burnabyfolkdance.org
END:VEVENT
BEGIN:VEVENT
DTSTART;TZID=UTC:20171010T190000
DTEND;TZID=UTC:20171010T213000
DTSTAMP:20260425T042923
CREATED:20170704T132503Z
LAST-MODIFIED:20170704T133743Z
UID:179-1507662000-1507671000@burnabyfolkdance.org
SUMMARY:Weekly Dancing 2017-10-10
DESCRIPTION:Join us in learning folk dances from around the world. Beginners are welcome. First night is Free! No partner or costume required.
URL:https://burnabyfolkdance.org/event/weekly-dancing-2017-10-10/
LOCATION:Charles Rummel Community Centre\, 3630 Lozells Ave\, Burnaby\, BC\, V5A 2Y8\, Canada
CATEGORIES:Weekly Dancing
ORGANIZER;CN="Jane Kupfer":MAILTO:bifd@burnabyfolkdance.org
END:VEVENT
BEGIN:VEVENT
DTSTART;TZID=America/Vancouver:20171010T183000
DTEND;TZID=America/Vancouver:20171010T190000
DTSTAMP:20260425T042923
CREATED:20170901T130755Z
LAST-MODIFIED:20170901T131006Z
UID:675-1507660200-1507662000@burnabyfolkdance.org
SUMMARY:Basic Steps 2017-10-10
DESCRIPTION:The evening begins with the Basic Steps program which introduces dancers to common folk dance steps\, as well as a few of the dances that are on the dance program that evening. There is no additional cost.
URL:https://burnabyfolkdance.org/event/basic-steps-2017-10-10-3/
LOCATION:Charles Rummel Community Centre\, 3630 Lozells Ave\, Burnaby\, BC\, V5A 2Y8\, Canada
CATEGORIES:Weekly Dancing
ORGANIZER;CN="Jane Kupfer":MAILTO:bifd@burnabyfolkdance.org
END:VEVENT
BEGIN:VEVENT
DTSTART;TZID=UTC:20171003T190000
DTEND;TZID=UTC:20171003T213000
DTSTAMP:20260425T042923
CREATED:20170704T132503Z
LAST-MODIFIED:20170704T133721Z
UID:178-1507057200-1507066200@burnabyfolkdance.org
SUMMARY:Weekly Dancing 2017-10-03
DESCRIPTION:Join us in learning folk dances from around the world. Beginners are welcome. First night is Free! No partner or costume required.
URL:https://burnabyfolkdance.org/event/weekly-dancing-2017-10-03/
LOCATION:Charles Rummel Community Centre\, 3630 Lozells Ave\, Burnaby\, BC\, V5A 2Y8\, Canada
CATEGORIES:Weekly Dancing
ORGANIZER;CN="Jane Kupfer":MAILTO:bifd@burnabyfolkdance.org
END:VEVENT
BEGIN:VEVENT
DTSTART;TZID=America/Vancouver:20171003T183000
DTEND;TZID=America/Vancouver:20171003T190000
DTSTAMP:20260425T042923
CREATED:20170901T130755Z
LAST-MODIFIED:20170901T131006Z
UID:674-1507055400-1507057200@burnabyfolkdance.org
SUMMARY:Basic Steps 2017-10-03
DESCRIPTION:The evening begins with the Basic Steps program which introduces dancers to common folk dance steps\, as well as a few of the dances that are on the dance program that evening. There is no additional cost.
URL:https://burnabyfolkdance.org/event/basic-steps-2017-10-03-3/
LOCATION:Charles Rummel Community Centre\, 3630 Lozells Ave\, Burnaby\, BC\, V5A 2Y8\, Canada
CATEGORIES:Weekly Dancing
ORGANIZER;CN="Jane Kupfer":MAILTO:bifd@burnabyfolkdance.org
END:VEVENT
BEGIN:VEVENT
DTSTART;TZID=UTC:20170926T193000
DTEND;TZID=UTC:20170926T220000
DTSTAMP:20260425T042923
CREATED:20170704T132503Z
LAST-MODIFIED:20170831T133051Z
UID:177-1506454200-1506463200@burnabyfolkdance.org
SUMMARY:Open House 2017-09-26
DESCRIPTION:FREE – Find out what folk dancing is! Join us in learning folk dances from around the world. Beginners are welcome. No partner or costume required.
URL:https://burnabyfolkdance.org/event/open-house-2017-09-26/
LOCATION:Charles Rummel Community Centre\, 3630 Lozells Ave\, Burnaby\, BC\, V5A 2Y8\, Canada
CATEGORIES:Weekly Dancing
ORGANIZER;CN="Jane Kupfer":MAILTO:bifd@burnabyfolkdance.org
END:VEVENT
BEGIN:VEVENT
DTSTART;TZID=America/Vancouver:20170926T183000
DTEND;TZID=America/Vancouver:20170926T190000
DTSTAMP:20260425T042923
CREATED:20170901T130754Z
LAST-MODIFIED:20170901T131006Z
UID:673-1506450600-1506452400@burnabyfolkdance.org
SUMMARY:Basic Steps 2017-09-26
DESCRIPTION:The evening begins with the Basic Steps program which introduces dancers to common folk dance steps\, as well as a few of the dances that are on the dance program that evening. There is no additional cost.
URL:https://burnabyfolkdance.org/event/basic-steps-2017-09-26-3/
LOCATION:Charles Rummel Community Centre\, 3630 Lozells Ave\, Burnaby\, BC\, V5A 2Y8\, Canada
CATEGORIES:Weekly Dancing
ORGANIZER;CN="Jane Kupfer":MAILTO:bifd@burnabyfolkdance.org
END:VEVENT
BEGIN:VEVENT
DTSTART;TZID=UTC:20170919T190000
DTEND;TZID=UTC:20170919T213000
DTSTAMP:20260425T042923
CREATED:20170704T132502Z
LAST-MODIFIED:20170704T133631Z
UID:176-1505847600-1505856600@burnabyfolkdance.org
SUMMARY:Weekly Dancing 2017-09-19
DESCRIPTION:Join us in learning folk dances from around the world. Beginners are welcome. First night is Free! No partner or costume required.
URL:https://burnabyfolkdance.org/event/weekly-dancing-2017-09-19/
LOCATION:Charles Rummel Community Centre\, 3630 Lozells Ave\, Burnaby\, BC\, V5A 2Y8\, Canada
CATEGORIES:Weekly Dancing
ORGANIZER;CN="Jane Kupfer":MAILTO:bifd@burnabyfolkdance.org
END:VEVENT
BEGIN:VEVENT
DTSTART;TZID=America/Vancouver:20170919T183000
DTEND;TZID=America/Vancouver:20170919T190000
DTSTAMP:20260425T042923
CREATED:20170901T130754Z
LAST-MODIFIED:20170901T131006Z
UID:672-1505845800-1505847600@burnabyfolkdance.org
SUMMARY:Basic Steps 2017-09-19
DESCRIPTION:The evening begins with the Basic Steps program which introduces dancers to common folk dance steps\, as well as a few of the dances that are on the dance program that evening. There is no additional cost.
URL:https://burnabyfolkdance.org/event/basic-steps-2017-09-19-3/
LOCATION:Charles Rummel Community Centre\, 3630 Lozells Ave\, Burnaby\, BC\, V5A 2Y8\, Canada
CATEGORIES:Weekly Dancing
ORGANIZER;CN="Jane Kupfer":MAILTO:bifd@burnabyfolkdance.org
END:VEVENT
BEGIN:VEVENT
DTSTART;TZID=UTC:20170912T190000
DTEND;TZID=UTC:20170912T213000
DTSTAMP:20260425T042923
CREATED:20170704T132502Z
LAST-MODIFIED:20170704T133609Z
UID:175-1505242800-1505251800@burnabyfolkdance.org
SUMMARY:Weekly Dancing 2017-09-12
DESCRIPTION:Join us in learning folk dances from around the world. Beginners are welcome. First night is Free! No partner or costume required.
URL:https://burnabyfolkdance.org/event/weekly-dancing-2017-09-12/
LOCATION:Charles Rummel Community Centre\, 3630 Lozells Ave\, Burnaby\, BC\, V5A 2Y8\, Canada
CATEGORIES:Weekly Dancing
ORGANIZER;CN="Jane Kupfer":MAILTO:bifd@burnabyfolkdance.org
END:VEVENT
BEGIN:VEVENT
DTSTART;TZID=America/Vancouver:20170912T183000
DTEND;TZID=America/Vancouver:20170912T190000
DTSTAMP:20260425T042923
CREATED:20170901T130754Z
LAST-MODIFIED:20170901T131006Z
UID:671-1505241000-1505242800@burnabyfolkdance.org
SUMMARY:Basic Steps 2017-09-12
DESCRIPTION:The evening begins with the Basic Steps program which introduces dancers to common folk dance steps\, as well as a few of the dances that are on the dance program that evening. There is no additional cost.
URL:https://burnabyfolkdance.org/event/basic-steps-2017-09-12-3/
LOCATION:Charles Rummel Community Centre\, 3630 Lozells Ave\, Burnaby\, BC\, V5A 2Y8\, Canada
CATEGORIES:Weekly Dancing
ORGANIZER;CN="Jane Kupfer":MAILTO:bifd@burnabyfolkdance.org
END:VEVENT
BEGIN:VEVENT
DTSTART;TZID=UTC:20170815T190000
DTEND;TZID=UTC:20170815T213000
DTSTAMP:20260425T042923
CREATED:20170806T104306Z
LAST-MODIFIED:20170806T105438Z
UID:444-1502823600-1502832600@burnabyfolkdance.org
SUMMARY:Folk Dancing in Stanley Park 2017-08-15
DESCRIPTION:Stanley Park dancing\, Tuesdays\, 7:00 to 9:30 until August 15. Ceperley Meadow\, Stanley Park\, hosted by Vancouver International Folk Dancers. Teaching begins at 7:30.
URL:https://burnabyfolkdance.org/event/folk-dancing-in-stanley-park-2017-08-15/
LOCATION:Ceperley Meadow\, 8701 Stanley Park Dr\, Vancouver\, BC\, V6G 3E2\, Canada
CATEGORIES:Weekly Dancing
ORGANIZER;CN="Vancouver International Folk Dancers":MAILTO:susanpinkham@gmail.com
END:VEVENT
BEGIN:VEVENT
DTSTART;TZID=UTC:20170808T190000
DTEND;TZID=UTC:20170808T213000
DTSTAMP:20260425T042923
CREATED:20170806T103953Z
LAST-MODIFIED:20170806T105400Z
UID:440-1502218800-1502227800@burnabyfolkdance.org
SUMMARY:Folk Dancing in Stanley Park 2017-08-08
DESCRIPTION:Stanley Park dancing\, Tuesdays\, 7:00 to 9:30 until August 15. Ceperley Meadow\, Stanley Park\, hosted by Vancouver International Folk Dancers.  Teaching begins at 7:30.
URL:https://burnabyfolkdance.org/event/folk-dancing-in-stanley-park-2017-08-08/
LOCATION:Ceperley Meadow\, 8701 Stanley Park Dr\, Vancouver\, BC\, V6G 3E2\, Canada
CATEGORIES:Weekly Dancing
ORGANIZER;CN="Vancouver International Folk Dancers":MAILTO:susanpinkham@gmail.com
END:VEVENT
END:VCALENDAR